BEGIN:VCALENDAR
VERSION:2.0
PRODID:-//Over Village News - ECPv6.15.20//NONSGML v1.0//EN
CALSCALE:GREGORIAN
METHOD:PUBLISH
X-WR-CALNAME:Over Village News
X-ORIGINAL-URL:https://www.overvillage.co.uk/WP
X-WR-CALDESC:Events for Over Village News
REFRESH-INTERVAL;VALUE=DURATION:PT1H
X-Robots-Tag:noindex
X-PUBLISHED-TTL:PT1H
BEGIN:VTIMEZONE
TZID:UTC
BEGIN:STANDARD
TZOFFSETFROM:+0000
TZOFFSETTO:+0000
TZNAME:UTC
DTSTART:20250101T000000
END:STANDARD
END:VTIMEZONE
BEGIN:VEVENT
DTSTART;TZID=UTC:20260414T161500
DTEND;TZID=UTC:20260519T181500
DTSTAMP:20260421T033014
CREATED:20260311T092850Z
LAST-MODIFIED:20260311T170230Z
UID:10007871-1776183300-1779214500@www.overvillage.co.uk
SUMMARY:Netball Club for Juniors
DESCRIPTION:Tuesday netball club for juniors with GK Fit  \n\nFun and inclusive weekly netball for girls and boys in Years 4-9\n\nEvery Tuesday from 14 April at Swavesey VC\n4.15: Year 4\, 5 & 6’s\n\n5.15: Year 7\, 8 & 9’s\n\nCost: £6.25 per session\, £5 for siblings\n\n\nBook at: gkfit.co.uk/netball
URL:https://www.overvillage.co.uk/WP/event/netball-club-for-juniors/2026-04-14/
LOCATION:Swavesey Village College\, Swavesey Village College\, Swavesey\, Cambridgeshire\, United Kingdom
ATTACH;FMTTYPE=image/jpeg:https://www.overvillage.co.uk/WP/wp-content/uploads/2026/03/GK-Fit-netball-SVC-scaled.jpg
END:VEVENT
BEGIN:VEVENT
DTSTART;TZID=UTC:20260421T161500
DTEND;TZID=UTC:20260526T181500
DTSTAMP:20260421T033014
CREATED:20260311T092850Z
LAST-MODIFIED:20260311T170230Z
UID:10007872-1776788100-1779819300@www.overvillage.co.uk
SUMMARY:Netball Club for Juniors
DESCRIPTION:Tuesday netball club for juniors with GK Fit  \n\nFun and inclusive weekly netball for girls and boys in Years 4-9\n\nEvery Tuesday from 14 April at Swavesey VC\n4.15: Year 4\, 5 & 6’s\n\n5.15: Year 7\, 8 & 9’s\n\nCost: £6.25 per session\, £5 for siblings\n\n\nBook at: gkfit.co.uk/netball
URL:https://www.overvillage.co.uk/WP/event/netball-club-for-juniors/2026-04-21/
LOCATION:Swavesey Village College\, Swavesey Village College\, Swavesey\, Cambridgeshire\, United Kingdom
ATTACH;FMTTYPE=image/jpeg:https://www.overvillage.co.uk/WP/wp-content/uploads/2026/03/GK-Fit-netball-SVC-scaled.jpg
END:VEVENT
BEGIN:VEVENT
DTSTART;TZID=UTC:20260428T161500
DTEND;TZID=UTC:20260602T181500
DTSTAMP:20260421T033014
CREATED:20260311T092850Z
LAST-MODIFIED:20260311T170230Z
UID:10007873-1777392900-1780424100@www.overvillage.co.uk
SUMMARY:Netball Club for Juniors
DESCRIPTION:Tuesday netball club for juniors with GK Fit  \n\nFun and inclusive weekly netball for girls and boys in Years 4-9\n\nEvery Tuesday from 14 April at Swavesey VC\n4.15: Year 4\, 5 & 6’s\n\n5.15: Year 7\, 8 & 9’s\n\nCost: £6.25 per session\, £5 for siblings\n\n\nBook at: gkfit.co.uk/netball
URL:https://www.overvillage.co.uk/WP/event/netball-club-for-juniors/2026-04-28/
LOCATION:Swavesey Village College\, Swavesey Village College\, Swavesey\, Cambridgeshire\, United Kingdom
ATTACH;FMTTYPE=image/jpeg:https://www.overvillage.co.uk/WP/wp-content/uploads/2026/03/GK-Fit-netball-SVC-scaled.jpg
END:VEVENT
BEGIN:VEVENT
DTSTART;VALUE=DATE:20260501
DTEND;VALUE=DATE:20260502
DTSTAMP:20260421T033014
CREATED:20260130T123512Z
LAST-MODIFIED:20260130T123512Z
UID:10007733-1777593600-1777679999@www.overvillage.co.uk
SUMMARY:Blue/Green bin collection
DESCRIPTION:
URL:https://www.overvillage.co.uk/WP/event/blue-green-bin-collection-2/2026-05-01/
LOCATION:kerbside
ATTACH;FMTTYPE=image/jpeg:https://www.overvillage.co.uk/WP/wp-content/uploads/2023/09/recycling-bins-vector-909606.jpg
END:VEVENT
BEGIN:VEVENT
DTSTART;TZID=UTC:20260501T091500
DTEND;TZID=UTC:20260501T101500
DTSTAMP:20260421T033014
CREATED:20231205T140031Z
LAST-MODIFIED:20260406T184147Z
UID:10000823-1777626900-1777630500@www.overvillage.co.uk
SUMMARY:Dancing and Parachute Play
DESCRIPTION:Fridays 0915 to 1015 at Over Methodist Church.  Cost £5 for one child plus £1 for each additional charge. Term time only.
URL:https://www.overvillage.co.uk/WP/event/dancing-and-parachute-play/2026-05-01/
LOCATION:Methodist Church Over\, The Lanes\, Over\, Cambridgeshire\, CB24 5NQ\, United Kingdom
ATTACH;FMTTYPE=image/jpeg:https://www.overvillage.co.uk/WP/wp-content/uploads/2023/12/artem-kniaz-DqgMHzeio7g-unsplash-scaled.jpg
ORGANIZER;CN="Sharon Stevens":MAILTO:parafun@hotmail.co.uk
END:VEVENT
BEGIN:VEVENT
DTSTART;TZID=UTC:20260501T093000
DTEND;TZID=UTC:20260501T113000
DTSTAMP:20260421T033014
CREATED:20250528T083724Z
LAST-MODIFIED:20250528T083724Z
UID:10001940-1777627800-1777635000@www.overvillage.co.uk
SUMMARY:Needle Craft Group
DESCRIPTION:Do you enjoy textile hobbies?\nAre you available on Friday mornings?\nWhether you’re an embroiderer\, crocheter\, knitter\, patchworker …….any form of textile artist or crafter really\, and whatever level of skill you have\, you’d be most welcome to join us in Over Community Centre on Friday mornings from 9.30.\nOur aim to get together to socialise through our hobbies\, hopefully inspiring and helping each other to learn new skills.\nWe meet in the lounge and support the centre by buying our drinks  from the café.
URL:https://www.overvillage.co.uk/WP/event/fibre-craft-group-2/2026-05-01/
LOCATION:Over Community Centre\, 16 The Doles\, Over\,\, Cambridgeshire\, CB24 5NW\, United Kingdom
ATTACH;FMTTYPE=image/jpeg:https://www.overvillage.co.uk/WP/wp-content/uploads/2024/05/barbara-krysztofiak-PCBcjIYOgSs-unsplash.jpg
END:VEVENT
BEGIN:VEVENT
DTSTART;TZID=UTC:20260504T093000
DTEND;TZID=UTC:20260504T123000
DTSTAMP:20260421T033014
CREATED:20251218T164913Z
LAST-MODIFIED:20260102T095223Z
UID:10006666-1777887000-1777897800@www.overvillage.co.uk
SUMMARY:Post Office - Over Mobile Service - see below for info
DESCRIPTION:The mobile Post Office service will be open on the following days and venues. \nThere may be changes to the schedule so please check the Post Office’s web site for updates. \nOver Community Centre: \nMonday 09:30 – 12:30 \nWednesday 09:30 – 12:30 \nThursday 09:30 – 12:30 \nFriday 15:00 – 16:00 \nElm Court: \nTuesday 09:30 – 12:30 \n  \n 
URL:https://www.overvillage.co.uk/WP/event/post-office-over-mobile-service-5-2-2/2026-05-04/
LOCATION:Over Community Centre\, 16 The Doles\, Over\,\, Cambridgeshire\, CB24 5NW\, United Kingdom
ATTACH;FMTTYPE=image/jpeg:https://www.overvillage.co.uk/WP/wp-content/uploads/2024/08/Royal-Mail-post-office-scaled-1.jpg
END:VEVENT
BEGIN:VEVENT
DTSTART;TZID=UTC:20260505T161500
DTEND;TZID=UTC:20260609T181500
DTSTAMP:20260421T033014
CREATED:20260311T092850Z
LAST-MODIFIED:20260311T170230Z
UID:10007874-1777997700-1781028900@www.overvillage.co.uk
SUMMARY:Netball Club for Juniors
DESCRIPTION:Tuesday netball club for juniors with GK Fit  \n\nFun and inclusive weekly netball for girls and boys in Years 4-9\n\nEvery Tuesday from 14 April at Swavesey VC\n4.15: Year 4\, 5 & 6’s\n\n5.15: Year 7\, 8 & 9’s\n\nCost: £6.25 per session\, £5 for siblings\n\n\nBook at: gkfit.co.uk/netball
URL:https://www.overvillage.co.uk/WP/event/netball-club-for-juniors/2026-05-05/
LOCATION:Swavesey Village College\, Swavesey Village College\, Swavesey\, Cambridgeshire\, United Kingdom
ATTACH;FMTTYPE=image/jpeg:https://www.overvillage.co.uk/WP/wp-content/uploads/2026/03/GK-Fit-netball-SVC-scaled.jpg
END:VEVENT
BEGIN:VEVENT
DTSTART;TZID=UTC:20260506T091500
DTEND;TZID=UTC:20260506T103000
DTSTAMP:20260421T033014
CREATED:20251022T143930Z
LAST-MODIFIED:20260406T184001Z
UID:10000565-1778058900-1778063400@www.overvillage.co.uk
SUMMARY:Clap and Sing
DESCRIPTION:Sessions run every Wednesday between 0915 and 1030 at the Methodist Hall.  £5 for one child plus £1 for each additional child. Term time only.
URL:https://www.overvillage.co.uk/WP/event/clap-and-sing-2/2026-05-06/
LOCATION:Methodist Church Over\, The Lanes\, Over\, Cambridgeshire\, CB24 5NQ\, United Kingdom
ATTACH;FMTTYPE=image/jpeg:https://www.overvillage.co.uk/WP/wp-content/uploads/2023/12/sketch-crowd-little-people-with-flying-notes-illustration_156892-671.jpg
ORGANIZER;CN="Sharon Stevens":MAILTO:parafun@hotmail.co.uk
END:VEVENT
BEGIN:VEVENT
DTSTART;TZID=UTC:20260507T100000
DTEND;TZID=UTC:20260507T120000
DTSTAMP:20260421T033014
CREATED:20241023T112032Z
LAST-MODIFIED:20241213T080103Z
UID:10001090-1778148000-1778155200@www.overvillage.co.uk
SUMMARY:Mustard Seed Community Cafe at St Mary's Church Hall
DESCRIPTION:Join us for a warm welcome\, fresh coffee\, tea and delicious home-baked treats! \nWe provide free squash or milk for children and a play area with toys. \nSt Mary’s Church Hall\, Over
URL:https://www.overvillage.co.uk/WP/event/mustard-seed-community-cafe-at-st-marys-church-hall-2/2026-05-07/
LOCATION:St Marys Church\, Church End\, Over\, Cambridgeshire\, CB24 5NH\, United Kingdom
ATTACH;FMTTYPE=image/jpeg:https://www.overvillage.co.uk/WP/wp-content/uploads/2024/02/thomas-bormans-sMkSzzNwCbo-unsplash-scaled.jpg
END:VEVENT
BEGIN:VEVENT
DTSTART;TZID=UTC:20260507T190000
DTEND;TZID=UTC:20260507T210000
DTSTAMP:20260421T033014
CREATED:20250811T115156Z
LAST-MODIFIED:20250811T115156Z
UID:10007403-1778180400-1778187600@www.overvillage.co.uk
SUMMARY:Swavesey Camera Club
DESCRIPTION:Pairs competition \nJudge: Sarah Roussouw
URL:https://www.overvillage.co.uk/WP/event/swavesey-camera-club-31/
LOCATION:Swavesey Village College\, Swavesey Village College\, Swavesey\, Cambridgeshire\, United Kingdom
ATTACH;FMTTYPE=image/png:https://www.overvillage.co.uk/WP/wp-content/uploads/2025/08/Swavesey-camera-club.png
END:VEVENT
BEGIN:VEVENT
DTSTART;VALUE=DATE:20260508
DTEND;VALUE=DATE:20260509
DTSTAMP:20260421T033014
CREATED:20260130T123650Z
LAST-MODIFIED:20260130T123650Z
UID:10007543-1778198400-1778284799@www.overvillage.co.uk
SUMMARY:Black Bin Collection
DESCRIPTION:Please leave your bins out the night before or early morning
URL:https://www.overvillage.co.uk/WP/event/black-bin-collection-2-2/2026-05-08/
LOCATION:kerbside
ATTACH;FMTTYPE=image/png:https://www.overvillage.co.uk/WP/wp-content/uploads/2023/09/Monthly-Collection-300x300-1.png
END:VEVENT
BEGIN:VEVENT
DTSTART;TZID=UTC:20260508T091500
DTEND;TZID=UTC:20260508T101500
DTSTAMP:20260421T033014
CREATED:20231205T140031Z
LAST-MODIFIED:20260406T184147Z
UID:10000824-1778231700-1778235300@www.overvillage.co.uk
SUMMARY:Dancing and Parachute Play
DESCRIPTION:Fridays 0915 to 1015 at Over Methodist Church.  Cost £5 for one child plus £1 for each additional charge. Term time only.
URL:https://www.overvillage.co.uk/WP/event/dancing-and-parachute-play/2026-05-08/
LOCATION:Methodist Church Over\, The Lanes\, Over\, Cambridgeshire\, CB24 5NQ\, United Kingdom
ATTACH;FMTTYPE=image/jpeg:https://www.overvillage.co.uk/WP/wp-content/uploads/2023/12/artem-kniaz-DqgMHzeio7g-unsplash-scaled.jpg
ORGANIZER;CN="Sharon Stevens":MAILTO:parafun@hotmail.co.uk
END:VEVENT
BEGIN:VEVENT
DTSTART;TZID=UTC:20260508T093000
DTEND;TZID=UTC:20260508T113000
DTSTAMP:20260421T033014
CREATED:20250528T083724Z
LAST-MODIFIED:20250528T083724Z
UID:10001941-1778232600-1778239800@www.overvillage.co.uk
SUMMARY:Needle Craft Group
DESCRIPTION:Do you enjoy textile hobbies?\nAre you available on Friday mornings?\nWhether you’re an embroiderer\, crocheter\, knitter\, patchworker …….any form of textile artist or crafter really\, and whatever level of skill you have\, you’d be most welcome to join us in Over Community Centre on Friday mornings from 9.30.\nOur aim to get together to socialise through our hobbies\, hopefully inspiring and helping each other to learn new skills.\nWe meet in the lounge and support the centre by buying our drinks  from the café.
URL:https://www.overvillage.co.uk/WP/event/fibre-craft-group-2/2026-05-08/
LOCATION:Over Community Centre\, 16 The Doles\, Over\,\, Cambridgeshire\, CB24 5NW\, United Kingdom
ATTACH;FMTTYPE=image/jpeg:https://www.overvillage.co.uk/WP/wp-content/uploads/2024/05/barbara-krysztofiak-PCBcjIYOgSs-unsplash.jpg
END:VEVENT
BEGIN:VEVENT
DTSTART;TZID=UTC:20260508T193000
DTEND;TZID=UTC:20260508T193000
DTSTAMP:20260421T033014
CREATED:20260414T180557Z
LAST-MODIFIED:20260416T090109Z
UID:10008219-1778268600-1778268600@www.overvillage.co.uk
SUMMARY:Sing for Joy Spring Concert
DESCRIPTION:
URL:https://www.overvillage.co.uk/WP/event/sing-for-joy-spring-concert/
LOCATION:St Marys Church\, Church End\, Over\, Cambridgeshire\, CB24 5NH\, United Kingdom
ATTACH;FMTTYPE=image/jpeg:https://www.overvillage.co.uk/WP/wp-content/uploads/2026/04/Sing-for-Joy-Spring-concert-invitation-for-community-choir.jpeg
END:VEVENT
BEGIN:VEVENT
DTSTART;TZID=UTC:20260510T093000
DTEND;TZID=UTC:20260510T093000
DTSTAMP:20260421T033014
CREATED:20260414T180149Z
LAST-MODIFIED:20260414T180149Z
UID:10008217-1778405400-1778405400@www.overvillage.co.uk
SUMMARY:Over Day Centre 5-Pub Challenge
DESCRIPTION:Join us for round sixteen of our 5-pub Challenge walk! See old friends and make new ones. All proceeds to go to the Over Day Centre\, this year to help raise funds for a new day room extension. \nRegistration opens at 9:30am at the Day Centre for a 12.5 mile walk through the beautiful Cambridgeshire fens to the The Pike & Eel\, Old Ferry Boat\, The Three Tuns\, Swavesey Windmill and back to The Admiral. \nMinimum donation of £15 per adult\, children free. Under 18s are very welcome but must be accompanied by a responsible adult. The length of the route may make it unsuitable for younger children. \nFor more information and registration please visit:\nhttps://www.overdaycentre.co.uk/fundraising/5-pubs-challenge-2026/
URL:https://www.overvillage.co.uk/WP/event/over-day-centre-5-pub-challenge-2/
LOCATION:Over Day Centre\, Drings Close\, Over\, Cambridgeshire\, CB245NZ\, United Kingdom
ATTACH;FMTTYPE=image/jpeg:https://www.overvillage.co.uk/WP/wp-content/uploads/2026/04/ODC-5-Pubs-flyer-A5-2026-cropped-optimized.jpeg
END:VEVENT
BEGIN:VEVENT
DTSTART;TZID=UTC:20260511T093000
DTEND;TZID=UTC:20260511T123000
DTSTAMP:20260421T033014
CREATED:20251218T164913Z
LAST-MODIFIED:20260102T095223Z
UID:10006667-1778491800-1778502600@www.overvillage.co.uk
SUMMARY:Post Office - Over Mobile Service - see below for info
DESCRIPTION:The mobile Post Office service will be open on the following days and venues. \nThere may be changes to the schedule so please check the Post Office’s web site for updates. \nOver Community Centre: \nMonday 09:30 – 12:30 \nWednesday 09:30 – 12:30 \nThursday 09:30 – 12:30 \nFriday 15:00 – 16:00 \nElm Court: \nTuesday 09:30 – 12:30 \n  \n 
URL:https://www.overvillage.co.uk/WP/event/post-office-over-mobile-service-5-2-2/2026-05-11/
LOCATION:Over Community Centre\, 16 The Doles\, Over\,\, Cambridgeshire\, CB24 5NW\, United Kingdom
ATTACH;FMTTYPE=image/jpeg:https://www.overvillage.co.uk/WP/wp-content/uploads/2024/08/Royal-Mail-post-office-scaled-1.jpg
END:VEVENT
BEGIN:VEVENT
DTSTART;TZID=UTC:20260511T193000
DTEND;TZID=UTC:20260511T193000
DTSTAMP:20260421T033014
CREATED:20260315T212946Z
LAST-MODIFIED:20260315T212946Z
UID:10008135-1778527800-1778527800@www.overvillage.co.uk
SUMMARY:Over W.I. – Gardening and its role at Red2Green
DESCRIPTION:Speakers: Liz Taylor/Anna Butler Finbow \nCompetition: Garden item
URL:https://www.overvillage.co.uk/WP/event/over-w-i-gardening-and-its-role-at-red2green/
LOCATION:Over Community Centre\, 16 The Doles\, Over\,\, Cambridgeshire\, CB24 5NW\, United Kingdom
ATTACH;FMTTYPE=image/jpeg:https://www.overvillage.co.uk/WP/wp-content/uploads/2025/11/wi_logo.jpg
END:VEVENT
BEGIN:VEVENT
DTSTART;TZID=UTC:20260512T161500
DTEND;TZID=UTC:20260616T181500
DTSTAMP:20260421T033014
CREATED:20260311T092850Z
LAST-MODIFIED:20260311T170230Z
UID:10007875-1778602500-1781633700@www.overvillage.co.uk
SUMMARY:Netball Club for Juniors
DESCRIPTION:Tuesday netball club for juniors with GK Fit  \n\nFun and inclusive weekly netball for girls and boys in Years 4-9\n\nEvery Tuesday from 14 April at Swavesey VC\n4.15: Year 4\, 5 & 6’s\n\n5.15: Year 7\, 8 & 9’s\n\nCost: £6.25 per session\, £5 for siblings\n\n\nBook at: gkfit.co.uk/netball
URL:https://www.overvillage.co.uk/WP/event/netball-club-for-juniors/2026-05-12/
LOCATION:Swavesey Village College\, Swavesey Village College\, Swavesey\, Cambridgeshire\, United Kingdom
ATTACH;FMTTYPE=image/jpeg:https://www.overvillage.co.uk/WP/wp-content/uploads/2026/03/GK-Fit-netball-SVC-scaled.jpg
END:VEVENT
BEGIN:VEVENT
DTSTART;TZID=UTC:20260513T091500
DTEND;TZID=UTC:20260513T103000
DTSTAMP:20260421T033014
CREATED:20251022T143930Z
LAST-MODIFIED:20260406T184001Z
UID:10000566-1778663700-1778668200@www.overvillage.co.uk
SUMMARY:Clap and Sing
DESCRIPTION:Sessions run every Wednesday between 0915 and 1030 at the Methodist Hall.  £5 for one child plus £1 for each additional child. Term time only.
URL:https://www.overvillage.co.uk/WP/event/clap-and-sing-2/2026-05-13/
LOCATION:Methodist Church Over\, The Lanes\, Over\, Cambridgeshire\, CB24 5NQ\, United Kingdom
ATTACH;FMTTYPE=image/jpeg:https://www.overvillage.co.uk/WP/wp-content/uploads/2023/12/sketch-crowd-little-people-with-flying-notes-illustration_156892-671.jpg
ORGANIZER;CN="Sharon Stevens":MAILTO:parafun@hotmail.co.uk
END:VEVENT
BEGIN:VEVENT
DTSTART;TZID=UTC:20260514T100000
DTEND;TZID=UTC:20260514T120000
DTSTAMP:20260421T033014
CREATED:20241023T112032Z
LAST-MODIFIED:20241213T080103Z
UID:10001091-1778752800-1778760000@www.overvillage.co.uk
SUMMARY:Mustard Seed Community Cafe at St Mary's Church Hall
DESCRIPTION:Join us for a warm welcome\, fresh coffee\, tea and delicious home-baked treats! \nWe provide free squash or milk for children and a play area with toys. \nSt Mary’s Church Hall\, Over
URL:https://www.overvillage.co.uk/WP/event/mustard-seed-community-cafe-at-st-marys-church-hall-2/2026-05-14/
LOCATION:St Marys Church\, Church End\, Over\, Cambridgeshire\, CB24 5NH\, United Kingdom
ATTACH;FMTTYPE=image/jpeg:https://www.overvillage.co.uk/WP/wp-content/uploads/2024/02/thomas-bormans-sMkSzzNwCbo-unsplash-scaled.jpg
END:VEVENT
BEGIN:VEVENT
DTSTART;TZID=UTC:20260514T190000
DTEND;TZID=UTC:20260514T210000
DTSTAMP:20260421T033014
CREATED:20250811T115303Z
LAST-MODIFIED:20250811T115303Z
UID:10007404-1778785200-1778792400@www.overvillage.co.uk
SUMMARY:Swavesey Camera Club
DESCRIPTION:Image of the Year competition \nJudged by the members
URL:https://www.overvillage.co.uk/WP/event/swavesey-camera-club-32/
LOCATION:Swavesey Village College\, Swavesey Village College\, Swavesey\, Cambridgeshire\, United Kingdom
ATTACH;FMTTYPE=image/png:https://www.overvillage.co.uk/WP/wp-content/uploads/2025/08/Swavesey-camera-club.png
END:VEVENT
BEGIN:VEVENT
DTSTART;VALUE=DATE:20260515
DTEND;VALUE=DATE:20260516
DTSTAMP:20260421T033014
CREATED:20260130T123512Z
LAST-MODIFIED:20260130T123512Z
UID:10007734-1778803200-1778889599@www.overvillage.co.uk
SUMMARY:Blue/Green bin collection
DESCRIPTION:
URL:https://www.overvillage.co.uk/WP/event/blue-green-bin-collection-2/2026-05-15/
LOCATION:kerbside
ATTACH;FMTTYPE=image/jpeg:https://www.overvillage.co.uk/WP/wp-content/uploads/2023/09/recycling-bins-vector-909606.jpg
END:VEVENT
BEGIN:VEVENT
DTSTART;TZID=UTC:20260515T091500
DTEND;TZID=UTC:20260515T101500
DTSTAMP:20260421T033014
CREATED:20231205T140031Z
LAST-MODIFIED:20260406T184147Z
UID:10000825-1778836500-1778840100@www.overvillage.co.uk
SUMMARY:Dancing and Parachute Play
DESCRIPTION:Fridays 0915 to 1015 at Over Methodist Church.  Cost £5 for one child plus £1 for each additional charge. Term time only.
URL:https://www.overvillage.co.uk/WP/event/dancing-and-parachute-play/2026-05-15/
LOCATION:Methodist Church Over\, The Lanes\, Over\, Cambridgeshire\, CB24 5NQ\, United Kingdom
ATTACH;FMTTYPE=image/jpeg:https://www.overvillage.co.uk/WP/wp-content/uploads/2023/12/artem-kniaz-DqgMHzeio7g-unsplash-scaled.jpg
ORGANIZER;CN="Sharon Stevens":MAILTO:parafun@hotmail.co.uk
END:VEVENT
BEGIN:VEVENT
DTSTART;TZID=UTC:20260515T093000
DTEND;TZID=UTC:20260515T113000
DTSTAMP:20260421T033014
CREATED:20250528T083724Z
LAST-MODIFIED:20250528T083724Z
UID:10001942-1778837400-1778844600@www.overvillage.co.uk
SUMMARY:Needle Craft Group
DESCRIPTION:Do you enjoy textile hobbies?\nAre you available on Friday mornings?\nWhether you’re an embroiderer\, crocheter\, knitter\, patchworker …….any form of textile artist or crafter really\, and whatever level of skill you have\, you’d be most welcome to join us in Over Community Centre on Friday mornings from 9.30.\nOur aim to get together to socialise through our hobbies\, hopefully inspiring and helping each other to learn new skills.\nWe meet in the lounge and support the centre by buying our drinks  from the café.
URL:https://www.overvillage.co.uk/WP/event/fibre-craft-group-2/2026-05-15/
LOCATION:Over Community Centre\, 16 The Doles\, Over\,\, Cambridgeshire\, CB24 5NW\, United Kingdom
ATTACH;FMTTYPE=image/jpeg:https://www.overvillage.co.uk/WP/wp-content/uploads/2024/05/barbara-krysztofiak-PCBcjIYOgSs-unsplash.jpg
END:VEVENT
BEGIN:VEVENT
DTSTART;TZID=UTC:20260518T093000
DTEND;TZID=UTC:20260518T123000
DTSTAMP:20260421T033014
CREATED:20251218T164913Z
LAST-MODIFIED:20260102T095223Z
UID:10006668-1779096600-1779107400@www.overvillage.co.uk
SUMMARY:Post Office - Over Mobile Service - see below for info
DESCRIPTION:The mobile Post Office service will be open on the following days and venues. \nThere may be changes to the schedule so please check the Post Office’s web site for updates. \nOver Community Centre: \nMonday 09:30 – 12:30 \nWednesday 09:30 – 12:30 \nThursday 09:30 – 12:30 \nFriday 15:00 – 16:00 \nElm Court: \nTuesday 09:30 – 12:30 \n  \n 
URL:https://www.overvillage.co.uk/WP/event/post-office-over-mobile-service-5-2-2/2026-05-18/
LOCATION:Over Community Centre\, 16 The Doles\, Over\,\, Cambridgeshire\, CB24 5NW\, United Kingdom
ATTACH;FMTTYPE=image/jpeg:https://www.overvillage.co.uk/WP/wp-content/uploads/2024/08/Royal-Mail-post-office-scaled-1.jpg
END:VEVENT
BEGIN:VEVENT
DTSTART;TZID=UTC:20260519T161500
DTEND;TZID=UTC:20260623T181500
DTSTAMP:20260421T033014
CREATED:20260311T092850Z
LAST-MODIFIED:20260311T170230Z
UID:10007876-1779207300-1782238500@www.overvillage.co.uk
SUMMARY:Netball Club for Juniors
DESCRIPTION:Tuesday netball club for juniors with GK Fit  \n\nFun and inclusive weekly netball for girls and boys in Years 4-9\n\nEvery Tuesday from 14 April at Swavesey VC\n4.15: Year 4\, 5 & 6’s\n\n5.15: Year 7\, 8 & 9’s\n\nCost: £6.25 per session\, £5 for siblings\n\n\nBook at: gkfit.co.uk/netball
URL:https://www.overvillage.co.uk/WP/event/netball-club-for-juniors/2026-05-19/
LOCATION:Swavesey Village College\, Swavesey Village College\, Swavesey\, Cambridgeshire\, United Kingdom
ATTACH;FMTTYPE=image/jpeg:https://www.overvillage.co.uk/WP/wp-content/uploads/2026/03/GK-Fit-netball-SVC-scaled.jpg
END:VEVENT
BEGIN:VEVENT
DTSTART;TZID=UTC:20260520T091500
DTEND;TZID=UTC:20260520T103000
DTSTAMP:20260421T033014
CREATED:20251022T143930Z
LAST-MODIFIED:20260406T184001Z
UID:10000567-1779268500-1779273000@www.overvillage.co.uk
SUMMARY:Clap and Sing
DESCRIPTION:Sessions run every Wednesday between 0915 and 1030 at the Methodist Hall.  £5 for one child plus £1 for each additional child. Term time only.
URL:https://www.overvillage.co.uk/WP/event/clap-and-sing-2/2026-05-20/
LOCATION:Methodist Church Over\, The Lanes\, Over\, Cambridgeshire\, CB24 5NQ\, United Kingdom
ATTACH;FMTTYPE=image/jpeg:https://www.overvillage.co.uk/WP/wp-content/uploads/2023/12/sketch-crowd-little-people-with-flying-notes-illustration_156892-671.jpg
ORGANIZER;CN="Sharon Stevens":MAILTO:parafun@hotmail.co.uk
END:VEVENT
BEGIN:VEVENT
DTSTART;TZID=UTC:20260520T193000
DTEND;TZID=UTC:20260520T213000
DTSTAMP:20260421T033014
CREATED:20251112T104447Z
LAST-MODIFIED:20251112T104447Z
UID:10007479-1779305400-1779312600@www.overvillage.co.uk
SUMMARY:Over Gardening Club
DESCRIPTION:Closer to Nature: a wilder garden \nJim Paine \nWe are a friendly group of gardeners and plant lovers who have regular meetings with a speaker and raffle and occasional plant sales.  Meetings are held on the 3rd Wednesday of each month; from September to May we meet at Over Community Centre where we usually have a guest speaker talking on various aspects of gardening\, in June we often arrange a visit to a local garden and in July we hold a social evening.  Membership runs annually from 1 April to 31 March and is currently £15.00 per year.  Visitors to meetings are welcome but we do ask for a guest fee of £3.00 per visit.  A 10% discount is available on most items at Oakington Garden Centre\, plants at Parkhall Nursery in Somersham and also items from Madingley Mulch with a current membership card. \n  \nIf you would like to come to a meeting as a guest just turn up or contact any member of the committee for further details\, we would love to see you.  Committee members: Richard Cox\, Julie Carter\, Jeremy Tyrrell\, Carolyn Redmayne\, Carole Cowley\, Jan Hook\, Julie Wilson\, Cynthia Bidwell\, Rachel Henshaw \nEnquiries\, please email gardeningclubover@gmail.com
URL:https://www.overvillage.co.uk/WP/event/over-gardening-club-14/
LOCATION:Over Community Centre\, 16 The Doles\, Over\,\, Cambridgeshire\, CB24 5NW\, United Kingdom
ATTACH;FMTTYPE=image/jpeg:https://www.overvillage.co.uk/WP/wp-content/uploads/2023/11/627e820e49d6f.image_.jpg
END:VEVENT
BEGIN:VEVENT
DTSTART;TZID=UTC:20260521T100000
DTEND;TZID=UTC:20260521T120000
DTSTAMP:20260421T033014
CREATED:20241023T112032Z
LAST-MODIFIED:20241213T080103Z
UID:10001092-1779357600-1779364800@www.overvillage.co.uk
SUMMARY:Mustard Seed Community Cafe at St Mary's Church Hall
DESCRIPTION:Join us for a warm welcome\, fresh coffee\, tea and delicious home-baked treats! \nWe provide free squash or milk for children and a play area with toys. \nSt Mary’s Church Hall\, Over
URL:https://www.overvillage.co.uk/WP/event/mustard-seed-community-cafe-at-st-marys-church-hall-2/2026-05-21/
LOCATION:St Marys Church\, Church End\, Over\, Cambridgeshire\, CB24 5NH\, United Kingdom
ATTACH;FMTTYPE=image/jpeg:https://www.overvillage.co.uk/WP/wp-content/uploads/2024/02/thomas-bormans-sMkSzzNwCbo-unsplash-scaled.jpg
END:VEVENT
END:VCALENDAR