BEGIN:VCALENDAR
VERSION:2.0
PRODID:-//Over Village News - ECPv6.15.20//NONSGML v1.0//EN
CALSCALE:GREGORIAN
METHOD:PUBLISH
X-WR-CALNAME:Over Village News
X-ORIGINAL-URL:https://www.overvillage.co.uk/WP
X-WR-CALDESC:Events for Over Village News
REFRESH-INTERVAL;VALUE=DURATION:PT1H
X-Robots-Tag:noindex
X-PUBLISHED-TTL:PT1H
BEGIN:VTIMEZONE
TZID:UTC
BEGIN:STANDARD
TZOFFSETFROM:+0000
TZOFFSETTO:+0000
TZNAME:UTC
DTSTART:20260101T000000
END:STANDARD
END:VTIMEZONE
BEGIN:VEVENT
DTSTART;VALUE=DATE:20270305
DTEND;VALUE=DATE:20270306
DTSTAMP:20260425T154340
CREATED:20260130T123512Z
LAST-MODIFIED:20260130T123512Z
UID:10007755-1804204800-1804291199@www.overvillage.co.uk
SUMMARY:Blue/Green bin collection
DESCRIPTION:
URL:https://www.overvillage.co.uk/WP/event/blue-green-bin-collection-2/2027-03-05/
LOCATION:kerbside
ATTACH;FMTTYPE=image/jpeg:https://www.overvillage.co.uk/WP/wp-content/uploads/2023/09/recycling-bins-vector-909606.jpg
END:VEVENT
BEGIN:VEVENT
DTSTART;TZID=UTC:20270305T091500
DTEND;TZID=UTC:20270305T101500
DTSTAMP:20260425T154340
CREATED:20231205T140031Z
LAST-MODIFIED:20260406T184147Z
UID:10000867-1804238100-1804241700@www.overvillage.co.uk
SUMMARY:Dancing and Parachute Play
DESCRIPTION:Fridays 0915 to 1015 at Over Methodist Church.  Cost £5 for one child plus £1 for each additional charge. Term time only.
URL:https://www.overvillage.co.uk/WP/event/dancing-and-parachute-play/2027-03-05/
LOCATION:Methodist Church Over\, The Lanes\, Over\, Cambridgeshire\, CB24 5NQ\, United Kingdom
ATTACH;FMTTYPE=image/jpeg:https://www.overvillage.co.uk/WP/wp-content/uploads/2023/12/artem-kniaz-DqgMHzeio7g-unsplash-scaled.jpg
ORGANIZER;CN="Sharon Stevens":MAILTO:parafun@hotmail.co.uk
END:VEVENT
BEGIN:VEVENT
DTSTART;TZID=UTC:20270305T093000
DTEND;TZID=UTC:20270305T113000
DTSTAMP:20260425T154340
CREATED:20250528T083724Z
LAST-MODIFIED:20250528T083724Z
UID:10001984-1804239000-1804246200@www.overvillage.co.uk
SUMMARY:Needle Craft Group
DESCRIPTION:Do you enjoy textile hobbies?\nAre you available on Friday mornings?\nWhether you’re an embroiderer\, crocheter\, knitter\, patchworker …….any form of textile artist or crafter really\, and whatever level of skill you have\, you’d be most welcome to join us in Over Community Centre on Friday mornings from 9.30.\nOur aim to get together to socialise through our hobbies\, hopefully inspiring and helping each other to learn new skills.\nWe meet in the lounge and support the centre by buying our drinks  from the café.
URL:https://www.overvillage.co.uk/WP/event/fibre-craft-group-2/2027-03-05/
LOCATION:Over Community Centre\, 16 The Doles\, Over\,\, Cambridgeshire\, CB24 5NW\, United Kingdom
ATTACH;FMTTYPE=image/jpeg:https://www.overvillage.co.uk/WP/wp-content/uploads/2024/05/barbara-krysztofiak-PCBcjIYOgSs-unsplash.jpg
END:VEVENT
BEGIN:VEVENT
DTSTART;TZID=UTC:20270308T093000
DTEND;TZID=UTC:20270308T123000
DTSTAMP:20260425T154340
CREATED:20251218T164913Z
LAST-MODIFIED:20260102T095223Z
UID:10006710-1804498200-1804509000@www.overvillage.co.uk
SUMMARY:Post Office - Over Mobile Service - see below for info
DESCRIPTION:The mobile Post Office service will be open on the following days and venues. \nThere may be changes to the schedule so please check the Post Office’s web site for updates. \nOver Community Centre: \nMonday 09:30 – 12:30 \nWednesday 09:30 – 12:30 \nThursday 09:30 – 12:30 \nFriday 15:00 – 16:00 \nElm Court: \nTuesday 09:30 – 12:30 \n  \n 
URL:https://www.overvillage.co.uk/WP/event/post-office-over-mobile-service-5-2-2/2027-03-08/
LOCATION:Over Community Centre\, 16 The Doles\, Over\,\, Cambridgeshire\, CB24 5NW\, United Kingdom
ATTACH;FMTTYPE=image/jpeg:https://www.overvillage.co.uk/WP/wp-content/uploads/2024/08/Royal-Mail-post-office-scaled-1.jpg
END:VEVENT
BEGIN:VEVENT
DTSTART;TZID=UTC:20270309T161500
DTEND;TZID=UTC:20270413T181500
DTSTAMP:20260425T154340
CREATED:20260311T092850Z
LAST-MODIFIED:20260311T170230Z
UID:10007918-1804608900-1807640100@www.overvillage.co.uk
SUMMARY:Netball Club for Juniors
DESCRIPTION:Tuesday netball club for juniors with GK Fit  \n\nFun and inclusive weekly netball for girls and boys in Years 4-9\n\nEvery Tuesday from 14 April at Swavesey VC\n4.15: Year 4\, 5 & 6’s\n\n5.15: Year 7\, 8 & 9’s\n\nCost: £6.25 per session\, £5 for siblings\n\n\nBook at: gkfit.co.uk/netball
URL:https://www.overvillage.co.uk/WP/event/netball-club-for-juniors/2027-03-09/
LOCATION:Swavesey Village College\, Swavesey Village College\, Swavesey\, Cambridgeshire\, United Kingdom
ATTACH;FMTTYPE=image/jpeg:https://www.overvillage.co.uk/WP/wp-content/uploads/2026/03/GK-Fit-netball-SVC-scaled.jpg
END:VEVENT
BEGIN:VEVENT
DTSTART;TZID=UTC:20270310T091500
DTEND;TZID=UTC:20270310T103000
DTSTAMP:20260425T154340
CREATED:20251022T143930Z
LAST-MODIFIED:20260406T184001Z
UID:10000609-1804670100-1804674600@www.overvillage.co.uk
SUMMARY:Clap and Sing
DESCRIPTION:Sessions run every Wednesday between 0915 and 1030 at the Methodist Hall.  £5 for one child plus £1 for each additional child. Term time only.
URL:https://www.overvillage.co.uk/WP/event/clap-and-sing-2/2027-03-10/
LOCATION:Methodist Church Over\, The Lanes\, Over\, Cambridgeshire\, CB24 5NQ\, United Kingdom
ATTACH;FMTTYPE=image/jpeg:https://www.overvillage.co.uk/WP/wp-content/uploads/2023/12/sketch-crowd-little-people-with-flying-notes-illustration_156892-671.jpg
ORGANIZER;CN="Sharon Stevens":MAILTO:parafun@hotmail.co.uk
END:VEVENT
BEGIN:VEVENT
DTSTART;TZID=UTC:20270311T100000
DTEND;TZID=UTC:20270311T120000
DTSTAMP:20260425T154340
CREATED:20241023T112032Z
LAST-MODIFIED:20241213T080103Z
UID:10001134-1804759200-1804766400@www.overvillage.co.uk
SUMMARY:Mustard Seed Community Cafe at St Mary's Church Hall
DESCRIPTION:Join us for a warm welcome\, fresh coffee\, tea and delicious home-baked treats! \nWe provide free squash or milk for children and a play area with toys. \nSt Mary’s Church Hall\, Over
URL:https://www.overvillage.co.uk/WP/event/mustard-seed-community-cafe-at-st-marys-church-hall-2/2027-03-11/
LOCATION:St Marys Church\, Church End\, Over\, Cambridgeshire\, CB24 5NH\, United Kingdom
ATTACH;FMTTYPE=image/jpeg:https://www.overvillage.co.uk/WP/wp-content/uploads/2024/02/thomas-bormans-sMkSzzNwCbo-unsplash-scaled.jpg
END:VEVENT
BEGIN:VEVENT
DTSTART;VALUE=DATE:20270312
DTEND;VALUE=DATE:20270313
DTSTAMP:20260425T154340
CREATED:20260130T123650Z
LAST-MODIFIED:20260130T123650Z
UID:10007565-1804809600-1804895999@www.overvillage.co.uk
SUMMARY:Black Bin Collection
DESCRIPTION:Please leave your bins out the night before or early morning
URL:https://www.overvillage.co.uk/WP/event/black-bin-collection-2-2/2027-03-12/
LOCATION:kerbside
ATTACH;FMTTYPE=image/png:https://www.overvillage.co.uk/WP/wp-content/uploads/2023/09/Monthly-Collection-300x300-1.png
END:VEVENT
BEGIN:VEVENT
DTSTART;TZID=UTC:20270312T091500
DTEND;TZID=UTC:20270312T101500
DTSTAMP:20260425T154340
CREATED:20231205T140031Z
LAST-MODIFIED:20260406T184147Z
UID:10000868-1804842900-1804846500@www.overvillage.co.uk
SUMMARY:Dancing and Parachute Play
DESCRIPTION:Fridays 0915 to 1015 at Over Methodist Church.  Cost £5 for one child plus £1 for each additional charge. Term time only.
URL:https://www.overvillage.co.uk/WP/event/dancing-and-parachute-play/2027-03-12/
LOCATION:Methodist Church Over\, The Lanes\, Over\, Cambridgeshire\, CB24 5NQ\, United Kingdom
ATTACH;FMTTYPE=image/jpeg:https://www.overvillage.co.uk/WP/wp-content/uploads/2023/12/artem-kniaz-DqgMHzeio7g-unsplash-scaled.jpg
ORGANIZER;CN="Sharon Stevens":MAILTO:parafun@hotmail.co.uk
END:VEVENT
BEGIN:VEVENT
DTSTART;TZID=UTC:20270312T093000
DTEND;TZID=UTC:20270312T113000
DTSTAMP:20260425T154340
CREATED:20250528T083724Z
LAST-MODIFIED:20250528T083724Z
UID:10001985-1804843800-1804851000@www.overvillage.co.uk
SUMMARY:Needle Craft Group
DESCRIPTION:Do you enjoy textile hobbies?\nAre you available on Friday mornings?\nWhether you’re an embroiderer\, crocheter\, knitter\, patchworker …….any form of textile artist or crafter really\, and whatever level of skill you have\, you’d be most welcome to join us in Over Community Centre on Friday mornings from 9.30.\nOur aim to get together to socialise through our hobbies\, hopefully inspiring and helping each other to learn new skills.\nWe meet in the lounge and support the centre by buying our drinks  from the café.
URL:https://www.overvillage.co.uk/WP/event/fibre-craft-group-2/2027-03-12/
LOCATION:Over Community Centre\, 16 The Doles\, Over\,\, Cambridgeshire\, CB24 5NW\, United Kingdom
ATTACH;FMTTYPE=image/jpeg:https://www.overvillage.co.uk/WP/wp-content/uploads/2024/05/barbara-krysztofiak-PCBcjIYOgSs-unsplash.jpg
END:VEVENT
BEGIN:VEVENT
DTSTART;TZID=UTC:20270315T093000
DTEND;TZID=UTC:20270315T123000
DTSTAMP:20260425T154340
CREATED:20251218T164913Z
LAST-MODIFIED:20260102T095223Z
UID:10006711-1805103000-1805113800@www.overvillage.co.uk
SUMMARY:Post Office - Over Mobile Service - see below for info
DESCRIPTION:The mobile Post Office service will be open on the following days and venues. \nThere may be changes to the schedule so please check the Post Office’s web site for updates. \nOver Community Centre: \nMonday 09:30 – 12:30 \nWednesday 09:30 – 12:30 \nThursday 09:30 – 12:30 \nFriday 15:00 – 16:00 \nElm Court: \nTuesday 09:30 – 12:30 \n  \n 
URL:https://www.overvillage.co.uk/WP/event/post-office-over-mobile-service-5-2-2/2027-03-15/
LOCATION:Over Community Centre\, 16 The Doles\, Over\,\, Cambridgeshire\, CB24 5NW\, United Kingdom
ATTACH;FMTTYPE=image/jpeg:https://www.overvillage.co.uk/WP/wp-content/uploads/2024/08/Royal-Mail-post-office-scaled-1.jpg
END:VEVENT
BEGIN:VEVENT
DTSTART;TZID=UTC:20270316T161500
DTEND;TZID=UTC:20270420T181500
DTSTAMP:20260425T154340
CREATED:20260311T092850Z
LAST-MODIFIED:20260311T170230Z
UID:10007919-1805213700-1808244900@www.overvillage.co.uk
SUMMARY:Netball Club for Juniors
DESCRIPTION:Tuesday netball club for juniors with GK Fit  \n\nFun and inclusive weekly netball for girls and boys in Years 4-9\n\nEvery Tuesday from 14 April at Swavesey VC\n4.15: Year 4\, 5 & 6’s\n\n5.15: Year 7\, 8 & 9’s\n\nCost: £6.25 per session\, £5 for siblings\n\n\nBook at: gkfit.co.uk/netball
URL:https://www.overvillage.co.uk/WP/event/netball-club-for-juniors/2027-03-16/
LOCATION:Swavesey Village College\, Swavesey Village College\, Swavesey\, Cambridgeshire\, United Kingdom
ATTACH;FMTTYPE=image/jpeg:https://www.overvillage.co.uk/WP/wp-content/uploads/2026/03/GK-Fit-netball-SVC-scaled.jpg
END:VEVENT
BEGIN:VEVENT
DTSTART;TZID=UTC:20270317T091500
DTEND;TZID=UTC:20270317T103000
DTSTAMP:20260425T154340
CREATED:20251022T143930Z
LAST-MODIFIED:20260406T184001Z
UID:10000610-1805274900-1805279400@www.overvillage.co.uk
SUMMARY:Clap and Sing
DESCRIPTION:Sessions run every Wednesday between 0915 and 1030 at the Methodist Hall.  £5 for one child plus £1 for each additional child. Term time only.
URL:https://www.overvillage.co.uk/WP/event/clap-and-sing-2/2027-03-17/
LOCATION:Methodist Church Over\, The Lanes\, Over\, Cambridgeshire\, CB24 5NQ\, United Kingdom
ATTACH;FMTTYPE=image/jpeg:https://www.overvillage.co.uk/WP/wp-content/uploads/2023/12/sketch-crowd-little-people-with-flying-notes-illustration_156892-671.jpg
ORGANIZER;CN="Sharon Stevens":MAILTO:parafun@hotmail.co.uk
END:VEVENT
BEGIN:VEVENT
DTSTART;TZID=UTC:20270318T100000
DTEND;TZID=UTC:20270318T120000
DTSTAMP:20260425T154340
CREATED:20241023T112032Z
LAST-MODIFIED:20241213T080103Z
UID:10001135-1805364000-1805371200@www.overvillage.co.uk
SUMMARY:Mustard Seed Community Cafe at St Mary's Church Hall
DESCRIPTION:Join us for a warm welcome\, fresh coffee\, tea and delicious home-baked treats! \nWe provide free squash or milk for children and a play area with toys. \nSt Mary’s Church Hall\, Over
URL:https://www.overvillage.co.uk/WP/event/mustard-seed-community-cafe-at-st-marys-church-hall-2/2027-03-18/
LOCATION:St Marys Church\, Church End\, Over\, Cambridgeshire\, CB24 5NH\, United Kingdom
ATTACH;FMTTYPE=image/jpeg:https://www.overvillage.co.uk/WP/wp-content/uploads/2024/02/thomas-bormans-sMkSzzNwCbo-unsplash-scaled.jpg
END:VEVENT
BEGIN:VEVENT
DTSTART;VALUE=DATE:20270319
DTEND;VALUE=DATE:20270320
DTSTAMP:20260425T154340
CREATED:20260130T123512Z
LAST-MODIFIED:20260130T123512Z
UID:10007756-1805414400-1805500799@www.overvillage.co.uk
SUMMARY:Blue/Green bin collection
DESCRIPTION:
URL:https://www.overvillage.co.uk/WP/event/blue-green-bin-collection-2/2027-03-19/
LOCATION:kerbside
ATTACH;FMTTYPE=image/jpeg:https://www.overvillage.co.uk/WP/wp-content/uploads/2023/09/recycling-bins-vector-909606.jpg
END:VEVENT
BEGIN:VEVENT
DTSTART;TZID=UTC:20270319T091500
DTEND;TZID=UTC:20270319T101500
DTSTAMP:20260425T154340
CREATED:20231205T140031Z
LAST-MODIFIED:20260406T184147Z
UID:10000869-1805447700-1805451300@www.overvillage.co.uk
SUMMARY:Dancing and Parachute Play
DESCRIPTION:Fridays 0915 to 1015 at Over Methodist Church.  Cost £5 for one child plus £1 for each additional charge. Term time only.
URL:https://www.overvillage.co.uk/WP/event/dancing-and-parachute-play/2027-03-19/
LOCATION:Methodist Church Over\, The Lanes\, Over\, Cambridgeshire\, CB24 5NQ\, United Kingdom
ATTACH;FMTTYPE=image/jpeg:https://www.overvillage.co.uk/WP/wp-content/uploads/2023/12/artem-kniaz-DqgMHzeio7g-unsplash-scaled.jpg
ORGANIZER;CN="Sharon Stevens":MAILTO:parafun@hotmail.co.uk
END:VEVENT
BEGIN:VEVENT
DTSTART;TZID=UTC:20270319T093000
DTEND;TZID=UTC:20270319T113000
DTSTAMP:20260425T154340
CREATED:20250528T083724Z
LAST-MODIFIED:20250528T083724Z
UID:10001986-1805448600-1805455800@www.overvillage.co.uk
SUMMARY:Needle Craft Group
DESCRIPTION:Do you enjoy textile hobbies?\nAre you available on Friday mornings?\nWhether you’re an embroiderer\, crocheter\, knitter\, patchworker …….any form of textile artist or crafter really\, and whatever level of skill you have\, you’d be most welcome to join us in Over Community Centre on Friday mornings from 9.30.\nOur aim to get together to socialise through our hobbies\, hopefully inspiring and helping each other to learn new skills.\nWe meet in the lounge and support the centre by buying our drinks  from the café.
URL:https://www.overvillage.co.uk/WP/event/fibre-craft-group-2/2027-03-19/
LOCATION:Over Community Centre\, 16 The Doles\, Over\,\, Cambridgeshire\, CB24 5NW\, United Kingdom
ATTACH;FMTTYPE=image/jpeg:https://www.overvillage.co.uk/WP/wp-content/uploads/2024/05/barbara-krysztofiak-PCBcjIYOgSs-unsplash.jpg
END:VEVENT
BEGIN:VEVENT
DTSTART;TZID=UTC:20270322T093000
DTEND;TZID=UTC:20270322T123000
DTSTAMP:20260425T154340
CREATED:20251218T164913Z
LAST-MODIFIED:20260102T095223Z
UID:10006712-1805707800-1805718600@www.overvillage.co.uk
SUMMARY:Post Office - Over Mobile Service - see below for info
DESCRIPTION:The mobile Post Office service will be open on the following days and venues. \nThere may be changes to the schedule so please check the Post Office’s web site for updates. \nOver Community Centre: \nMonday 09:30 – 12:30 \nWednesday 09:30 – 12:30 \nThursday 09:30 – 12:30 \nFriday 15:00 – 16:00 \nElm Court: \nTuesday 09:30 – 12:30 \n  \n 
URL:https://www.overvillage.co.uk/WP/event/post-office-over-mobile-service-5-2-2/2027-03-22/
LOCATION:Over Community Centre\, 16 The Doles\, Over\,\, Cambridgeshire\, CB24 5NW\, United Kingdom
ATTACH;FMTTYPE=image/jpeg:https://www.overvillage.co.uk/WP/wp-content/uploads/2024/08/Royal-Mail-post-office-scaled-1.jpg
END:VEVENT
BEGIN:VEVENT
DTSTART;TZID=UTC:20270323T161500
DTEND;TZID=UTC:20270427T181500
DTSTAMP:20260425T154340
CREATED:20260311T092850Z
LAST-MODIFIED:20260311T170230Z
UID:10007920-1805818500-1808849700@www.overvillage.co.uk
SUMMARY:Netball Club for Juniors
DESCRIPTION:Tuesday netball club for juniors with GK Fit  \n\nFun and inclusive weekly netball for girls and boys in Years 4-9\n\nEvery Tuesday from 14 April at Swavesey VC\n4.15: Year 4\, 5 & 6’s\n\n5.15: Year 7\, 8 & 9’s\n\nCost: £6.25 per session\, £5 for siblings\n\n\nBook at: gkfit.co.uk/netball
URL:https://www.overvillage.co.uk/WP/event/netball-club-for-juniors/2027-03-23/
LOCATION:Swavesey Village College\, Swavesey Village College\, Swavesey\, Cambridgeshire\, United Kingdom
ATTACH;FMTTYPE=image/jpeg:https://www.overvillage.co.uk/WP/wp-content/uploads/2026/03/GK-Fit-netball-SVC-scaled.jpg
END:VEVENT
BEGIN:VEVENT
DTSTART;TZID=UTC:20270324T091500
DTEND;TZID=UTC:20270324T103000
DTSTAMP:20260425T154340
CREATED:20251022T143930Z
LAST-MODIFIED:20260406T184001Z
UID:10000611-1805879700-1805884200@www.overvillage.co.uk
SUMMARY:Clap and Sing
DESCRIPTION:Sessions run every Wednesday between 0915 and 1030 at the Methodist Hall.  £5 for one child plus £1 for each additional child. Term time only.
URL:https://www.overvillage.co.uk/WP/event/clap-and-sing-2/2027-03-24/
LOCATION:Methodist Church Over\, The Lanes\, Over\, Cambridgeshire\, CB24 5NQ\, United Kingdom
ATTACH;FMTTYPE=image/jpeg:https://www.overvillage.co.uk/WP/wp-content/uploads/2023/12/sketch-crowd-little-people-with-flying-notes-illustration_156892-671.jpg
ORGANIZER;CN="Sharon Stevens":MAILTO:parafun@hotmail.co.uk
END:VEVENT
BEGIN:VEVENT
DTSTART;TZID=UTC:20270325T100000
DTEND;TZID=UTC:20270325T120000
DTSTAMP:20260425T154340
CREATED:20241023T112032Z
LAST-MODIFIED:20241213T080103Z
UID:10001136-1805968800-1805976000@www.overvillage.co.uk
SUMMARY:Mustard Seed Community Cafe at St Mary's Church Hall
DESCRIPTION:Join us for a warm welcome\, fresh coffee\, tea and delicious home-baked treats! \nWe provide free squash or milk for children and a play area with toys. \nSt Mary’s Church Hall\, Over
URL:https://www.overvillage.co.uk/WP/event/mustard-seed-community-cafe-at-st-marys-church-hall-2/2027-03-25/
LOCATION:St Marys Church\, Church End\, Over\, Cambridgeshire\, CB24 5NH\, United Kingdom
ATTACH;FMTTYPE=image/jpeg:https://www.overvillage.co.uk/WP/wp-content/uploads/2024/02/thomas-bormans-sMkSzzNwCbo-unsplash-scaled.jpg
END:VEVENT
BEGIN:VEVENT
DTSTART;VALUE=DATE:20270326
DTEND;VALUE=DATE:20270327
DTSTAMP:20260425T154340
CREATED:20260130T123650Z
LAST-MODIFIED:20260130T123650Z
UID:10007566-1806019200-1806105599@www.overvillage.co.uk
SUMMARY:Black Bin Collection
DESCRIPTION:Please leave your bins out the night before or early morning
URL:https://www.overvillage.co.uk/WP/event/black-bin-collection-2-2/2027-03-26/
LOCATION:kerbside
ATTACH;FMTTYPE=image/png:https://www.overvillage.co.uk/WP/wp-content/uploads/2023/09/Monthly-Collection-300x300-1.png
END:VEVENT
BEGIN:VEVENT
DTSTART;TZID=UTC:20270326T091500
DTEND;TZID=UTC:20270326T101500
DTSTAMP:20260425T154340
CREATED:20231205T140031Z
LAST-MODIFIED:20260406T184147Z
UID:10000870-1806052500-1806056100@www.overvillage.co.uk
SUMMARY:Dancing and Parachute Play
DESCRIPTION:Fridays 0915 to 1015 at Over Methodist Church.  Cost £5 for one child plus £1 for each additional charge. Term time only.
URL:https://www.overvillage.co.uk/WP/event/dancing-and-parachute-play/2027-03-26/
LOCATION:Methodist Church Over\, The Lanes\, Over\, Cambridgeshire\, CB24 5NQ\, United Kingdom
ATTACH;FMTTYPE=image/jpeg:https://www.overvillage.co.uk/WP/wp-content/uploads/2023/12/artem-kniaz-DqgMHzeio7g-unsplash-scaled.jpg
ORGANIZER;CN="Sharon Stevens":MAILTO:parafun@hotmail.co.uk
END:VEVENT
BEGIN:VEVENT
DTSTART;TZID=UTC:20270326T093000
DTEND;TZID=UTC:20270326T113000
DTSTAMP:20260425T154340
CREATED:20250528T083724Z
LAST-MODIFIED:20250528T083724Z
UID:10001987-1806053400-1806060600@www.overvillage.co.uk
SUMMARY:Needle Craft Group
DESCRIPTION:Do you enjoy textile hobbies?\nAre you available on Friday mornings?\nWhether you’re an embroiderer\, crocheter\, knitter\, patchworker …….any form of textile artist or crafter really\, and whatever level of skill you have\, you’d be most welcome to join us in Over Community Centre on Friday mornings from 9.30.\nOur aim to get together to socialise through our hobbies\, hopefully inspiring and helping each other to learn new skills.\nWe meet in the lounge and support the centre by buying our drinks  from the café.
URL:https://www.overvillage.co.uk/WP/event/fibre-craft-group-2/2027-03-26/
LOCATION:Over Community Centre\, 16 The Doles\, Over\,\, Cambridgeshire\, CB24 5NW\, United Kingdom
ATTACH;FMTTYPE=image/jpeg:https://www.overvillage.co.uk/WP/wp-content/uploads/2024/05/barbara-krysztofiak-PCBcjIYOgSs-unsplash.jpg
END:VEVENT
BEGIN:VEVENT
DTSTART;TZID=UTC:20270329T093000
DTEND;TZID=UTC:20270329T123000
DTSTAMP:20260425T154340
CREATED:20251218T164913Z
LAST-MODIFIED:20260102T095223Z
UID:10006713-1806312600-1806323400@www.overvillage.co.uk
SUMMARY:Post Office - Over Mobile Service - see below for info
DESCRIPTION:The mobile Post Office service will be open on the following days and venues. \nThere may be changes to the schedule so please check the Post Office’s web site for updates. \nOver Community Centre: \nMonday 09:30 – 12:30 \nWednesday 09:30 – 12:30 \nThursday 09:30 – 12:30 \nFriday 15:00 – 16:00 \nElm Court: \nTuesday 09:30 – 12:30 \n  \n 
URL:https://www.overvillage.co.uk/WP/event/post-office-over-mobile-service-5-2-2/2027-03-29/
LOCATION:Over Community Centre\, 16 The Doles\, Over\,\, Cambridgeshire\, CB24 5NW\, United Kingdom
ATTACH;FMTTYPE=image/jpeg:https://www.overvillage.co.uk/WP/wp-content/uploads/2024/08/Royal-Mail-post-office-scaled-1.jpg
END:VEVENT
BEGIN:VEVENT
DTSTART;TZID=UTC:20270330T161500
DTEND;TZID=UTC:20270504T181500
DTSTAMP:20260425T154340
CREATED:20260311T092850Z
LAST-MODIFIED:20260311T170230Z
UID:10007921-1806423300-1809454500@www.overvillage.co.uk
SUMMARY:Netball Club for Juniors
DESCRIPTION:Tuesday netball club for juniors with GK Fit  \n\nFun and inclusive weekly netball for girls and boys in Years 4-9\n\nEvery Tuesday from 14 April at Swavesey VC\n4.15: Year 4\, 5 & 6’s\n\n5.15: Year 7\, 8 & 9’s\n\nCost: £6.25 per session\, £5 for siblings\n\n\nBook at: gkfit.co.uk/netball
URL:https://www.overvillage.co.uk/WP/event/netball-club-for-juniors/2027-03-30/
LOCATION:Swavesey Village College\, Swavesey Village College\, Swavesey\, Cambridgeshire\, United Kingdom
ATTACH;FMTTYPE=image/jpeg:https://www.overvillage.co.uk/WP/wp-content/uploads/2026/03/GK-Fit-netball-SVC-scaled.jpg
END:VEVENT
BEGIN:VEVENT
DTSTART;TZID=UTC:20270331T091500
DTEND;TZID=UTC:20270331T103000
DTSTAMP:20260425T154340
CREATED:20251022T143930Z
LAST-MODIFIED:20260406T184001Z
UID:10000612-1806484500-1806489000@www.overvillage.co.uk
SUMMARY:Clap and Sing
DESCRIPTION:Sessions run every Wednesday between 0915 and 1030 at the Methodist Hall.  £5 for one child plus £1 for each additional child. Term time only.
URL:https://www.overvillage.co.uk/WP/event/clap-and-sing-2/2027-03-31/
LOCATION:Methodist Church Over\, The Lanes\, Over\, Cambridgeshire\, CB24 5NQ\, United Kingdom
ATTACH;FMTTYPE=image/jpeg:https://www.overvillage.co.uk/WP/wp-content/uploads/2023/12/sketch-crowd-little-people-with-flying-notes-illustration_156892-671.jpg
ORGANIZER;CN="Sharon Stevens":MAILTO:parafun@hotmail.co.uk
END:VEVENT
BEGIN:VEVENT
DTSTART;TZID=UTC:20270401T100000
DTEND;TZID=UTC:20270401T120000
DTSTAMP:20260425T154340
CREATED:20241023T112032Z
LAST-MODIFIED:20241213T080103Z
UID:10001137-1806573600-1806580800@www.overvillage.co.uk
SUMMARY:Mustard Seed Community Cafe at St Mary's Church Hall
DESCRIPTION:Join us for a warm welcome\, fresh coffee\, tea and delicious home-baked treats! \nWe provide free squash or milk for children and a play area with toys. \nSt Mary’s Church Hall\, Over
URL:https://www.overvillage.co.uk/WP/event/mustard-seed-community-cafe-at-st-marys-church-hall-2/2027-04-01/
LOCATION:St Marys Church\, Church End\, Over\, Cambridgeshire\, CB24 5NH\, United Kingdom
ATTACH;FMTTYPE=image/jpeg:https://www.overvillage.co.uk/WP/wp-content/uploads/2024/02/thomas-bormans-sMkSzzNwCbo-unsplash-scaled.jpg
END:VEVENT
BEGIN:VEVENT
DTSTART;VALUE=DATE:20270402
DTEND;VALUE=DATE:20270403
DTSTAMP:20260425T154340
CREATED:20260130T123512Z
LAST-MODIFIED:20260130T123512Z
UID:10007757-1806624000-1806710399@www.overvillage.co.uk
SUMMARY:Blue/Green bin collection
DESCRIPTION:
URL:https://www.overvillage.co.uk/WP/event/blue-green-bin-collection-2/2027-04-02/
LOCATION:kerbside
ATTACH;FMTTYPE=image/jpeg:https://www.overvillage.co.uk/WP/wp-content/uploads/2023/09/recycling-bins-vector-909606.jpg
END:VEVENT
BEGIN:VEVENT
DTSTART;TZID=UTC:20270402T091500
DTEND;TZID=UTC:20270402T101500
DTSTAMP:20260425T154340
CREATED:20231205T140031Z
LAST-MODIFIED:20260406T184147Z
UID:10000871-1806657300-1806660900@www.overvillage.co.uk
SUMMARY:Dancing and Parachute Play
DESCRIPTION:Fridays 0915 to 1015 at Over Methodist Church.  Cost £5 for one child plus £1 for each additional charge. Term time only.
URL:https://www.overvillage.co.uk/WP/event/dancing-and-parachute-play/2027-04-02/
LOCATION:Methodist Church Over\, The Lanes\, Over\, Cambridgeshire\, CB24 5NQ\, United Kingdom
ATTACH;FMTTYPE=image/jpeg:https://www.overvillage.co.uk/WP/wp-content/uploads/2023/12/artem-kniaz-DqgMHzeio7g-unsplash-scaled.jpg
ORGANIZER;CN="Sharon Stevens":MAILTO:parafun@hotmail.co.uk
END:VEVENT
END:VCALENDAR