BEGIN:VCALENDAR
VERSION:2.0
PRODID:-//Over Village News - ECPv6.15.20//NONSGML v1.0//EN
CALSCALE:GREGORIAN
METHOD:PUBLISH
X-ORIGINAL-URL:https://www.overvillage.co.uk/WP
X-WR-CALDESC:Events for Over Village News
REFRESH-INTERVAL;VALUE=DURATION:PT1H
X-Robots-Tag:noindex
X-PUBLISHED-TTL:PT1H
BEGIN:VTIMEZONE
TZID:UTC
BEGIN:STANDARD
TZOFFSETFROM:+0000
TZOFFSETTO:+0000
TZNAME:UTC
DTSTART:20260101T000000
END:STANDARD
END:VTIMEZONE
BEGIN:VEVENT
DTSTART;TZID=UTC:20270625T093000
DTEND;TZID=UTC:20270625T113000
DTSTAMP:20260425T211032
CREATED:20250528T083724Z
LAST-MODIFIED:20250528T083724Z
UID:10002000-1813915800-1813923000@www.overvillage.co.uk
SUMMARY:Needle Craft Group
DESCRIPTION:Do you enjoy textile hobbies?\nAre you available on Friday mornings?\nWhether you’re an embroiderer\, crocheter\, knitter\, patchworker …….any form of textile artist or crafter really\, and whatever level of skill you have\, you’d be most welcome to join us in Over Community Centre on Friday mornings from 9.30.\nOur aim to get together to socialise through our hobbies\, hopefully inspiring and helping each other to learn new skills.\nWe meet in the lounge and support the centre by buying our drinks  from the café.
URL:https://www.overvillage.co.uk/WP/event/fibre-craft-group-2/2027-06-25/
LOCATION:Over Community Centre\, 16 The Doles\, Over\,\, Cambridgeshire\, CB24 5NW\, United Kingdom
ATTACH;FMTTYPE=image/jpeg:https://www.overvillage.co.uk/WP/wp-content/uploads/2024/05/barbara-krysztofiak-PCBcjIYOgSs-unsplash.jpg
END:VEVENT
BEGIN:VEVENT
DTSTART;TZID=UTC:20270628T093000
DTEND;TZID=UTC:20270628T123000
DTSTAMP:20260425T211032
CREATED:20251218T164913Z
LAST-MODIFIED:20260102T095223Z
UID:10006726-1814175000-1814185800@www.overvillage.co.uk
SUMMARY:Post Office - Over Mobile Service - see below for info
DESCRIPTION:The mobile Post Office service will be open on the following days and venues. \nThere may be changes to the schedule so please check the Post Office’s web site for updates. \nOver Community Centre: \nMonday 09:30 – 12:30 \nWednesday 09:30 – 12:30 \nThursday 09:30 – 12:30 \nFriday 15:00 – 16:00 \nElm Court: \nTuesday 09:30 – 12:30 \n  \n 
URL:https://www.overvillage.co.uk/WP/event/post-office-over-mobile-service-5-2-2/2027-06-28/
LOCATION:Over Community Centre\, 16 The Doles\, Over\,\, Cambridgeshire\, CB24 5NW\, United Kingdom
ATTACH;FMTTYPE=image/jpeg:https://www.overvillage.co.uk/WP/wp-content/uploads/2024/08/Royal-Mail-post-office-scaled-1.jpg
END:VEVENT
BEGIN:VEVENT
DTSTART;TZID=UTC:20270629T161500
DTEND;TZID=UTC:20270803T181500
DTSTAMP:20260425T211032
CREATED:20260311T092850Z
LAST-MODIFIED:20260311T170230Z
UID:10007934-1814285700-1817316900@www.overvillage.co.uk
SUMMARY:Netball Club for Juniors
DESCRIPTION:Tuesday netball club for juniors with GK Fit  \n\nFun and inclusive weekly netball for girls and boys in Years 4-9\n\nEvery Tuesday from 14 April at Swavesey VC\n4.15: Year 4\, 5 & 6’s\n\n5.15: Year 7\, 8 & 9’s\n\nCost: £6.25 per session\, £5 for siblings\n\n\nBook at: gkfit.co.uk/netball
URL:https://www.overvillage.co.uk/WP/event/netball-club-for-juniors/2027-06-29/
LOCATION:Swavesey Village College\, Swavesey Village College\, Swavesey\, Cambridgeshire\, United Kingdom
ATTACH;FMTTYPE=image/jpeg:https://www.overvillage.co.uk/WP/wp-content/uploads/2026/03/GK-Fit-netball-SVC-scaled.jpg
END:VEVENT
BEGIN:VEVENT
DTSTART;TZID=UTC:20270630T091500
DTEND;TZID=UTC:20270630T103000
DTSTAMP:20260425T211032
CREATED:20251022T143930Z
LAST-MODIFIED:20260406T184001Z
UID:10000625-1814346900-1814351400@www.overvillage.co.uk
SUMMARY:Clap and Sing
DESCRIPTION:Sessions run every Wednesday between 0915 and 1030 at the Methodist Hall.  £5 for one child plus £1 for each additional child. Term time only.
URL:https://www.overvillage.co.uk/WP/event/clap-and-sing-2/2027-06-30/
LOCATION:Methodist Church Over\, The Lanes\, Over\, Cambridgeshire\, CB24 5NQ\, United Kingdom
ATTACH;FMTTYPE=image/jpeg:https://www.overvillage.co.uk/WP/wp-content/uploads/2023/12/sketch-crowd-little-people-with-flying-notes-illustration_156892-671.jpg
ORGANIZER;CN="Sharon Stevens":MAILTO:parafun@hotmail.co.uk
END:VEVENT
BEGIN:VEVENT
DTSTART;TZID=UTC:20270701T100000
DTEND;TZID=UTC:20270701T120000
DTSTAMP:20260425T211032
CREATED:20241023T112032Z
LAST-MODIFIED:20241213T080103Z
UID:10001150-1814436000-1814443200@www.overvillage.co.uk
SUMMARY:Mustard Seed Community Cafe at St Mary's Church Hall
DESCRIPTION:Join us for a warm welcome\, fresh coffee\, tea and delicious home-baked treats! \nWe provide free squash or milk for children and a play area with toys. \nSt Mary’s Church Hall\, Over
URL:https://www.overvillage.co.uk/WP/event/mustard-seed-community-cafe-at-st-marys-church-hall-2/2027-07-01/
LOCATION:St Marys Church\, Church End\, Over\, Cambridgeshire\, CB24 5NH\, United Kingdom
ATTACH;FMTTYPE=image/jpeg:https://www.overvillage.co.uk/WP/wp-content/uploads/2024/02/thomas-bormans-sMkSzzNwCbo-unsplash-scaled.jpg
END:VEVENT
BEGIN:VEVENT
DTSTART;VALUE=DATE:20270702
DTEND;VALUE=DATE:20270703
DTSTAMP:20260425T211032
CREATED:20260130T123650Z
LAST-MODIFIED:20260130T123650Z
UID:10007573-1814486400-1814572799@www.overvillage.co.uk
SUMMARY:Black Bin Collection
DESCRIPTION:Please leave your bins out the night before or early morning
URL:https://www.overvillage.co.uk/WP/event/black-bin-collection-2-2/2027-07-02/
LOCATION:kerbside
ATTACH;FMTTYPE=image/png:https://www.overvillage.co.uk/WP/wp-content/uploads/2023/09/Monthly-Collection-300x300-1.png
END:VEVENT
BEGIN:VEVENT
DTSTART;TZID=UTC:20270702T091500
DTEND;TZID=UTC:20270702T101500
DTSTAMP:20260425T211032
CREATED:20231205T140031Z
LAST-MODIFIED:20260406T184147Z
UID:10000884-1814519700-1814523300@www.overvillage.co.uk
SUMMARY:Dancing and Parachute Play
DESCRIPTION:Fridays 0915 to 1015 at Over Methodist Church.  Cost £5 for one child plus £1 for each additional charge. Term time only.
URL:https://www.overvillage.co.uk/WP/event/dancing-and-parachute-play/2027-07-02/
LOCATION:Methodist Church Over\, The Lanes\, Over\, Cambridgeshire\, CB24 5NQ\, United Kingdom
ATTACH;FMTTYPE=image/jpeg:https://www.overvillage.co.uk/WP/wp-content/uploads/2023/12/artem-kniaz-DqgMHzeio7g-unsplash-scaled.jpg
ORGANIZER;CN="Sharon Stevens":MAILTO:parafun@hotmail.co.uk
END:VEVENT
BEGIN:VEVENT
DTSTART;TZID=UTC:20270702T093000
DTEND;TZID=UTC:20270702T113000
DTSTAMP:20260425T211032
CREATED:20250528T083724Z
LAST-MODIFIED:20250528T083724Z
UID:10002001-1814520600-1814527800@www.overvillage.co.uk
SUMMARY:Needle Craft Group
DESCRIPTION:Do you enjoy textile hobbies?\nAre you available on Friday mornings?\nWhether you’re an embroiderer\, crocheter\, knitter\, patchworker …….any form of textile artist or crafter really\, and whatever level of skill you have\, you’d be most welcome to join us in Over Community Centre on Friday mornings from 9.30.\nOur aim to get together to socialise through our hobbies\, hopefully inspiring and helping each other to learn new skills.\nWe meet in the lounge and support the centre by buying our drinks  from the café.
URL:https://www.overvillage.co.uk/WP/event/fibre-craft-group-2/2027-07-02/
LOCATION:Over Community Centre\, 16 The Doles\, Over\,\, Cambridgeshire\, CB24 5NW\, United Kingdom
ATTACH;FMTTYPE=image/jpeg:https://www.overvillage.co.uk/WP/wp-content/uploads/2024/05/barbara-krysztofiak-PCBcjIYOgSs-unsplash.jpg
END:VEVENT
BEGIN:VEVENT
DTSTART;TZID=UTC:20270705T093000
DTEND;TZID=UTC:20270705T123000
DTSTAMP:20260425T211032
CREATED:20251218T164913Z
LAST-MODIFIED:20260102T095223Z
UID:10006727-1814779800-1814790600@www.overvillage.co.uk
SUMMARY:Post Office - Over Mobile Service - see below for info
DESCRIPTION:The mobile Post Office service will be open on the following days and venues. \nThere may be changes to the schedule so please check the Post Office’s web site for updates. \nOver Community Centre: \nMonday 09:30 – 12:30 \nWednesday 09:30 – 12:30 \nThursday 09:30 – 12:30 \nFriday 15:00 – 16:00 \nElm Court: \nTuesday 09:30 – 12:30 \n  \n 
URL:https://www.overvillage.co.uk/WP/event/post-office-over-mobile-service-5-2-2/2027-07-05/
LOCATION:Over Community Centre\, 16 The Doles\, Over\,\, Cambridgeshire\, CB24 5NW\, United Kingdom
ATTACH;FMTTYPE=image/jpeg:https://www.overvillage.co.uk/WP/wp-content/uploads/2024/08/Royal-Mail-post-office-scaled-1.jpg
END:VEVENT
BEGIN:VEVENT
DTSTART;TZID=UTC:20270706T161500
DTEND;TZID=UTC:20270810T181500
DTSTAMP:20260425T211032
CREATED:20260311T092850Z
LAST-MODIFIED:20260311T170230Z
UID:10007935-1814890500-1817921700@www.overvillage.co.uk
SUMMARY:Netball Club for Juniors
DESCRIPTION:Tuesday netball club for juniors with GK Fit  \n\nFun and inclusive weekly netball for girls and boys in Years 4-9\n\nEvery Tuesday from 14 April at Swavesey VC\n4.15: Year 4\, 5 & 6’s\n\n5.15: Year 7\, 8 & 9’s\n\nCost: £6.25 per session\, £5 for siblings\n\n\nBook at: gkfit.co.uk/netball
URL:https://www.overvillage.co.uk/WP/event/netball-club-for-juniors/2027-07-06/
LOCATION:Swavesey Village College\, Swavesey Village College\, Swavesey\, Cambridgeshire\, United Kingdom
ATTACH;FMTTYPE=image/jpeg:https://www.overvillage.co.uk/WP/wp-content/uploads/2026/03/GK-Fit-netball-SVC-scaled.jpg
END:VEVENT
BEGIN:VEVENT
DTSTART;TZID=UTC:20270707T091500
DTEND;TZID=UTC:20270707T103000
DTSTAMP:20260425T211032
CREATED:20251022T143930Z
LAST-MODIFIED:20260406T184001Z
UID:10000626-1814951700-1814956200@www.overvillage.co.uk
SUMMARY:Clap and Sing
DESCRIPTION:Sessions run every Wednesday between 0915 and 1030 at the Methodist Hall.  £5 for one child plus £1 for each additional child. Term time only.
URL:https://www.overvillage.co.uk/WP/event/clap-and-sing-2/2027-07-07/
LOCATION:Methodist Church Over\, The Lanes\, Over\, Cambridgeshire\, CB24 5NQ\, United Kingdom
ATTACH;FMTTYPE=image/jpeg:https://www.overvillage.co.uk/WP/wp-content/uploads/2023/12/sketch-crowd-little-people-with-flying-notes-illustration_156892-671.jpg
ORGANIZER;CN="Sharon Stevens":MAILTO:parafun@hotmail.co.uk
END:VEVENT
BEGIN:VEVENT
DTSTART;TZID=UTC:20270708T100000
DTEND;TZID=UTC:20270708T120000
DTSTAMP:20260425T211032
CREATED:20241023T112032Z
LAST-MODIFIED:20241213T080103Z
UID:10001151-1815040800-1815048000@www.overvillage.co.uk
SUMMARY:Mustard Seed Community Cafe at St Mary's Church Hall
DESCRIPTION:Join us for a warm welcome\, fresh coffee\, tea and delicious home-baked treats! \nWe provide free squash or milk for children and a play area with toys. \nSt Mary’s Church Hall\, Over
URL:https://www.overvillage.co.uk/WP/event/mustard-seed-community-cafe-at-st-marys-church-hall-2/2027-07-08/
LOCATION:St Marys Church\, Church End\, Over\, Cambridgeshire\, CB24 5NH\, United Kingdom
ATTACH;FMTTYPE=image/jpeg:https://www.overvillage.co.uk/WP/wp-content/uploads/2024/02/thomas-bormans-sMkSzzNwCbo-unsplash-scaled.jpg
END:VEVENT
BEGIN:VEVENT
DTSTART;VALUE=DATE:20270709
DTEND;VALUE=DATE:20270710
DTSTAMP:20260425T211032
CREATED:20260130T123512Z
LAST-MODIFIED:20260130T123512Z
UID:10007764-1815091200-1815177599@www.overvillage.co.uk
SUMMARY:Blue/Green bin collection
DESCRIPTION:
URL:https://www.overvillage.co.uk/WP/event/blue-green-bin-collection-2/2027-07-09/
LOCATION:kerbside
ATTACH;FMTTYPE=image/jpeg:https://www.overvillage.co.uk/WP/wp-content/uploads/2023/09/recycling-bins-vector-909606.jpg
END:VEVENT
BEGIN:VEVENT
DTSTART;TZID=UTC:20270709T091500
DTEND;TZID=UTC:20270709T101500
DTSTAMP:20260425T211032
CREATED:20231205T140031Z
LAST-MODIFIED:20260406T184147Z
UID:10000885-1815124500-1815128100@www.overvillage.co.uk
SUMMARY:Dancing and Parachute Play
DESCRIPTION:Fridays 0915 to 1015 at Over Methodist Church.  Cost £5 for one child plus £1 for each additional charge. Term time only.
URL:https://www.overvillage.co.uk/WP/event/dancing-and-parachute-play/2027-07-09/
LOCATION:Methodist Church Over\, The Lanes\, Over\, Cambridgeshire\, CB24 5NQ\, United Kingdom
ATTACH;FMTTYPE=image/jpeg:https://www.overvillage.co.uk/WP/wp-content/uploads/2023/12/artem-kniaz-DqgMHzeio7g-unsplash-scaled.jpg
ORGANIZER;CN="Sharon Stevens":MAILTO:parafun@hotmail.co.uk
END:VEVENT
BEGIN:VEVENT
DTSTART;TZID=UTC:20270709T093000
DTEND;TZID=UTC:20270709T113000
DTSTAMP:20260425T211032
CREATED:20250528T083724Z
LAST-MODIFIED:20250528T083724Z
UID:10002002-1815125400-1815132600@www.overvillage.co.uk
SUMMARY:Needle Craft Group
DESCRIPTION:Do you enjoy textile hobbies?\nAre you available on Friday mornings?\nWhether you’re an embroiderer\, crocheter\, knitter\, patchworker …….any form of textile artist or crafter really\, and whatever level of skill you have\, you’d be most welcome to join us in Over Community Centre on Friday mornings from 9.30.\nOur aim to get together to socialise through our hobbies\, hopefully inspiring and helping each other to learn new skills.\nWe meet in the lounge and support the centre by buying our drinks  from the café.
URL:https://www.overvillage.co.uk/WP/event/fibre-craft-group-2/2027-07-09/
LOCATION:Over Community Centre\, 16 The Doles\, Over\,\, Cambridgeshire\, CB24 5NW\, United Kingdom
ATTACH;FMTTYPE=image/jpeg:https://www.overvillage.co.uk/WP/wp-content/uploads/2024/05/barbara-krysztofiak-PCBcjIYOgSs-unsplash.jpg
END:VEVENT
BEGIN:VEVENT
DTSTART;TZID=UTC:20270712T093000
DTEND;TZID=UTC:20270712T123000
DTSTAMP:20260425T211032
CREATED:20251218T164913Z
LAST-MODIFIED:20260102T095223Z
UID:10006728-1815384600-1815395400@www.overvillage.co.uk
SUMMARY:Post Office - Over Mobile Service - see below for info
DESCRIPTION:The mobile Post Office service will be open on the following days and venues. \nThere may be changes to the schedule so please check the Post Office’s web site for updates. \nOver Community Centre: \nMonday 09:30 – 12:30 \nWednesday 09:30 – 12:30 \nThursday 09:30 – 12:30 \nFriday 15:00 – 16:00 \nElm Court: \nTuesday 09:30 – 12:30 \n  \n 
URL:https://www.overvillage.co.uk/WP/event/post-office-over-mobile-service-5-2-2/2027-07-12/
LOCATION:Over Community Centre\, 16 The Doles\, Over\,\, Cambridgeshire\, CB24 5NW\, United Kingdom
ATTACH;FMTTYPE=image/jpeg:https://www.overvillage.co.uk/WP/wp-content/uploads/2024/08/Royal-Mail-post-office-scaled-1.jpg
END:VEVENT
BEGIN:VEVENT
DTSTART;TZID=UTC:20270713T161500
DTEND;TZID=UTC:20270817T181500
DTSTAMP:20260425T211032
CREATED:20260311T092850Z
LAST-MODIFIED:20260311T170230Z
UID:10007936-1815495300-1818526500@www.overvillage.co.uk
SUMMARY:Netball Club for Juniors
DESCRIPTION:Tuesday netball club for juniors with GK Fit  \n\nFun and inclusive weekly netball for girls and boys in Years 4-9\n\nEvery Tuesday from 14 April at Swavesey VC\n4.15: Year 4\, 5 & 6’s\n\n5.15: Year 7\, 8 & 9’s\n\nCost: £6.25 per session\, £5 for siblings\n\n\nBook at: gkfit.co.uk/netball
URL:https://www.overvillage.co.uk/WP/event/netball-club-for-juniors/2027-07-13/
LOCATION:Swavesey Village College\, Swavesey Village College\, Swavesey\, Cambridgeshire\, United Kingdom
ATTACH;FMTTYPE=image/jpeg:https://www.overvillage.co.uk/WP/wp-content/uploads/2026/03/GK-Fit-netball-SVC-scaled.jpg
END:VEVENT
BEGIN:VEVENT
DTSTART;TZID=UTC:20270714T091500
DTEND;TZID=UTC:20270714T103000
DTSTAMP:20260425T211032
CREATED:20251022T143930Z
LAST-MODIFIED:20260406T184001Z
UID:10000627-1815556500-1815561000@www.overvillage.co.uk
SUMMARY:Clap and Sing
DESCRIPTION:Sessions run every Wednesday between 0915 and 1030 at the Methodist Hall.  £5 for one child plus £1 for each additional child. Term time only.
URL:https://www.overvillage.co.uk/WP/event/clap-and-sing-2/2027-07-14/
LOCATION:Methodist Church Over\, The Lanes\, Over\, Cambridgeshire\, CB24 5NQ\, United Kingdom
ATTACH;FMTTYPE=image/jpeg:https://www.overvillage.co.uk/WP/wp-content/uploads/2023/12/sketch-crowd-little-people-with-flying-notes-illustration_156892-671.jpg
ORGANIZER;CN="Sharon Stevens":MAILTO:parafun@hotmail.co.uk
END:VEVENT
BEGIN:VEVENT
DTSTART;TZID=UTC:20270715T100000
DTEND;TZID=UTC:20270715T120000
DTSTAMP:20260425T211032
CREATED:20241023T112032Z
LAST-MODIFIED:20241213T080103Z
UID:10001152-1815645600-1815652800@www.overvillage.co.uk
SUMMARY:Mustard Seed Community Cafe at St Mary's Church Hall
DESCRIPTION:Join us for a warm welcome\, fresh coffee\, tea and delicious home-baked treats! \nWe provide free squash or milk for children and a play area with toys. \nSt Mary’s Church Hall\, Over
URL:https://www.overvillage.co.uk/WP/event/mustard-seed-community-cafe-at-st-marys-church-hall-2/2027-07-15/
LOCATION:St Marys Church\, Church End\, Over\, Cambridgeshire\, CB24 5NH\, United Kingdom
ATTACH;FMTTYPE=image/jpeg:https://www.overvillage.co.uk/WP/wp-content/uploads/2024/02/thomas-bormans-sMkSzzNwCbo-unsplash-scaled.jpg
END:VEVENT
BEGIN:VEVENT
DTSTART;VALUE=DATE:20270716
DTEND;VALUE=DATE:20270717
DTSTAMP:20260425T211032
CREATED:20260130T123650Z
LAST-MODIFIED:20260130T123650Z
UID:10007574-1815696000-1815782399@www.overvillage.co.uk
SUMMARY:Black Bin Collection
DESCRIPTION:Please leave your bins out the night before or early morning
URL:https://www.overvillage.co.uk/WP/event/black-bin-collection-2-2/2027-07-16/
LOCATION:kerbside
ATTACH;FMTTYPE=image/png:https://www.overvillage.co.uk/WP/wp-content/uploads/2023/09/Monthly-Collection-300x300-1.png
END:VEVENT
BEGIN:VEVENT
DTSTART;TZID=UTC:20270716T091500
DTEND;TZID=UTC:20270716T101500
DTSTAMP:20260425T211032
CREATED:20231205T140031Z
LAST-MODIFIED:20260406T184147Z
UID:10000886-1815729300-1815732900@www.overvillage.co.uk
SUMMARY:Dancing and Parachute Play
DESCRIPTION:Fridays 0915 to 1015 at Over Methodist Church.  Cost £5 for one child plus £1 for each additional charge. Term time only.
URL:https://www.overvillage.co.uk/WP/event/dancing-and-parachute-play/2027-07-16/
LOCATION:Methodist Church Over\, The Lanes\, Over\, Cambridgeshire\, CB24 5NQ\, United Kingdom
ATTACH;FMTTYPE=image/jpeg:https://www.overvillage.co.uk/WP/wp-content/uploads/2023/12/artem-kniaz-DqgMHzeio7g-unsplash-scaled.jpg
ORGANIZER;CN="Sharon Stevens":MAILTO:parafun@hotmail.co.uk
END:VEVENT
BEGIN:VEVENT
DTSTART;TZID=UTC:20270716T093000
DTEND;TZID=UTC:20270716T113000
DTSTAMP:20260425T211032
CREATED:20250528T083724Z
LAST-MODIFIED:20250528T083724Z
UID:10002003-1815730200-1815737400@www.overvillage.co.uk
SUMMARY:Needle Craft Group
DESCRIPTION:Do you enjoy textile hobbies?\nAre you available on Friday mornings?\nWhether you’re an embroiderer\, crocheter\, knitter\, patchworker …….any form of textile artist or crafter really\, and whatever level of skill you have\, you’d be most welcome to join us in Over Community Centre on Friday mornings from 9.30.\nOur aim to get together to socialise through our hobbies\, hopefully inspiring and helping each other to learn new skills.\nWe meet in the lounge and support the centre by buying our drinks  from the café.
URL:https://www.overvillage.co.uk/WP/event/fibre-craft-group-2/2027-07-16/
LOCATION:Over Community Centre\, 16 The Doles\, Over\,\, Cambridgeshire\, CB24 5NW\, United Kingdom
ATTACH;FMTTYPE=image/jpeg:https://www.overvillage.co.uk/WP/wp-content/uploads/2024/05/barbara-krysztofiak-PCBcjIYOgSs-unsplash.jpg
END:VEVENT
BEGIN:VEVENT
DTSTART;TZID=UTC:20270719T093000
DTEND;TZID=UTC:20270719T123000
DTSTAMP:20260425T211032
CREATED:20251218T164913Z
LAST-MODIFIED:20260102T095223Z
UID:10006729-1815989400-1816000200@www.overvillage.co.uk
SUMMARY:Post Office - Over Mobile Service - see below for info
DESCRIPTION:The mobile Post Office service will be open on the following days and venues. \nThere may be changes to the schedule so please check the Post Office’s web site for updates. \nOver Community Centre: \nMonday 09:30 – 12:30 \nWednesday 09:30 – 12:30 \nThursday 09:30 – 12:30 \nFriday 15:00 – 16:00 \nElm Court: \nTuesday 09:30 – 12:30 \n  \n 
URL:https://www.overvillage.co.uk/WP/event/post-office-over-mobile-service-5-2-2/2027-07-19/
LOCATION:Over Community Centre\, 16 The Doles\, Over\,\, Cambridgeshire\, CB24 5NW\, United Kingdom
ATTACH;FMTTYPE=image/jpeg:https://www.overvillage.co.uk/WP/wp-content/uploads/2024/08/Royal-Mail-post-office-scaled-1.jpg
END:VEVENT
BEGIN:VEVENT
DTSTART;TZID=UTC:20270720T161500
DTEND;TZID=UTC:20270824T181500
DTSTAMP:20260425T211032
CREATED:20260311T092850Z
LAST-MODIFIED:20260311T170230Z
UID:10007937-1816100100-1819131300@www.overvillage.co.uk
SUMMARY:Netball Club for Juniors
DESCRIPTION:Tuesday netball club for juniors with GK Fit  \n\nFun and inclusive weekly netball for girls and boys in Years 4-9\n\nEvery Tuesday from 14 April at Swavesey VC\n4.15: Year 4\, 5 & 6’s\n\n5.15: Year 7\, 8 & 9’s\n\nCost: £6.25 per session\, £5 for siblings\n\n\nBook at: gkfit.co.uk/netball
URL:https://www.overvillage.co.uk/WP/event/netball-club-for-juniors/2027-07-20/
LOCATION:Swavesey Village College\, Swavesey Village College\, Swavesey\, Cambridgeshire\, United Kingdom
ATTACH;FMTTYPE=image/jpeg:https://www.overvillage.co.uk/WP/wp-content/uploads/2026/03/GK-Fit-netball-SVC-scaled.jpg
END:VEVENT
BEGIN:VEVENT
DTSTART;TZID=UTC:20270721T091500
DTEND;TZID=UTC:20270721T103000
DTSTAMP:20260425T211032
CREATED:20251022T143930Z
LAST-MODIFIED:20260406T184001Z
UID:10000628-1816161300-1816165800@www.overvillage.co.uk
SUMMARY:Clap and Sing
DESCRIPTION:Sessions run every Wednesday between 0915 and 1030 at the Methodist Hall.  £5 for one child plus £1 for each additional child. Term time only.
URL:https://www.overvillage.co.uk/WP/event/clap-and-sing-2/2027-07-21/
LOCATION:Methodist Church Over\, The Lanes\, Over\, Cambridgeshire\, CB24 5NQ\, United Kingdom
ATTACH;FMTTYPE=image/jpeg:https://www.overvillage.co.uk/WP/wp-content/uploads/2023/12/sketch-crowd-little-people-with-flying-notes-illustration_156892-671.jpg
ORGANIZER;CN="Sharon Stevens":MAILTO:parafun@hotmail.co.uk
END:VEVENT
BEGIN:VEVENT
DTSTART;TZID=UTC:20270722T100000
DTEND;TZID=UTC:20270722T120000
DTSTAMP:20260425T211032
CREATED:20241023T112032Z
LAST-MODIFIED:20241213T080103Z
UID:10001153-1816250400-1816257600@www.overvillage.co.uk
SUMMARY:Mustard Seed Community Cafe at St Mary's Church Hall
DESCRIPTION:Join us for a warm welcome\, fresh coffee\, tea and delicious home-baked treats! \nWe provide free squash or milk for children and a play area with toys. \nSt Mary’s Church Hall\, Over
URL:https://www.overvillage.co.uk/WP/event/mustard-seed-community-cafe-at-st-marys-church-hall-2/2027-07-22/
LOCATION:St Marys Church\, Church End\, Over\, Cambridgeshire\, CB24 5NH\, United Kingdom
ATTACH;FMTTYPE=image/jpeg:https://www.overvillage.co.uk/WP/wp-content/uploads/2024/02/thomas-bormans-sMkSzzNwCbo-unsplash-scaled.jpg
END:VEVENT
BEGIN:VEVENT
DTSTART;VALUE=DATE:20270723
DTEND;VALUE=DATE:20270724
DTSTAMP:20260425T211032
CREATED:20260130T123512Z
LAST-MODIFIED:20260130T123512Z
UID:10007765-1816300800-1816387199@www.overvillage.co.uk
SUMMARY:Blue/Green bin collection
DESCRIPTION:
URL:https://www.overvillage.co.uk/WP/event/blue-green-bin-collection-2/2027-07-23/
LOCATION:kerbside
ATTACH;FMTTYPE=image/jpeg:https://www.overvillage.co.uk/WP/wp-content/uploads/2023/09/recycling-bins-vector-909606.jpg
END:VEVENT
BEGIN:VEVENT
DTSTART;TZID=UTC:20270723T091500
DTEND;TZID=UTC:20270723T101500
DTSTAMP:20260425T211032
CREATED:20231205T140031Z
LAST-MODIFIED:20260406T184147Z
UID:10000887-1816334100-1816337700@www.overvillage.co.uk
SUMMARY:Dancing and Parachute Play
DESCRIPTION:Fridays 0915 to 1015 at Over Methodist Church.  Cost £5 for one child plus £1 for each additional charge. Term time only.
URL:https://www.overvillage.co.uk/WP/event/dancing-and-parachute-play/2027-07-23/
LOCATION:Methodist Church Over\, The Lanes\, Over\, Cambridgeshire\, CB24 5NQ\, United Kingdom
ATTACH;FMTTYPE=image/jpeg:https://www.overvillage.co.uk/WP/wp-content/uploads/2023/12/artem-kniaz-DqgMHzeio7g-unsplash-scaled.jpg
ORGANIZER;CN="Sharon Stevens":MAILTO:parafun@hotmail.co.uk
END:VEVENT
BEGIN:VEVENT
DTSTART;TZID=UTC:20270723T093000
DTEND;TZID=UTC:20270723T113000
DTSTAMP:20260425T211032
CREATED:20250528T083724Z
LAST-MODIFIED:20250528T083724Z
UID:10002004-1816335000-1816342200@www.overvillage.co.uk
SUMMARY:Needle Craft Group
DESCRIPTION:Do you enjoy textile hobbies?\nAre you available on Friday mornings?\nWhether you’re an embroiderer\, crocheter\, knitter\, patchworker …….any form of textile artist or crafter really\, and whatever level of skill you have\, you’d be most welcome to join us in Over Community Centre on Friday mornings from 9.30.\nOur aim to get together to socialise through our hobbies\, hopefully inspiring and helping each other to learn new skills.\nWe meet in the lounge and support the centre by buying our drinks  from the café.
URL:https://www.overvillage.co.uk/WP/event/fibre-craft-group-2/2027-07-23/
LOCATION:Over Community Centre\, 16 The Doles\, Over\,\, Cambridgeshire\, CB24 5NW\, United Kingdom
ATTACH;FMTTYPE=image/jpeg:https://www.overvillage.co.uk/WP/wp-content/uploads/2024/05/barbara-krysztofiak-PCBcjIYOgSs-unsplash.jpg
END:VEVENT
BEGIN:VEVENT
DTSTART;TZID=UTC:20270726T093000
DTEND;TZID=UTC:20270726T123000
DTSTAMP:20260425T211032
CREATED:20251218T164913Z
LAST-MODIFIED:20260102T095223Z
UID:10006730-1816594200-1816605000@www.overvillage.co.uk
SUMMARY:Post Office - Over Mobile Service - see below for info
DESCRIPTION:The mobile Post Office service will be open on the following days and venues. \nThere may be changes to the schedule so please check the Post Office’s web site for updates. \nOver Community Centre: \nMonday 09:30 – 12:30 \nWednesday 09:30 – 12:30 \nThursday 09:30 – 12:30 \nFriday 15:00 – 16:00 \nElm Court: \nTuesday 09:30 – 12:30 \n  \n 
URL:https://www.overvillage.co.uk/WP/event/post-office-over-mobile-service-5-2-2/2027-07-26/
LOCATION:Over Community Centre\, 16 The Doles\, Over\,\, Cambridgeshire\, CB24 5NW\, United Kingdom
ATTACH;FMTTYPE=image/jpeg:https://www.overvillage.co.uk/WP/wp-content/uploads/2024/08/Royal-Mail-post-office-scaled-1.jpg
END:VEVENT
END:VCALENDAR