BEGIN:VCALENDAR
VERSION:2.0
PRODID:-//Over Village News - ECPv6.15.20//NONSGML v1.0//EN
CALSCALE:GREGORIAN
METHOD:PUBLISH
X-ORIGINAL-URL:https://www.overvillage.co.uk/WP
X-WR-CALDESC:Events for Over Village News
REFRESH-INTERVAL;VALUE=DURATION:PT1H
X-Robots-Tag:noindex
X-PUBLISHED-TTL:PT1H
BEGIN:VTIMEZONE
TZID:UTC
BEGIN:STANDARD
TZOFFSETFROM:+0000
TZOFFSETTO:+0000
TZNAME:UTC
DTSTART:20250101T000000
END:STANDARD
END:VTIMEZONE
BEGIN:VEVENT
DTSTART;TZID=UTC:20260428T161500
DTEND;TZID=UTC:20260602T181500
DTSTAMP:20260421T032358
CREATED:20260311T092850Z
LAST-MODIFIED:20260311T170230Z
UID:10007873-1777392900-1780424100@www.overvillage.co.uk
SUMMARY:Netball Club for Juniors
DESCRIPTION:Tuesday netball club for juniors with GK Fit  \n\nFun and inclusive weekly netball for girls and boys in Years 4-9\n\nEvery Tuesday from 14 April at Swavesey VC\n4.15: Year 4\, 5 & 6’s\n\n5.15: Year 7\, 8 & 9’s\n\nCost: £6.25 per session\, £5 for siblings\n\n\nBook at: gkfit.co.uk/netball
URL:https://www.overvillage.co.uk/WP/event/netball-club-for-juniors/2026-04-28/
LOCATION:Swavesey Village College\, Swavesey Village College\, Swavesey\, Cambridgeshire\, United Kingdom
ATTACH;FMTTYPE=image/jpeg:https://www.overvillage.co.uk/WP/wp-content/uploads/2026/03/GK-Fit-netball-SVC-scaled.jpg
END:VEVENT
BEGIN:VEVENT
DTSTART;TZID=UTC:20260505T161500
DTEND;TZID=UTC:20260609T181500
DTSTAMP:20260421T032358
CREATED:20260311T092850Z
LAST-MODIFIED:20260311T170230Z
UID:10007874-1777997700-1781028900@www.overvillage.co.uk
SUMMARY:Netball Club for Juniors
DESCRIPTION:Tuesday netball club for juniors with GK Fit  \n\nFun and inclusive weekly netball for girls and boys in Years 4-9\n\nEvery Tuesday from 14 April at Swavesey VC\n4.15: Year 4\, 5 & 6’s\n\n5.15: Year 7\, 8 & 9’s\n\nCost: £6.25 per session\, £5 for siblings\n\n\nBook at: gkfit.co.uk/netball
URL:https://www.overvillage.co.uk/WP/event/netball-club-for-juniors/2026-05-05/
LOCATION:Swavesey Village College\, Swavesey Village College\, Swavesey\, Cambridgeshire\, United Kingdom
ATTACH;FMTTYPE=image/jpeg:https://www.overvillage.co.uk/WP/wp-content/uploads/2026/03/GK-Fit-netball-SVC-scaled.jpg
END:VEVENT
BEGIN:VEVENT
DTSTART;TZID=UTC:20260512T161500
DTEND;TZID=UTC:20260616T181500
DTSTAMP:20260421T032358
CREATED:20260311T092850Z
LAST-MODIFIED:20260311T170230Z
UID:10007875-1778602500-1781633700@www.overvillage.co.uk
SUMMARY:Netball Club for Juniors
DESCRIPTION:Tuesday netball club for juniors with GK Fit  \n\nFun and inclusive weekly netball for girls and boys in Years 4-9\n\nEvery Tuesday from 14 April at Swavesey VC\n4.15: Year 4\, 5 & 6’s\n\n5.15: Year 7\, 8 & 9’s\n\nCost: £6.25 per session\, £5 for siblings\n\n\nBook at: gkfit.co.uk/netball
URL:https://www.overvillage.co.uk/WP/event/netball-club-for-juniors/2026-05-12/
LOCATION:Swavesey Village College\, Swavesey Village College\, Swavesey\, Cambridgeshire\, United Kingdom
ATTACH;FMTTYPE=image/jpeg:https://www.overvillage.co.uk/WP/wp-content/uploads/2026/03/GK-Fit-netball-SVC-scaled.jpg
END:VEVENT
BEGIN:VEVENT
DTSTART;TZID=UTC:20260519T161500
DTEND;TZID=UTC:20260623T181500
DTSTAMP:20260421T032358
CREATED:20260311T092850Z
LAST-MODIFIED:20260311T170230Z
UID:10007876-1779207300-1782238500@www.overvillage.co.uk
SUMMARY:Netball Club for Juniors
DESCRIPTION:Tuesday netball club for juniors with GK Fit  \n\nFun and inclusive weekly netball for girls and boys in Years 4-9\n\nEvery Tuesday from 14 April at Swavesey VC\n4.15: Year 4\, 5 & 6’s\n\n5.15: Year 7\, 8 & 9’s\n\nCost: £6.25 per session\, £5 for siblings\n\n\nBook at: gkfit.co.uk/netball
URL:https://www.overvillage.co.uk/WP/event/netball-club-for-juniors/2026-05-19/
LOCATION:Swavesey Village College\, Swavesey Village College\, Swavesey\, Cambridgeshire\, United Kingdom
ATTACH;FMTTYPE=image/jpeg:https://www.overvillage.co.uk/WP/wp-content/uploads/2026/03/GK-Fit-netball-SVC-scaled.jpg
END:VEVENT
BEGIN:VEVENT
DTSTART;TZID=UTC:20260526T161500
DTEND;TZID=UTC:20260630T181500
DTSTAMP:20260421T032358
CREATED:20260311T092850Z
LAST-MODIFIED:20260311T170230Z
UID:10007877-1779812100-1782843300@www.overvillage.co.uk
SUMMARY:Netball Club for Juniors
DESCRIPTION:Tuesday netball club for juniors with GK Fit  \n\nFun and inclusive weekly netball for girls and boys in Years 4-9\n\nEvery Tuesday from 14 April at Swavesey VC\n4.15: Year 4\, 5 & 6’s\n\n5.15: Year 7\, 8 & 9’s\n\nCost: £6.25 per session\, £5 for siblings\n\n\nBook at: gkfit.co.uk/netball
URL:https://www.overvillage.co.uk/WP/event/netball-club-for-juniors/2026-05-26/
LOCATION:Swavesey Village College\, Swavesey Village College\, Swavesey\, Cambridgeshire\, United Kingdom
ATTACH;FMTTYPE=image/jpeg:https://www.overvillage.co.uk/WP/wp-content/uploads/2026/03/GK-Fit-netball-SVC-scaled.jpg
END:VEVENT
BEGIN:VEVENT
DTSTART;TZID=UTC:20260601T093000
DTEND;TZID=UTC:20260601T123000
DTSTAMP:20260421T032358
CREATED:20251218T164913Z
LAST-MODIFIED:20260102T095223Z
UID:10006670-1780306200-1780317000@www.overvillage.co.uk
SUMMARY:Post Office - Over Mobile Service - see below for info
DESCRIPTION:The mobile Post Office service will be open on the following days and venues. \nThere may be changes to the schedule so please check the Post Office’s web site for updates. \nOver Community Centre: \nMonday 09:30 – 12:30 \nWednesday 09:30 – 12:30 \nThursday 09:30 – 12:30 \nFriday 15:00 – 16:00 \nElm Court: \nTuesday 09:30 – 12:30 \n  \n 
URL:https://www.overvillage.co.uk/WP/event/post-office-over-mobile-service-5-2-2/2026-06-01/
LOCATION:Over Community Centre\, 16 The Doles\, Over\,\, Cambridgeshire\, CB24 5NW\, United Kingdom
ATTACH;FMTTYPE=image/jpeg:https://www.overvillage.co.uk/WP/wp-content/uploads/2024/08/Royal-Mail-post-office-scaled-1.jpg
END:VEVENT
BEGIN:VEVENT
DTSTART;TZID=UTC:20260601T193000
DTEND;TZID=UTC:20260601T193000
DTSTAMP:20260421T032358
CREATED:20260315T213202Z
LAST-MODIFIED:20260315T213202Z
UID:10008136-1780342200-1780342200@www.overvillage.co.uk
SUMMARY:Over W.I. – Cheese and Bees Company
DESCRIPTION:Speaker: Peter Pooley \nCompetition: Bumble bee in any medium
URL:https://www.overvillage.co.uk/WP/event/over-w-i-cheese-and-bees-company/
LOCATION:Over Community Centre\, 16 The Doles\, Over\,\, Cambridgeshire\, CB24 5NW\, United Kingdom
ATTACH;FMTTYPE=image/jpeg:https://www.overvillage.co.uk/WP/wp-content/uploads/2025/11/wi_logo.jpg
END:VEVENT
BEGIN:VEVENT
DTSTART;TZID=UTC:20260602T161500
DTEND;TZID=UTC:20260707T181500
DTSTAMP:20260421T032358
CREATED:20260311T092850Z
LAST-MODIFIED:20260311T170230Z
UID:10007878-1780416900-1783448100@www.overvillage.co.uk
SUMMARY:Netball Club for Juniors
DESCRIPTION:Tuesday netball club for juniors with GK Fit  \n\nFun and inclusive weekly netball for girls and boys in Years 4-9\n\nEvery Tuesday from 14 April at Swavesey VC\n4.15: Year 4\, 5 & 6’s\n\n5.15: Year 7\, 8 & 9’s\n\nCost: £6.25 per session\, £5 for siblings\n\n\nBook at: gkfit.co.uk/netball
URL:https://www.overvillage.co.uk/WP/event/netball-club-for-juniors/2026-06-02/
LOCATION:Swavesey Village College\, Swavesey Village College\, Swavesey\, Cambridgeshire\, United Kingdom
ATTACH;FMTTYPE=image/jpeg:https://www.overvillage.co.uk/WP/wp-content/uploads/2026/03/GK-Fit-netball-SVC-scaled.jpg
END:VEVENT
BEGIN:VEVENT
DTSTART;TZID=UTC:20260602T161500
DTEND;TZID=UTC:20260714T181500
DTSTAMP:20260421T032358
CREATED:20260311T170928Z
LAST-MODIFIED:20260311T170928Z
UID:10008133-1780416900-1784052900@www.overvillage.co.uk
SUMMARY:Tuesday Netball Club for Juniors
DESCRIPTION:Tuesday netball club for juniors with GK Fit \nFun and inclusive weekly netball for girls and boys in Years 4-9\n\nEvery Tuesday from 14 April at Swavesey VC\n4.15: Year 4\, 5 & 6’s\n\n5.15: Year 7\, 8 & 9’s\n\nCost: £6.25 per session\, £5 for siblings\n\n\nBook at: gkfit.co.uk/netball
URL:https://www.overvillage.co.uk/WP/event/tuesday-netball-club-for-juniors/
LOCATION:Cambridgeshire
ATTACH;FMTTYPE=image/jpeg:https://www.overvillage.co.uk/WP/wp-content/uploads/2026/03/GK-Fit-netball-SVC-scaled.jpg
END:VEVENT
BEGIN:VEVENT
DTSTART;TZID=UTC:20260603T091500
DTEND;TZID=UTC:20260603T103000
DTSTAMP:20260421T032358
CREATED:20251022T143930Z
LAST-MODIFIED:20260406T184001Z
UID:10000569-1780478100-1780482600@www.overvillage.co.uk
SUMMARY:Clap and Sing
DESCRIPTION:Sessions run every Wednesday between 0915 and 1030 at the Methodist Hall.  £5 for one child plus £1 for each additional child. Term time only.
URL:https://www.overvillage.co.uk/WP/event/clap-and-sing-2/2026-06-03/
LOCATION:Methodist Church Over\, The Lanes\, Over\, Cambridgeshire\, CB24 5NQ\, United Kingdom
ATTACH;FMTTYPE=image/jpeg:https://www.overvillage.co.uk/WP/wp-content/uploads/2023/12/sketch-crowd-little-people-with-flying-notes-illustration_156892-671.jpg
ORGANIZER;CN="Sharon Stevens":MAILTO:parafun@hotmail.co.uk
END:VEVENT
BEGIN:VEVENT
DTSTART;TZID=UTC:20260604T100000
DTEND;TZID=UTC:20260604T120000
DTSTAMP:20260421T032358
CREATED:20241023T112032Z
LAST-MODIFIED:20241213T080103Z
UID:10001094-1780567200-1780574400@www.overvillage.co.uk
SUMMARY:Mustard Seed Community Cafe at St Mary's Church Hall
DESCRIPTION:Join us for a warm welcome\, fresh coffee\, tea and delicious home-baked treats! \nWe provide free squash or milk for children and a play area with toys. \nSt Mary’s Church Hall\, Over
URL:https://www.overvillage.co.uk/WP/event/mustard-seed-community-cafe-at-st-marys-church-hall-2/2026-06-04/
LOCATION:St Marys Church\, Church End\, Over\, Cambridgeshire\, CB24 5NH\, United Kingdom
ATTACH;FMTTYPE=image/jpeg:https://www.overvillage.co.uk/WP/wp-content/uploads/2024/02/thomas-bormans-sMkSzzNwCbo-unsplash-scaled.jpg
END:VEVENT
BEGIN:VEVENT
DTSTART;VALUE=DATE:20260605
DTEND;VALUE=DATE:20260606
DTSTAMP:20260421T032358
CREATED:20260130T123650Z
LAST-MODIFIED:20260130T123650Z
UID:10007545-1780617600-1780703999@www.overvillage.co.uk
SUMMARY:Black Bin Collection
DESCRIPTION:Please leave your bins out the night before or early morning
URL:https://www.overvillage.co.uk/WP/event/black-bin-collection-2-2/2026-06-05/
LOCATION:kerbside
ATTACH;FMTTYPE=image/png:https://www.overvillage.co.uk/WP/wp-content/uploads/2023/09/Monthly-Collection-300x300-1.png
END:VEVENT
BEGIN:VEVENT
DTSTART;TZID=UTC:20260605T091500
DTEND;TZID=UTC:20260605T101500
DTSTAMP:20260421T032358
CREATED:20231205T140031Z
LAST-MODIFIED:20260406T184147Z
UID:10000828-1780650900-1780654500@www.overvillage.co.uk
SUMMARY:Dancing and Parachute Play
DESCRIPTION:Fridays 0915 to 1015 at Over Methodist Church.  Cost £5 for one child plus £1 for each additional charge. Term time only.
URL:https://www.overvillage.co.uk/WP/event/dancing-and-parachute-play/2026-06-05/
LOCATION:Methodist Church Over\, The Lanes\, Over\, Cambridgeshire\, CB24 5NQ\, United Kingdom
ATTACH;FMTTYPE=image/jpeg:https://www.overvillage.co.uk/WP/wp-content/uploads/2023/12/artem-kniaz-DqgMHzeio7g-unsplash-scaled.jpg
ORGANIZER;CN="Sharon Stevens":MAILTO:parafun@hotmail.co.uk
END:VEVENT
BEGIN:VEVENT
DTSTART;TZID=UTC:20260605T093000
DTEND;TZID=UTC:20260605T113000
DTSTAMP:20260421T032358
CREATED:20250528T083724Z
LAST-MODIFIED:20250528T083724Z
UID:10001945-1780651800-1780659000@www.overvillage.co.uk
SUMMARY:Needle Craft Group
DESCRIPTION:Do you enjoy textile hobbies?\nAre you available on Friday mornings?\nWhether you’re an embroiderer\, crocheter\, knitter\, patchworker …….any form of textile artist or crafter really\, and whatever level of skill you have\, you’d be most welcome to join us in Over Community Centre on Friday mornings from 9.30.\nOur aim to get together to socialise through our hobbies\, hopefully inspiring and helping each other to learn new skills.\nWe meet in the lounge and support the centre by buying our drinks  from the café.
URL:https://www.overvillage.co.uk/WP/event/fibre-craft-group-2/2026-06-05/
LOCATION:Over Community Centre\, 16 The Doles\, Over\,\, Cambridgeshire\, CB24 5NW\, United Kingdom
ATTACH;FMTTYPE=image/jpeg:https://www.overvillage.co.uk/WP/wp-content/uploads/2024/05/barbara-krysztofiak-PCBcjIYOgSs-unsplash.jpg
END:VEVENT
BEGIN:VEVENT
DTSTART;TZID=UTC:20260608T093000
DTEND;TZID=UTC:20260608T123000
DTSTAMP:20260421T032358
CREATED:20251218T164913Z
LAST-MODIFIED:20260102T095223Z
UID:10006671-1780911000-1780921800@www.overvillage.co.uk
SUMMARY:Post Office - Over Mobile Service - see below for info
DESCRIPTION:The mobile Post Office service will be open on the following days and venues. \nThere may be changes to the schedule so please check the Post Office’s web site for updates. \nOver Community Centre: \nMonday 09:30 – 12:30 \nWednesday 09:30 – 12:30 \nThursday 09:30 – 12:30 \nFriday 15:00 – 16:00 \nElm Court: \nTuesday 09:30 – 12:30 \n  \n 
URL:https://www.overvillage.co.uk/WP/event/post-office-over-mobile-service-5-2-2/2026-06-08/
LOCATION:Over Community Centre\, 16 The Doles\, Over\,\, Cambridgeshire\, CB24 5NW\, United Kingdom
ATTACH;FMTTYPE=image/jpeg:https://www.overvillage.co.uk/WP/wp-content/uploads/2024/08/Royal-Mail-post-office-scaled-1.jpg
END:VEVENT
BEGIN:VEVENT
DTSTART;TZID=UTC:20260609T161500
DTEND;TZID=UTC:20260714T181500
DTSTAMP:20260421T032358
CREATED:20260311T092850Z
LAST-MODIFIED:20260311T170230Z
UID:10007879-1781021700-1784052900@www.overvillage.co.uk
SUMMARY:Netball Club for Juniors
DESCRIPTION:Tuesday netball club for juniors with GK Fit  \n\nFun and inclusive weekly netball for girls and boys in Years 4-9\n\nEvery Tuesday from 14 April at Swavesey VC\n4.15: Year 4\, 5 & 6’s\n\n5.15: Year 7\, 8 & 9’s\n\nCost: £6.25 per session\, £5 for siblings\n\n\nBook at: gkfit.co.uk/netball
URL:https://www.overvillage.co.uk/WP/event/netball-club-for-juniors/2026-06-09/
LOCATION:Swavesey Village College\, Swavesey Village College\, Swavesey\, Cambridgeshire\, United Kingdom
ATTACH;FMTTYPE=image/jpeg:https://www.overvillage.co.uk/WP/wp-content/uploads/2026/03/GK-Fit-netball-SVC-scaled.jpg
END:VEVENT
BEGIN:VEVENT
DTSTART;TZID=UTC:20260610T091500
DTEND;TZID=UTC:20260610T103000
DTSTAMP:20260421T032358
CREATED:20251022T143930Z
LAST-MODIFIED:20260406T184001Z
UID:10000570-1781082900-1781087400@www.overvillage.co.uk
SUMMARY:Clap and Sing
DESCRIPTION:Sessions run every Wednesday between 0915 and 1030 at the Methodist Hall.  £5 for one child plus £1 for each additional child. Term time only.
URL:https://www.overvillage.co.uk/WP/event/clap-and-sing-2/2026-06-10/
LOCATION:Methodist Church Over\, The Lanes\, Over\, Cambridgeshire\, CB24 5NQ\, United Kingdom
ATTACH;FMTTYPE=image/jpeg:https://www.overvillage.co.uk/WP/wp-content/uploads/2023/12/sketch-crowd-little-people-with-flying-notes-illustration_156892-671.jpg
ORGANIZER;CN="Sharon Stevens":MAILTO:parafun@hotmail.co.uk
END:VEVENT
BEGIN:VEVENT
DTSTART;TZID=UTC:20260611T100000
DTEND;TZID=UTC:20260611T120000
DTSTAMP:20260421T032358
CREATED:20241023T112032Z
LAST-MODIFIED:20241213T080103Z
UID:10001095-1781172000-1781179200@www.overvillage.co.uk
SUMMARY:Mustard Seed Community Cafe at St Mary's Church Hall
DESCRIPTION:Join us for a warm welcome\, fresh coffee\, tea and delicious home-baked treats! \nWe provide free squash or milk for children and a play area with toys. \nSt Mary’s Church Hall\, Over
URL:https://www.overvillage.co.uk/WP/event/mustard-seed-community-cafe-at-st-marys-church-hall-2/2026-06-11/
LOCATION:St Marys Church\, Church End\, Over\, Cambridgeshire\, CB24 5NH\, United Kingdom
ATTACH;FMTTYPE=image/jpeg:https://www.overvillage.co.uk/WP/wp-content/uploads/2024/02/thomas-bormans-sMkSzzNwCbo-unsplash-scaled.jpg
END:VEVENT
BEGIN:VEVENT
DTSTART;VALUE=DATE:20260612
DTEND;VALUE=DATE:20260613
DTSTAMP:20260421T032358
CREATED:20260130T123512Z
LAST-MODIFIED:20260130T123512Z
UID:10007736-1781222400-1781308799@www.overvillage.co.uk
SUMMARY:Blue/Green bin collection
DESCRIPTION:
URL:https://www.overvillage.co.uk/WP/event/blue-green-bin-collection-2/2026-06-12/
LOCATION:kerbside
ATTACH;FMTTYPE=image/jpeg:https://www.overvillage.co.uk/WP/wp-content/uploads/2023/09/recycling-bins-vector-909606.jpg
END:VEVENT
BEGIN:VEVENT
DTSTART;TZID=UTC:20260612T091500
DTEND;TZID=UTC:20260612T101500
DTSTAMP:20260421T032358
CREATED:20231205T140031Z
LAST-MODIFIED:20260406T184147Z
UID:10000829-1781255700-1781259300@www.overvillage.co.uk
SUMMARY:Dancing and Parachute Play
DESCRIPTION:Fridays 0915 to 1015 at Over Methodist Church.  Cost £5 for one child plus £1 for each additional charge. Term time only.
URL:https://www.overvillage.co.uk/WP/event/dancing-and-parachute-play/2026-06-12/
LOCATION:Methodist Church Over\, The Lanes\, Over\, Cambridgeshire\, CB24 5NQ\, United Kingdom
ATTACH;FMTTYPE=image/jpeg:https://www.overvillage.co.uk/WP/wp-content/uploads/2023/12/artem-kniaz-DqgMHzeio7g-unsplash-scaled.jpg
ORGANIZER;CN="Sharon Stevens":MAILTO:parafun@hotmail.co.uk
END:VEVENT
BEGIN:VEVENT
DTSTART;TZID=UTC:20260612T093000
DTEND;TZID=UTC:20260612T113000
DTSTAMP:20260421T032358
CREATED:20250528T083724Z
LAST-MODIFIED:20250528T083724Z
UID:10001946-1781256600-1781263800@www.overvillage.co.uk
SUMMARY:Needle Craft Group
DESCRIPTION:Do you enjoy textile hobbies?\nAre you available on Friday mornings?\nWhether you’re an embroiderer\, crocheter\, knitter\, patchworker …….any form of textile artist or crafter really\, and whatever level of skill you have\, you’d be most welcome to join us in Over Community Centre on Friday mornings from 9.30.\nOur aim to get together to socialise through our hobbies\, hopefully inspiring and helping each other to learn new skills.\nWe meet in the lounge and support the centre by buying our drinks  from the café.
URL:https://www.overvillage.co.uk/WP/event/fibre-craft-group-2/2026-06-12/
LOCATION:Over Community Centre\, 16 The Doles\, Over\,\, Cambridgeshire\, CB24 5NW\, United Kingdom
ATTACH;FMTTYPE=image/jpeg:https://www.overvillage.co.uk/WP/wp-content/uploads/2024/05/barbara-krysztofiak-PCBcjIYOgSs-unsplash.jpg
END:VEVENT
BEGIN:VEVENT
DTSTART;TZID=UTC:20260615T093000
DTEND;TZID=UTC:20260615T123000
DTSTAMP:20260421T032358
CREATED:20251218T164913Z
LAST-MODIFIED:20260102T095223Z
UID:10006672-1781515800-1781526600@www.overvillage.co.uk
SUMMARY:Post Office - Over Mobile Service - see below for info
DESCRIPTION:The mobile Post Office service will be open on the following days and venues. \nThere may be changes to the schedule so please check the Post Office’s web site for updates. \nOver Community Centre: \nMonday 09:30 – 12:30 \nWednesday 09:30 – 12:30 \nThursday 09:30 – 12:30 \nFriday 15:00 – 16:00 \nElm Court: \nTuesday 09:30 – 12:30 \n  \n 
URL:https://www.overvillage.co.uk/WP/event/post-office-over-mobile-service-5-2-2/2026-06-15/
LOCATION:Over Community Centre\, 16 The Doles\, Over\,\, Cambridgeshire\, CB24 5NW\, United Kingdom
ATTACH;FMTTYPE=image/jpeg:https://www.overvillage.co.uk/WP/wp-content/uploads/2024/08/Royal-Mail-post-office-scaled-1.jpg
END:VEVENT
BEGIN:VEVENT
DTSTART;TZID=UTC:20260616T161500
DTEND;TZID=UTC:20260721T181500
DTSTAMP:20260421T032358
CREATED:20260311T092850Z
LAST-MODIFIED:20260311T170230Z
UID:10007880-1781626500-1784657700@www.overvillage.co.uk
SUMMARY:Netball Club for Juniors
DESCRIPTION:Tuesday netball club for juniors with GK Fit  \n\nFun and inclusive weekly netball for girls and boys in Years 4-9\n\nEvery Tuesday from 14 April at Swavesey VC\n4.15: Year 4\, 5 & 6’s\n\n5.15: Year 7\, 8 & 9’s\n\nCost: £6.25 per session\, £5 for siblings\n\n\nBook at: gkfit.co.uk/netball
URL:https://www.overvillage.co.uk/WP/event/netball-club-for-juniors/2026-06-16/
LOCATION:Swavesey Village College\, Swavesey Village College\, Swavesey\, Cambridgeshire\, United Kingdom
ATTACH;FMTTYPE=image/jpeg:https://www.overvillage.co.uk/WP/wp-content/uploads/2026/03/GK-Fit-netball-SVC-scaled.jpg
END:VEVENT
BEGIN:VEVENT
DTSTART;VALUE=DATE:20260617
DTEND;VALUE=DATE:20260618
DTSTAMP:20260421T032358
CREATED:20251112T104604Z
LAST-MODIFIED:20251112T104604Z
UID:10007480-1781654400-1781740799@www.overvillage.co.uk
SUMMARY:Over Gardening Club
DESCRIPTION:Garden Visit tbc \n  \nWe are a friendly group of gardeners and plant lovers who have regular meetings with a speaker and raffle and occasional plant sales.  Meetings are held on the 3rd Wednesday of each month; from September to May we meet at Over Community Centre where we usually have a guest speaker talking on various aspects of gardening\, in June we often arrange a visit to a local garden and in July we hold a social evening.  Membership runs annually from 1 April to 31 March and is currently £15.00 per year.  Visitors to meetings are welcome but we do ask for a guest fee of £3.00 per visit.  A 10% discount is available on most items at Oakington Garden Centre\, plants at Parkhall Nursery in Somersham and also items from Madingley Mulch with a current membership card. \n  \nIf you would like to come to a meeting as a guest just turn up or contact any member of the committee for further details\, we would love to see you.  Committee members: Richard Cox\, Julie Carter\, Jeremy Tyrrell\, Carolyn Redmayne\, Carole Cowley\, Jan Hook\, Julie Wilson\, Cynthia Bidwell\, Rachel Henshaw \nEnquiries\, please email gardeningclubover@gmail.com
URL:https://www.overvillage.co.uk/WP/event/over-gardening-club-15/
LOCATION:Cambridgeshire
ATTACH;FMTTYPE=image/jpeg:https://www.overvillage.co.uk/WP/wp-content/uploads/2023/11/627e820e49d6f.image_.jpg
END:VEVENT
BEGIN:VEVENT
DTSTART;TZID=UTC:20260617T091500
DTEND;TZID=UTC:20260617T103000
DTSTAMP:20260421T032358
CREATED:20251022T143930Z
LAST-MODIFIED:20260406T184001Z
UID:10000571-1781687700-1781692200@www.overvillage.co.uk
SUMMARY:Clap and Sing
DESCRIPTION:Sessions run every Wednesday between 0915 and 1030 at the Methodist Hall.  £5 for one child plus £1 for each additional child. Term time only.
URL:https://www.overvillage.co.uk/WP/event/clap-and-sing-2/2026-06-17/
LOCATION:Methodist Church Over\, The Lanes\, Over\, Cambridgeshire\, CB24 5NQ\, United Kingdom
ATTACH;FMTTYPE=image/jpeg:https://www.overvillage.co.uk/WP/wp-content/uploads/2023/12/sketch-crowd-little-people-with-flying-notes-illustration_156892-671.jpg
ORGANIZER;CN="Sharon Stevens":MAILTO:parafun@hotmail.co.uk
END:VEVENT
BEGIN:VEVENT
DTSTART;TZID=UTC:20260618T100000
DTEND;TZID=UTC:20260618T120000
DTSTAMP:20260421T032358
CREATED:20241023T112032Z
LAST-MODIFIED:20241213T080103Z
UID:10001096-1781776800-1781784000@www.overvillage.co.uk
SUMMARY:Mustard Seed Community Cafe at St Mary's Church Hall
DESCRIPTION:Join us for a warm welcome\, fresh coffee\, tea and delicious home-baked treats! \nWe provide free squash or milk for children and a play area with toys. \nSt Mary’s Church Hall\, Over
URL:https://www.overvillage.co.uk/WP/event/mustard-seed-community-cafe-at-st-marys-church-hall-2/2026-06-18/
LOCATION:St Marys Church\, Church End\, Over\, Cambridgeshire\, CB24 5NH\, United Kingdom
ATTACH;FMTTYPE=image/jpeg:https://www.overvillage.co.uk/WP/wp-content/uploads/2024/02/thomas-bormans-sMkSzzNwCbo-unsplash-scaled.jpg
END:VEVENT
BEGIN:VEVENT
DTSTART;VALUE=DATE:20260619
DTEND;VALUE=DATE:20260620
DTSTAMP:20260421T032358
CREATED:20260130T123650Z
LAST-MODIFIED:20260130T123650Z
UID:10007546-1781827200-1781913599@www.overvillage.co.uk
SUMMARY:Black Bin Collection
DESCRIPTION:Please leave your bins out the night before or early morning
URL:https://www.overvillage.co.uk/WP/event/black-bin-collection-2-2/2026-06-19/
LOCATION:kerbside
ATTACH;FMTTYPE=image/png:https://www.overvillage.co.uk/WP/wp-content/uploads/2023/09/Monthly-Collection-300x300-1.png
END:VEVENT
BEGIN:VEVENT
DTSTART;TZID=UTC:20260619T091500
DTEND;TZID=UTC:20260619T101500
DTSTAMP:20260421T032358
CREATED:20231205T140031Z
LAST-MODIFIED:20260406T184147Z
UID:10000830-1781860500-1781864100@www.overvillage.co.uk
SUMMARY:Dancing and Parachute Play
DESCRIPTION:Fridays 0915 to 1015 at Over Methodist Church.  Cost £5 for one child plus £1 for each additional charge. Term time only.
URL:https://www.overvillage.co.uk/WP/event/dancing-and-parachute-play/2026-06-19/
LOCATION:Methodist Church Over\, The Lanes\, Over\, Cambridgeshire\, CB24 5NQ\, United Kingdom
ATTACH;FMTTYPE=image/jpeg:https://www.overvillage.co.uk/WP/wp-content/uploads/2023/12/artem-kniaz-DqgMHzeio7g-unsplash-scaled.jpg
ORGANIZER;CN="Sharon Stevens":MAILTO:parafun@hotmail.co.uk
END:VEVENT
BEGIN:VEVENT
DTSTART;TZID=UTC:20260619T093000
DTEND;TZID=UTC:20260619T113000
DTSTAMP:20260421T032358
CREATED:20250528T083724Z
LAST-MODIFIED:20250528T083724Z
UID:10001947-1781861400-1781868600@www.overvillage.co.uk
SUMMARY:Needle Craft Group
DESCRIPTION:Do you enjoy textile hobbies?\nAre you available on Friday mornings?\nWhether you’re an embroiderer\, crocheter\, knitter\, patchworker …….any form of textile artist or crafter really\, and whatever level of skill you have\, you’d be most welcome to join us in Over Community Centre on Friday mornings from 9.30.\nOur aim to get together to socialise through our hobbies\, hopefully inspiring and helping each other to learn new skills.\nWe meet in the lounge and support the centre by buying our drinks  from the café.
URL:https://www.overvillage.co.uk/WP/event/fibre-craft-group-2/2026-06-19/
LOCATION:Over Community Centre\, 16 The Doles\, Over\,\, Cambridgeshire\, CB24 5NW\, United Kingdom
ATTACH;FMTTYPE=image/jpeg:https://www.overvillage.co.uk/WP/wp-content/uploads/2024/05/barbara-krysztofiak-PCBcjIYOgSs-unsplash.jpg
END:VEVENT
BEGIN:VEVENT
DTSTART;TZID=UTC:20260622T093000
DTEND;TZID=UTC:20260622T123000
DTSTAMP:20260421T032358
CREATED:20251218T164913Z
LAST-MODIFIED:20260102T095223Z
UID:10006673-1782120600-1782131400@www.overvillage.co.uk
SUMMARY:Post Office - Over Mobile Service - see below for info
DESCRIPTION:The mobile Post Office service will be open on the following days and venues. \nThere may be changes to the schedule so please check the Post Office’s web site for updates. \nOver Community Centre: \nMonday 09:30 – 12:30 \nWednesday 09:30 – 12:30 \nThursday 09:30 – 12:30 \nFriday 15:00 – 16:00 \nElm Court: \nTuesday 09:30 – 12:30 \n  \n 
URL:https://www.overvillage.co.uk/WP/event/post-office-over-mobile-service-5-2-2/2026-06-22/
LOCATION:Over Community Centre\, 16 The Doles\, Over\,\, Cambridgeshire\, CB24 5NW\, United Kingdom
ATTACH;FMTTYPE=image/jpeg:https://www.overvillage.co.uk/WP/wp-content/uploads/2024/08/Royal-Mail-post-office-scaled-1.jpg
END:VEVENT
END:VCALENDAR