BEGIN:VCALENDAR
VERSION:2.0
PRODID:-//Over Village News - ECPv6.15.20//NONSGML v1.0//EN
CALSCALE:GREGORIAN
METHOD:PUBLISH
X-WR-CALNAME:Over Village News
X-ORIGINAL-URL:https://www.overvillage.co.uk/WP
X-WR-CALDESC:Events for Over Village News
REFRESH-INTERVAL;VALUE=DURATION:PT1H
X-Robots-Tag:noindex
X-PUBLISHED-TTL:PT1H
BEGIN:VTIMEZONE
TZID:UTC
BEGIN:STANDARD
TZOFFSETFROM:+0000
TZOFFSETTO:+0000
TZNAME:UTC
DTSTART:20250101T000000
END:STANDARD
END:VTIMEZONE
BEGIN:VEVENT
DTSTART;TZID=UTC:20260602T161500
DTEND;TZID=UTC:20260707T181500
DTSTAMP:20260421T052318
CREATED:20260311T092850Z
LAST-MODIFIED:20260311T170230Z
UID:10007878-1780416900-1783448100@www.overvillage.co.uk
SUMMARY:Netball Club for Juniors
DESCRIPTION:Tuesday netball club for juniors with GK Fit  \n\nFun and inclusive weekly netball for girls and boys in Years 4-9\n\nEvery Tuesday from 14 April at Swavesey VC\n4.15: Year 4\, 5 & 6’s\n\n5.15: Year 7\, 8 & 9’s\n\nCost: £6.25 per session\, £5 for siblings\n\n\nBook at: gkfit.co.uk/netball
URL:https://www.overvillage.co.uk/WP/event/netball-club-for-juniors/2026-06-02/
LOCATION:Swavesey Village College\, Swavesey Village College\, Swavesey\, Cambridgeshire\, United Kingdom
ATTACH;FMTTYPE=image/jpeg:https://www.overvillage.co.uk/WP/wp-content/uploads/2026/03/GK-Fit-netball-SVC-scaled.jpg
END:VEVENT
BEGIN:VEVENT
DTSTART;TZID=UTC:20260602T161500
DTEND;TZID=UTC:20260714T181500
DTSTAMP:20260421T052318
CREATED:20260311T170928Z
LAST-MODIFIED:20260311T170928Z
UID:10008133-1780416900-1784052900@www.overvillage.co.uk
SUMMARY:Tuesday Netball Club for Juniors
DESCRIPTION:Tuesday netball club for juniors with GK Fit \nFun and inclusive weekly netball for girls and boys in Years 4-9\n\nEvery Tuesday from 14 April at Swavesey VC\n4.15: Year 4\, 5 & 6’s\n\n5.15: Year 7\, 8 & 9’s\n\nCost: £6.25 per session\, £5 for siblings\n\n\nBook at: gkfit.co.uk/netball
URL:https://www.overvillage.co.uk/WP/event/tuesday-netball-club-for-juniors/
LOCATION:Cambridgeshire
ATTACH;FMTTYPE=image/jpeg:https://www.overvillage.co.uk/WP/wp-content/uploads/2026/03/GK-Fit-netball-SVC-scaled.jpg
END:VEVENT
BEGIN:VEVENT
DTSTART;TZID=UTC:20260609T161500
DTEND;TZID=UTC:20260714T181500
DTSTAMP:20260421T052318
CREATED:20260311T092850Z
LAST-MODIFIED:20260311T170230Z
UID:10007879-1781021700-1784052900@www.overvillage.co.uk
SUMMARY:Netball Club for Juniors
DESCRIPTION:Tuesday netball club for juniors with GK Fit  \n\nFun and inclusive weekly netball for girls and boys in Years 4-9\n\nEvery Tuesday from 14 April at Swavesey VC\n4.15: Year 4\, 5 & 6’s\n\n5.15: Year 7\, 8 & 9’s\n\nCost: £6.25 per session\, £5 for siblings\n\n\nBook at: gkfit.co.uk/netball
URL:https://www.overvillage.co.uk/WP/event/netball-club-for-juniors/2026-06-09/
LOCATION:Swavesey Village College\, Swavesey Village College\, Swavesey\, Cambridgeshire\, United Kingdom
ATTACH;FMTTYPE=image/jpeg:https://www.overvillage.co.uk/WP/wp-content/uploads/2026/03/GK-Fit-netball-SVC-scaled.jpg
END:VEVENT
BEGIN:VEVENT
DTSTART;TZID=UTC:20260616T161500
DTEND;TZID=UTC:20260721T181500
DTSTAMP:20260421T052318
CREATED:20260311T092850Z
LAST-MODIFIED:20260311T170230Z
UID:10007880-1781626500-1784657700@www.overvillage.co.uk
SUMMARY:Netball Club for Juniors
DESCRIPTION:Tuesday netball club for juniors with GK Fit  \n\nFun and inclusive weekly netball for girls and boys in Years 4-9\n\nEvery Tuesday from 14 April at Swavesey VC\n4.15: Year 4\, 5 & 6’s\n\n5.15: Year 7\, 8 & 9’s\n\nCost: £6.25 per session\, £5 for siblings\n\n\nBook at: gkfit.co.uk/netball
URL:https://www.overvillage.co.uk/WP/event/netball-club-for-juniors/2026-06-16/
LOCATION:Swavesey Village College\, Swavesey Village College\, Swavesey\, Cambridgeshire\, United Kingdom
ATTACH;FMTTYPE=image/jpeg:https://www.overvillage.co.uk/WP/wp-content/uploads/2026/03/GK-Fit-netball-SVC-scaled.jpg
END:VEVENT
BEGIN:VEVENT
DTSTART;TZID=UTC:20260623T161500
DTEND;TZID=UTC:20260728T181500
DTSTAMP:20260421T052318
CREATED:20260311T092850Z
LAST-MODIFIED:20260311T170230Z
UID:10007881-1782231300-1785262500@www.overvillage.co.uk
SUMMARY:Netball Club for Juniors
DESCRIPTION:Tuesday netball club for juniors with GK Fit  \n\nFun and inclusive weekly netball for girls and boys in Years 4-9\n\nEvery Tuesday from 14 April at Swavesey VC\n4.15: Year 4\, 5 & 6’s\n\n5.15: Year 7\, 8 & 9’s\n\nCost: £6.25 per session\, £5 for siblings\n\n\nBook at: gkfit.co.uk/netball
URL:https://www.overvillage.co.uk/WP/event/netball-club-for-juniors/2026-06-23/
LOCATION:Swavesey Village College\, Swavesey Village College\, Swavesey\, Cambridgeshire\, United Kingdom
ATTACH;FMTTYPE=image/jpeg:https://www.overvillage.co.uk/WP/wp-content/uploads/2026/03/GK-Fit-netball-SVC-scaled.jpg
END:VEVENT
BEGIN:VEVENT
DTSTART;TZID=UTC:20260630T161500
DTEND;TZID=UTC:20260804T181500
DTSTAMP:20260421T052318
CREATED:20260311T092850Z
LAST-MODIFIED:20260311T170230Z
UID:10007882-1782836100-1785867300@www.overvillage.co.uk
SUMMARY:Netball Club for Juniors
DESCRIPTION:Tuesday netball club for juniors with GK Fit  \n\nFun and inclusive weekly netball for girls and boys in Years 4-9\n\nEvery Tuesday from 14 April at Swavesey VC\n4.15: Year 4\, 5 & 6’s\n\n5.15: Year 7\, 8 & 9’s\n\nCost: £6.25 per session\, £5 for siblings\n\n\nBook at: gkfit.co.uk/netball
URL:https://www.overvillage.co.uk/WP/event/netball-club-for-juniors/2026-06-30/
LOCATION:Swavesey Village College\, Swavesey Village College\, Swavesey\, Cambridgeshire\, United Kingdom
ATTACH;FMTTYPE=image/jpeg:https://www.overvillage.co.uk/WP/wp-content/uploads/2026/03/GK-Fit-netball-SVC-scaled.jpg
END:VEVENT
BEGIN:VEVENT
DTSTART;TZID=UTC:20260701T091500
DTEND;TZID=UTC:20260701T103000
DTSTAMP:20260421T052318
CREATED:20251022T143930Z
LAST-MODIFIED:20260406T184001Z
UID:10000573-1782897300-1782901800@www.overvillage.co.uk
SUMMARY:Clap and Sing
DESCRIPTION:Sessions run every Wednesday between 0915 and 1030 at the Methodist Hall.  £5 for one child plus £1 for each additional child. Term time only.
URL:https://www.overvillage.co.uk/WP/event/clap-and-sing-2/2026-07-01/
LOCATION:Methodist Church Over\, The Lanes\, Over\, Cambridgeshire\, CB24 5NQ\, United Kingdom
ATTACH;FMTTYPE=image/jpeg:https://www.overvillage.co.uk/WP/wp-content/uploads/2023/12/sketch-crowd-little-people-with-flying-notes-illustration_156892-671.jpg
ORGANIZER;CN="Sharon Stevens":MAILTO:parafun@hotmail.co.uk
END:VEVENT
BEGIN:VEVENT
DTSTART;TZID=UTC:20260702T100000
DTEND;TZID=UTC:20260702T120000
DTSTAMP:20260421T052318
CREATED:20241023T112032Z
LAST-MODIFIED:20241213T080103Z
UID:10001098-1782986400-1782993600@www.overvillage.co.uk
SUMMARY:Mustard Seed Community Cafe at St Mary's Church Hall
DESCRIPTION:Join us for a warm welcome\, fresh coffee\, tea and delicious home-baked treats! \nWe provide free squash or milk for children and a play area with toys. \nSt Mary’s Church Hall\, Over
URL:https://www.overvillage.co.uk/WP/event/mustard-seed-community-cafe-at-st-marys-church-hall-2/2026-07-02/
LOCATION:St Marys Church\, Church End\, Over\, Cambridgeshire\, CB24 5NH\, United Kingdom
ATTACH;FMTTYPE=image/jpeg:https://www.overvillage.co.uk/WP/wp-content/uploads/2024/02/thomas-bormans-sMkSzzNwCbo-unsplash-scaled.jpg
END:VEVENT
BEGIN:VEVENT
DTSTART;VALUE=DATE:20260703
DTEND;VALUE=DATE:20260704
DTSTAMP:20260421T052318
CREATED:20260130T123650Z
LAST-MODIFIED:20260130T123650Z
UID:10007547-1783036800-1783123199@www.overvillage.co.uk
SUMMARY:Black Bin Collection
DESCRIPTION:Please leave your bins out the night before or early morning
URL:https://www.overvillage.co.uk/WP/event/black-bin-collection-2-2/2026-07-03/
LOCATION:kerbside
ATTACH;FMTTYPE=image/png:https://www.overvillage.co.uk/WP/wp-content/uploads/2023/09/Monthly-Collection-300x300-1.png
END:VEVENT
BEGIN:VEVENT
DTSTART;TZID=UTC:20260703T091500
DTEND;TZID=UTC:20260703T101500
DTSTAMP:20260421T052318
CREATED:20231205T140031Z
LAST-MODIFIED:20260406T184147Z
UID:10000832-1783070100-1783073700@www.overvillage.co.uk
SUMMARY:Dancing and Parachute Play
DESCRIPTION:Fridays 0915 to 1015 at Over Methodist Church.  Cost £5 for one child plus £1 for each additional charge. Term time only.
URL:https://www.overvillage.co.uk/WP/event/dancing-and-parachute-play/2026-07-03/
LOCATION:Methodist Church Over\, The Lanes\, Over\, Cambridgeshire\, CB24 5NQ\, United Kingdom
ATTACH;FMTTYPE=image/jpeg:https://www.overvillage.co.uk/WP/wp-content/uploads/2023/12/artem-kniaz-DqgMHzeio7g-unsplash-scaled.jpg
ORGANIZER;CN="Sharon Stevens":MAILTO:parafun@hotmail.co.uk
END:VEVENT
BEGIN:VEVENT
DTSTART;TZID=UTC:20260703T093000
DTEND;TZID=UTC:20260703T113000
DTSTAMP:20260421T052318
CREATED:20250528T083724Z
LAST-MODIFIED:20250528T083724Z
UID:10001949-1783071000-1783078200@www.overvillage.co.uk
SUMMARY:Needle Craft Group
DESCRIPTION:Do you enjoy textile hobbies?\nAre you available on Friday mornings?\nWhether you’re an embroiderer\, crocheter\, knitter\, patchworker …….any form of textile artist or crafter really\, and whatever level of skill you have\, you’d be most welcome to join us in Over Community Centre on Friday mornings from 9.30.\nOur aim to get together to socialise through our hobbies\, hopefully inspiring and helping each other to learn new skills.\nWe meet in the lounge and support the centre by buying our drinks  from the café.
URL:https://www.overvillage.co.uk/WP/event/fibre-craft-group-2/2026-07-03/
LOCATION:Over Community Centre\, 16 The Doles\, Over\,\, Cambridgeshire\, CB24 5NW\, United Kingdom
ATTACH;FMTTYPE=image/jpeg:https://www.overvillage.co.uk/WP/wp-content/uploads/2024/05/barbara-krysztofiak-PCBcjIYOgSs-unsplash.jpg
END:VEVENT
BEGIN:VEVENT
DTSTART;TZID=UTC:20260706T093000
DTEND;TZID=UTC:20260706T123000
DTSTAMP:20260421T052318
CREATED:20251218T164913Z
LAST-MODIFIED:20260102T095223Z
UID:10006675-1783330200-1783341000@www.overvillage.co.uk
SUMMARY:Post Office - Over Mobile Service - see below for info
DESCRIPTION:The mobile Post Office service will be open on the following days and venues. \nThere may be changes to the schedule so please check the Post Office’s web site for updates. \nOver Community Centre: \nMonday 09:30 – 12:30 \nWednesday 09:30 – 12:30 \nThursday 09:30 – 12:30 \nFriday 15:00 – 16:00 \nElm Court: \nTuesday 09:30 – 12:30 \n  \n 
URL:https://www.overvillage.co.uk/WP/event/post-office-over-mobile-service-5-2-2/2026-07-06/
LOCATION:Over Community Centre\, 16 The Doles\, Over\,\, Cambridgeshire\, CB24 5NW\, United Kingdom
ATTACH;FMTTYPE=image/jpeg:https://www.overvillage.co.uk/WP/wp-content/uploads/2024/08/Royal-Mail-post-office-scaled-1.jpg
END:VEVENT
BEGIN:VEVENT
DTSTART;TZID=UTC:20260706T193000
DTEND;TZID=UTC:20260706T193000
DTSTAMP:20260421T052318
CREATED:20260315T213356Z
LAST-MODIFIED:20260315T213356Z
UID:10008137-1783366200-1783366200@www.overvillage.co.uk
SUMMARY:Over W.I. – Packing the ultimate capsule suitcase
DESCRIPTION:Speaker: Jackie Allen \nCompetition: An accessory
URL:https://www.overvillage.co.uk/WP/event/over-w-i-packing-the-ultimate-capsule-suitcase/
LOCATION:Over Community Centre\, 16 The Doles\, Over\,\, Cambridgeshire\, CB24 5NW\, United Kingdom
ATTACH;FMTTYPE=image/jpeg:https://www.overvillage.co.uk/WP/wp-content/uploads/2025/11/wi_logo.jpg
END:VEVENT
BEGIN:VEVENT
DTSTART;TZID=UTC:20260707T161500
DTEND;TZID=UTC:20260811T181500
DTSTAMP:20260421T052318
CREATED:20260311T092850Z
LAST-MODIFIED:20260311T170230Z
UID:10007883-1783440900-1786472100@www.overvillage.co.uk
SUMMARY:Netball Club for Juniors
DESCRIPTION:Tuesday netball club for juniors with GK Fit  \n\nFun and inclusive weekly netball for girls and boys in Years 4-9\n\nEvery Tuesday from 14 April at Swavesey VC\n4.15: Year 4\, 5 & 6’s\n\n5.15: Year 7\, 8 & 9’s\n\nCost: £6.25 per session\, £5 for siblings\n\n\nBook at: gkfit.co.uk/netball
URL:https://www.overvillage.co.uk/WP/event/netball-club-for-juniors/2026-07-07/
LOCATION:Swavesey Village College\, Swavesey Village College\, Swavesey\, Cambridgeshire\, United Kingdom
ATTACH;FMTTYPE=image/jpeg:https://www.overvillage.co.uk/WP/wp-content/uploads/2026/03/GK-Fit-netball-SVC-scaled.jpg
END:VEVENT
BEGIN:VEVENT
DTSTART;TZID=UTC:20260708T091500
DTEND;TZID=UTC:20260708T103000
DTSTAMP:20260421T052318
CREATED:20251022T143930Z
LAST-MODIFIED:20260406T184001Z
UID:10000574-1783502100-1783506600@www.overvillage.co.uk
SUMMARY:Clap and Sing
DESCRIPTION:Sessions run every Wednesday between 0915 and 1030 at the Methodist Hall.  £5 for one child plus £1 for each additional child. Term time only.
URL:https://www.overvillage.co.uk/WP/event/clap-and-sing-2/2026-07-08/
LOCATION:Methodist Church Over\, The Lanes\, Over\, Cambridgeshire\, CB24 5NQ\, United Kingdom
ATTACH;FMTTYPE=image/jpeg:https://www.overvillage.co.uk/WP/wp-content/uploads/2023/12/sketch-crowd-little-people-with-flying-notes-illustration_156892-671.jpg
ORGANIZER;CN="Sharon Stevens":MAILTO:parafun@hotmail.co.uk
END:VEVENT
BEGIN:VEVENT
DTSTART;TZID=UTC:20260709T100000
DTEND;TZID=UTC:20260709T120000
DTSTAMP:20260421T052318
CREATED:20241023T112032Z
LAST-MODIFIED:20241213T080103Z
UID:10001099-1783591200-1783598400@www.overvillage.co.uk
SUMMARY:Mustard Seed Community Cafe at St Mary's Church Hall
DESCRIPTION:Join us for a warm welcome\, fresh coffee\, tea and delicious home-baked treats! \nWe provide free squash or milk for children and a play area with toys. \nSt Mary’s Church Hall\, Over
URL:https://www.overvillage.co.uk/WP/event/mustard-seed-community-cafe-at-st-marys-church-hall-2/2026-07-09/
LOCATION:St Marys Church\, Church End\, Over\, Cambridgeshire\, CB24 5NH\, United Kingdom
ATTACH;FMTTYPE=image/jpeg:https://www.overvillage.co.uk/WP/wp-content/uploads/2024/02/thomas-bormans-sMkSzzNwCbo-unsplash-scaled.jpg
END:VEVENT
BEGIN:VEVENT
DTSTART;VALUE=DATE:20260710
DTEND;VALUE=DATE:20260711
DTSTAMP:20260421T052318
CREATED:20260130T123512Z
LAST-MODIFIED:20260130T123512Z
UID:10007738-1783641600-1783727999@www.overvillage.co.uk
SUMMARY:Blue/Green bin collection
DESCRIPTION:
URL:https://www.overvillage.co.uk/WP/event/blue-green-bin-collection-2/2026-07-10/
LOCATION:kerbside
ATTACH;FMTTYPE=image/jpeg:https://www.overvillage.co.uk/WP/wp-content/uploads/2023/09/recycling-bins-vector-909606.jpg
END:VEVENT
BEGIN:VEVENT
DTSTART;TZID=UTC:20260710T091500
DTEND;TZID=UTC:20260710T101500
DTSTAMP:20260421T052318
CREATED:20231205T140031Z
LAST-MODIFIED:20260406T184147Z
UID:10000833-1783674900-1783678500@www.overvillage.co.uk
SUMMARY:Dancing and Parachute Play
DESCRIPTION:Fridays 0915 to 1015 at Over Methodist Church.  Cost £5 for one child plus £1 for each additional charge. Term time only.
URL:https://www.overvillage.co.uk/WP/event/dancing-and-parachute-play/2026-07-10/
LOCATION:Methodist Church Over\, The Lanes\, Over\, Cambridgeshire\, CB24 5NQ\, United Kingdom
ATTACH;FMTTYPE=image/jpeg:https://www.overvillage.co.uk/WP/wp-content/uploads/2023/12/artem-kniaz-DqgMHzeio7g-unsplash-scaled.jpg
ORGANIZER;CN="Sharon Stevens":MAILTO:parafun@hotmail.co.uk
END:VEVENT
BEGIN:VEVENT
DTSTART;TZID=UTC:20260710T093000
DTEND;TZID=UTC:20260710T113000
DTSTAMP:20260421T052318
CREATED:20250528T083724Z
LAST-MODIFIED:20250528T083724Z
UID:10001950-1783675800-1783683000@www.overvillage.co.uk
SUMMARY:Needle Craft Group
DESCRIPTION:Do you enjoy textile hobbies?\nAre you available on Friday mornings?\nWhether you’re an embroiderer\, crocheter\, knitter\, patchworker …….any form of textile artist or crafter really\, and whatever level of skill you have\, you’d be most welcome to join us in Over Community Centre on Friday mornings from 9.30.\nOur aim to get together to socialise through our hobbies\, hopefully inspiring and helping each other to learn new skills.\nWe meet in the lounge and support the centre by buying our drinks  from the café.
URL:https://www.overvillage.co.uk/WP/event/fibre-craft-group-2/2026-07-10/
LOCATION:Over Community Centre\, 16 The Doles\, Over\,\, Cambridgeshire\, CB24 5NW\, United Kingdom
ATTACH;FMTTYPE=image/jpeg:https://www.overvillage.co.uk/WP/wp-content/uploads/2024/05/barbara-krysztofiak-PCBcjIYOgSs-unsplash.jpg
END:VEVENT
BEGIN:VEVENT
DTSTART;TZID=UTC:20260713T093000
DTEND;TZID=UTC:20260713T123000
DTSTAMP:20260421T052318
CREATED:20251218T164913Z
LAST-MODIFIED:20260102T095223Z
UID:10006676-1783935000-1783945800@www.overvillage.co.uk
SUMMARY:Post Office - Over Mobile Service - see below for info
DESCRIPTION:The mobile Post Office service will be open on the following days and venues. \nThere may be changes to the schedule so please check the Post Office’s web site for updates. \nOver Community Centre: \nMonday 09:30 – 12:30 \nWednesday 09:30 – 12:30 \nThursday 09:30 – 12:30 \nFriday 15:00 – 16:00 \nElm Court: \nTuesday 09:30 – 12:30 \n  \n 
URL:https://www.overvillage.co.uk/WP/event/post-office-over-mobile-service-5-2-2/2026-07-13/
LOCATION:Over Community Centre\, 16 The Doles\, Over\,\, Cambridgeshire\, CB24 5NW\, United Kingdom
ATTACH;FMTTYPE=image/jpeg:https://www.overvillage.co.uk/WP/wp-content/uploads/2024/08/Royal-Mail-post-office-scaled-1.jpg
END:VEVENT
BEGIN:VEVENT
DTSTART;TZID=UTC:20260714T161500
DTEND;TZID=UTC:20260818T181500
DTSTAMP:20260421T052318
CREATED:20260311T092850Z
LAST-MODIFIED:20260311T170230Z
UID:10007884-1784045700-1787076900@www.overvillage.co.uk
SUMMARY:Netball Club for Juniors
DESCRIPTION:Tuesday netball club for juniors with GK Fit  \n\nFun and inclusive weekly netball for girls and boys in Years 4-9\n\nEvery Tuesday from 14 April at Swavesey VC\n4.15: Year 4\, 5 & 6’s\n\n5.15: Year 7\, 8 & 9’s\n\nCost: £6.25 per session\, £5 for siblings\n\n\nBook at: gkfit.co.uk/netball
URL:https://www.overvillage.co.uk/WP/event/netball-club-for-juniors/2026-07-14/
LOCATION:Swavesey Village College\, Swavesey Village College\, Swavesey\, Cambridgeshire\, United Kingdom
ATTACH;FMTTYPE=image/jpeg:https://www.overvillage.co.uk/WP/wp-content/uploads/2026/03/GK-Fit-netball-SVC-scaled.jpg
END:VEVENT
BEGIN:VEVENT
DTSTART;TZID=UTC:20260715T091500
DTEND;TZID=UTC:20260715T103000
DTSTAMP:20260421T052318
CREATED:20251022T143930Z
LAST-MODIFIED:20260406T184001Z
UID:10000575-1784106900-1784111400@www.overvillage.co.uk
SUMMARY:Clap and Sing
DESCRIPTION:Sessions run every Wednesday between 0915 and 1030 at the Methodist Hall.  £5 for one child plus £1 for each additional child. Term time only.
URL:https://www.overvillage.co.uk/WP/event/clap-and-sing-2/2026-07-15/
LOCATION:Methodist Church Over\, The Lanes\, Over\, Cambridgeshire\, CB24 5NQ\, United Kingdom
ATTACH;FMTTYPE=image/jpeg:https://www.overvillage.co.uk/WP/wp-content/uploads/2023/12/sketch-crowd-little-people-with-flying-notes-illustration_156892-671.jpg
ORGANIZER;CN="Sharon Stevens":MAILTO:parafun@hotmail.co.uk
END:VEVENT
BEGIN:VEVENT
DTSTART;TZID=UTC:20260715T190000
DTEND;TZID=UTC:20260715T220000
DTSTAMP:20260421T052318
CREATED:20251112T104741Z
LAST-MODIFIED:20251112T104741Z
UID:10007481-1784142000-1784152800@www.overvillage.co.uk
SUMMARY:Over Gardening Club
DESCRIPTION:Summer Garden Party & Social Evening – info tbc \nWe are a friendly group of gardeners and plant lovers who have regular meetings with a speaker and raffle and occasional plant sales.  Meetings are held on the 3rd Wednesday of each month; from September to May we meet at Over Community Centre where we usually have a guest speaker talking on various aspects of gardening\, in June we often arrange a visit to a local garden and in July we hold a social evening.  Membership runs annually from 1 April to 31 March and is currently £15.00 per year.  Visitors to meetings are welcome but we do ask for a guest fee of £3.00 per visit.  A 10% discount is available on most items at Oakington Garden Centre\, plants at Parkhall Nursery in Somersham and also items from Madingley Mulch with a current membership card. \n  \nIf you would like to come to a meeting as a guest just turn up or contact any member of the committee for further details\, we would love to see you.  Committee members: Richard Cox\, Julie Carter\, Jeremy Tyrrell\, Carolyn Redmayne\, Carole Cowley\, Jan Hook\, Julie Wilson\, Cynthia Bidwell\, Rachel Henshaw \nEnquiries\, please email gardeningclubover@gmail.com
URL:https://www.overvillage.co.uk/WP/event/over-gardening-club-16/
LOCATION:Cambridgeshire
ATTACH;FMTTYPE=image/jpeg:https://www.overvillage.co.uk/WP/wp-content/uploads/2023/11/627e820e49d6f.image_.jpg
END:VEVENT
BEGIN:VEVENT
DTSTART;TZID=UTC:20260716T100000
DTEND;TZID=UTC:20260716T120000
DTSTAMP:20260421T052318
CREATED:20241023T112032Z
LAST-MODIFIED:20241213T080103Z
UID:10001100-1784196000-1784203200@www.overvillage.co.uk
SUMMARY:Mustard Seed Community Cafe at St Mary's Church Hall
DESCRIPTION:Join us for a warm welcome\, fresh coffee\, tea and delicious home-baked treats! \nWe provide free squash or milk for children and a play area with toys. \nSt Mary’s Church Hall\, Over
URL:https://www.overvillage.co.uk/WP/event/mustard-seed-community-cafe-at-st-marys-church-hall-2/2026-07-16/
LOCATION:St Marys Church\, Church End\, Over\, Cambridgeshire\, CB24 5NH\, United Kingdom
ATTACH;FMTTYPE=image/jpeg:https://www.overvillage.co.uk/WP/wp-content/uploads/2024/02/thomas-bormans-sMkSzzNwCbo-unsplash-scaled.jpg
END:VEVENT
BEGIN:VEVENT
DTSTART;VALUE=DATE:20260717
DTEND;VALUE=DATE:20260718
DTSTAMP:20260421T052318
CREATED:20260130T123650Z
LAST-MODIFIED:20260130T123650Z
UID:10007548-1784246400-1784332799@www.overvillage.co.uk
SUMMARY:Black Bin Collection
DESCRIPTION:Please leave your bins out the night before or early morning
URL:https://www.overvillage.co.uk/WP/event/black-bin-collection-2-2/2026-07-17/
LOCATION:kerbside
ATTACH;FMTTYPE=image/png:https://www.overvillage.co.uk/WP/wp-content/uploads/2023/09/Monthly-Collection-300x300-1.png
END:VEVENT
BEGIN:VEVENT
DTSTART;TZID=UTC:20260717T091500
DTEND;TZID=UTC:20260717T101500
DTSTAMP:20260421T052318
CREATED:20231205T140031Z
LAST-MODIFIED:20260406T184147Z
UID:10000834-1784279700-1784283300@www.overvillage.co.uk
SUMMARY:Dancing and Parachute Play
DESCRIPTION:Fridays 0915 to 1015 at Over Methodist Church.  Cost £5 for one child plus £1 for each additional charge. Term time only.
URL:https://www.overvillage.co.uk/WP/event/dancing-and-parachute-play/2026-07-17/
LOCATION:Methodist Church Over\, The Lanes\, Over\, Cambridgeshire\, CB24 5NQ\, United Kingdom
ATTACH;FMTTYPE=image/jpeg:https://www.overvillage.co.uk/WP/wp-content/uploads/2023/12/artem-kniaz-DqgMHzeio7g-unsplash-scaled.jpg
ORGANIZER;CN="Sharon Stevens":MAILTO:parafun@hotmail.co.uk
END:VEVENT
BEGIN:VEVENT
DTSTART;TZID=UTC:20260717T093000
DTEND;TZID=UTC:20260717T113000
DTSTAMP:20260421T052318
CREATED:20250528T083724Z
LAST-MODIFIED:20250528T083724Z
UID:10001951-1784280600-1784287800@www.overvillage.co.uk
SUMMARY:Needle Craft Group
DESCRIPTION:Do you enjoy textile hobbies?\nAre you available on Friday mornings?\nWhether you’re an embroiderer\, crocheter\, knitter\, patchworker …….any form of textile artist or crafter really\, and whatever level of skill you have\, you’d be most welcome to join us in Over Community Centre on Friday mornings from 9.30.\nOur aim to get together to socialise through our hobbies\, hopefully inspiring and helping each other to learn new skills.\nWe meet in the lounge and support the centre by buying our drinks  from the café.
URL:https://www.overvillage.co.uk/WP/event/fibre-craft-group-2/2026-07-17/
LOCATION:Over Community Centre\, 16 The Doles\, Over\,\, Cambridgeshire\, CB24 5NW\, United Kingdom
ATTACH;FMTTYPE=image/jpeg:https://www.overvillage.co.uk/WP/wp-content/uploads/2024/05/barbara-krysztofiak-PCBcjIYOgSs-unsplash.jpg
END:VEVENT
BEGIN:VEVENT
DTSTART;TZID=UTC:20260720T093000
DTEND;TZID=UTC:20260720T123000
DTSTAMP:20260421T052318
CREATED:20251218T164913Z
LAST-MODIFIED:20260102T095223Z
UID:10006677-1784539800-1784550600@www.overvillage.co.uk
SUMMARY:Post Office - Over Mobile Service - see below for info
DESCRIPTION:The mobile Post Office service will be open on the following days and venues. \nThere may be changes to the schedule so please check the Post Office’s web site for updates. \nOver Community Centre: \nMonday 09:30 – 12:30 \nWednesday 09:30 – 12:30 \nThursday 09:30 – 12:30 \nFriday 15:00 – 16:00 \nElm Court: \nTuesday 09:30 – 12:30 \n  \n 
URL:https://www.overvillage.co.uk/WP/event/post-office-over-mobile-service-5-2-2/2026-07-20/
LOCATION:Over Community Centre\, 16 The Doles\, Over\,\, Cambridgeshire\, CB24 5NW\, United Kingdom
ATTACH;FMTTYPE=image/jpeg:https://www.overvillage.co.uk/WP/wp-content/uploads/2024/08/Royal-Mail-post-office-scaled-1.jpg
END:VEVENT
BEGIN:VEVENT
DTSTART;TZID=UTC:20260721T161500
DTEND;TZID=UTC:20260825T181500
DTSTAMP:20260421T052318
CREATED:20260311T092850Z
LAST-MODIFIED:20260311T170230Z
UID:10007885-1784650500-1787681700@www.overvillage.co.uk
SUMMARY:Netball Club for Juniors
DESCRIPTION:Tuesday netball club for juniors with GK Fit  \n\nFun and inclusive weekly netball for girls and boys in Years 4-9\n\nEvery Tuesday from 14 April at Swavesey VC\n4.15: Year 4\, 5 & 6’s\n\n5.15: Year 7\, 8 & 9’s\n\nCost: £6.25 per session\, £5 for siblings\n\n\nBook at: gkfit.co.uk/netball
URL:https://www.overvillage.co.uk/WP/event/netball-club-for-juniors/2026-07-21/
LOCATION:Swavesey Village College\, Swavesey Village College\, Swavesey\, Cambridgeshire\, United Kingdom
ATTACH;FMTTYPE=image/jpeg:https://www.overvillage.co.uk/WP/wp-content/uploads/2026/03/GK-Fit-netball-SVC-scaled.jpg
END:VEVENT
BEGIN:VEVENT
DTSTART;TZID=UTC:20260722T091500
DTEND;TZID=UTC:20260722T103000
DTSTAMP:20260421T052318
CREATED:20251022T143930Z
LAST-MODIFIED:20260406T184001Z
UID:10000576-1784711700-1784716200@www.overvillage.co.uk
SUMMARY:Clap and Sing
DESCRIPTION:Sessions run every Wednesday between 0915 and 1030 at the Methodist Hall.  £5 for one child plus £1 for each additional child. Term time only.
URL:https://www.overvillage.co.uk/WP/event/clap-and-sing-2/2026-07-22/
LOCATION:Methodist Church Over\, The Lanes\, Over\, Cambridgeshire\, CB24 5NQ\, United Kingdom
ATTACH;FMTTYPE=image/jpeg:https://www.overvillage.co.uk/WP/wp-content/uploads/2023/12/sketch-crowd-little-people-with-flying-notes-illustration_156892-671.jpg
ORGANIZER;CN="Sharon Stevens":MAILTO:parafun@hotmail.co.uk
END:VEVENT
END:VCALENDAR