BEGIN:VCALENDAR
VERSION:2.0
PRODID:-//Over Village News - ECPv6.15.20//NONSGML v1.0//EN
CALSCALE:GREGORIAN
METHOD:PUBLISH
X-WR-CALNAME:Over Village News
X-ORIGINAL-URL:https://www.overvillage.co.uk/WP
X-WR-CALDESC:Events for Over Village News
REFRESH-INTERVAL;VALUE=DURATION:PT1H
X-Robots-Tag:noindex
X-PUBLISHED-TTL:PT1H
BEGIN:VTIMEZONE
TZID:UTC
BEGIN:STANDARD
TZOFFSETFROM:+0000
TZOFFSETTO:+0000
TZNAME:UTC
DTSTART:20250101T000000
END:STANDARD
END:VTIMEZONE
BEGIN:VEVENT
DTSTART;VALUE=DATE:20260424
DTEND;VALUE=DATE:20260425
DTSTAMP:20260420T192523
CREATED:20260130T123650Z
LAST-MODIFIED:20260130T123650Z
UID:10007542-1776988800-1777075199@www.overvillage.co.uk
SUMMARY:Black Bin Collection
DESCRIPTION:Please leave your bins out the night before or early morning
URL:https://www.overvillage.co.uk/WP/event/black-bin-collection-2-2/2026-04-24/
LOCATION:kerbside
ATTACH;FMTTYPE=image/png:https://www.overvillage.co.uk/WP/wp-content/uploads/2023/09/Monthly-Collection-300x300-1.png
END:VEVENT
BEGIN:VEVENT
DTSTART;VALUE=DATE:20260508
DTEND;VALUE=DATE:20260509
DTSTAMP:20260420T192523
CREATED:20260130T123650Z
LAST-MODIFIED:20260130T123650Z
UID:10007543-1778198400-1778284799@www.overvillage.co.uk
SUMMARY:Black Bin Collection
DESCRIPTION:Please leave your bins out the night before or early morning
URL:https://www.overvillage.co.uk/WP/event/black-bin-collection-2-2/2026-05-08/
LOCATION:kerbside
ATTACH;FMTTYPE=image/png:https://www.overvillage.co.uk/WP/wp-content/uploads/2023/09/Monthly-Collection-300x300-1.png
END:VEVENT
BEGIN:VEVENT
DTSTART;VALUE=DATE:20260522
DTEND;VALUE=DATE:20260523
DTSTAMP:20260420T192523
CREATED:20260130T123650Z
LAST-MODIFIED:20260130T123650Z
UID:10007544-1779408000-1779494399@www.overvillage.co.uk
SUMMARY:Black Bin Collection
DESCRIPTION:Please leave your bins out the night before or early morning
URL:https://www.overvillage.co.uk/WP/event/black-bin-collection-2-2/2026-05-22/
LOCATION:kerbside
ATTACH;FMTTYPE=image/png:https://www.overvillage.co.uk/WP/wp-content/uploads/2023/09/Monthly-Collection-300x300-1.png
END:VEVENT
BEGIN:VEVENT
DTSTART;VALUE=DATE:20260605
DTEND;VALUE=DATE:20260606
DTSTAMP:20260420T192523
CREATED:20260130T123650Z
LAST-MODIFIED:20260130T123650Z
UID:10007545-1780617600-1780703999@www.overvillage.co.uk
SUMMARY:Black Bin Collection
DESCRIPTION:Please leave your bins out the night before or early morning
URL:https://www.overvillage.co.uk/WP/event/black-bin-collection-2-2/2026-06-05/
LOCATION:kerbside
ATTACH;FMTTYPE=image/png:https://www.overvillage.co.uk/WP/wp-content/uploads/2023/09/Monthly-Collection-300x300-1.png
END:VEVENT
BEGIN:VEVENT
DTSTART;VALUE=DATE:20260619
DTEND;VALUE=DATE:20260620
DTSTAMP:20260420T192523
CREATED:20260130T123650Z
LAST-MODIFIED:20260130T123650Z
UID:10007546-1781827200-1781913599@www.overvillage.co.uk
SUMMARY:Black Bin Collection
DESCRIPTION:Please leave your bins out the night before or early morning
URL:https://www.overvillage.co.uk/WP/event/black-bin-collection-2-2/2026-06-19/
LOCATION:kerbside
ATTACH;FMTTYPE=image/png:https://www.overvillage.co.uk/WP/wp-content/uploads/2023/09/Monthly-Collection-300x300-1.png
END:VEVENT
BEGIN:VEVENT
DTSTART;VALUE=DATE:20260703
DTEND;VALUE=DATE:20260704
DTSTAMP:20260420T192523
CREATED:20260130T123650Z
LAST-MODIFIED:20260130T123650Z
UID:10007547-1783036800-1783123199@www.overvillage.co.uk
SUMMARY:Black Bin Collection
DESCRIPTION:Please leave your bins out the night before or early morning
URL:https://www.overvillage.co.uk/WP/event/black-bin-collection-2-2/2026-07-03/
LOCATION:kerbside
ATTACH;FMTTYPE=image/png:https://www.overvillage.co.uk/WP/wp-content/uploads/2023/09/Monthly-Collection-300x300-1.png
END:VEVENT
BEGIN:VEVENT
DTSTART;VALUE=DATE:20260717
DTEND;VALUE=DATE:20260718
DTSTAMP:20260420T192523
CREATED:20260130T123650Z
LAST-MODIFIED:20260130T123650Z
UID:10007548-1784246400-1784332799@www.overvillage.co.uk
SUMMARY:Black Bin Collection
DESCRIPTION:Please leave your bins out the night before or early morning
URL:https://www.overvillage.co.uk/WP/event/black-bin-collection-2-2/2026-07-17/
LOCATION:kerbside
ATTACH;FMTTYPE=image/png:https://www.overvillage.co.uk/WP/wp-content/uploads/2023/09/Monthly-Collection-300x300-1.png
END:VEVENT
BEGIN:VEVENT
DTSTART;VALUE=DATE:20260731
DTEND;VALUE=DATE:20260801
DTSTAMP:20260420T192523
CREATED:20260130T123650Z
LAST-MODIFIED:20260130T123650Z
UID:10007549-1785456000-1785542399@www.overvillage.co.uk
SUMMARY:Black Bin Collection
DESCRIPTION:Please leave your bins out the night before or early morning
URL:https://www.overvillage.co.uk/WP/event/black-bin-collection-2-2/2026-07-31/
LOCATION:kerbside
ATTACH;FMTTYPE=image/png:https://www.overvillage.co.uk/WP/wp-content/uploads/2023/09/Monthly-Collection-300x300-1.png
END:VEVENT
BEGIN:VEVENT
DTSTART;VALUE=DATE:20260814
DTEND;VALUE=DATE:20260815
DTSTAMP:20260420T192523
CREATED:20260130T123650Z
LAST-MODIFIED:20260130T123650Z
UID:10007550-1786665600-1786751999@www.overvillage.co.uk
SUMMARY:Black Bin Collection
DESCRIPTION:Please leave your bins out the night before or early morning
URL:https://www.overvillage.co.uk/WP/event/black-bin-collection-2-2/2026-08-14/
LOCATION:kerbside
ATTACH;FMTTYPE=image/png:https://www.overvillage.co.uk/WP/wp-content/uploads/2023/09/Monthly-Collection-300x300-1.png
END:VEVENT
BEGIN:VEVENT
DTSTART;VALUE=DATE:20260828
DTEND;VALUE=DATE:20260829
DTSTAMP:20260420T192523
CREATED:20260130T123650Z
LAST-MODIFIED:20260130T123650Z
UID:10007551-1787875200-1787961599@www.overvillage.co.uk
SUMMARY:Black Bin Collection
DESCRIPTION:Please leave your bins out the night before or early morning
URL:https://www.overvillage.co.uk/WP/event/black-bin-collection-2-2/2026-08-28/
LOCATION:kerbside
ATTACH;FMTTYPE=image/png:https://www.overvillage.co.uk/WP/wp-content/uploads/2023/09/Monthly-Collection-300x300-1.png
END:VEVENT
BEGIN:VEVENT
DTSTART;VALUE=DATE:20260911
DTEND;VALUE=DATE:20260912
DTSTAMP:20260420T192523
CREATED:20260130T123650Z
LAST-MODIFIED:20260130T123650Z
UID:10007552-1789084800-1789171199@www.overvillage.co.uk
SUMMARY:Black Bin Collection
DESCRIPTION:Please leave your bins out the night before or early morning
URL:https://www.overvillage.co.uk/WP/event/black-bin-collection-2-2/2026-09-11/
LOCATION:kerbside
ATTACH;FMTTYPE=image/png:https://www.overvillage.co.uk/WP/wp-content/uploads/2023/09/Monthly-Collection-300x300-1.png
END:VEVENT
BEGIN:VEVENT
DTSTART;VALUE=DATE:20260925
DTEND;VALUE=DATE:20260926
DTSTAMP:20260420T192523
CREATED:20260130T123650Z
LAST-MODIFIED:20260130T123650Z
UID:10007553-1790294400-1790380799@www.overvillage.co.uk
SUMMARY:Black Bin Collection
DESCRIPTION:Please leave your bins out the night before or early morning
URL:https://www.overvillage.co.uk/WP/event/black-bin-collection-2-2/2026-09-25/
LOCATION:kerbside
ATTACH;FMTTYPE=image/png:https://www.overvillage.co.uk/WP/wp-content/uploads/2023/09/Monthly-Collection-300x300-1.png
END:VEVENT
BEGIN:VEVENT
DTSTART;VALUE=DATE:20261009
DTEND;VALUE=DATE:20261010
DTSTAMP:20260420T192523
CREATED:20260130T123650Z
LAST-MODIFIED:20260130T123650Z
UID:10007554-1791504000-1791590399@www.overvillage.co.uk
SUMMARY:Black Bin Collection
DESCRIPTION:Please leave your bins out the night before or early morning
URL:https://www.overvillage.co.uk/WP/event/black-bin-collection-2-2/2026-10-09/
LOCATION:kerbside
ATTACH;FMTTYPE=image/png:https://www.overvillage.co.uk/WP/wp-content/uploads/2023/09/Monthly-Collection-300x300-1.png
END:VEVENT
BEGIN:VEVENT
DTSTART;VALUE=DATE:20261023
DTEND;VALUE=DATE:20261024
DTSTAMP:20260420T192523
CREATED:20260130T123650Z
LAST-MODIFIED:20260130T123650Z
UID:10007555-1792713600-1792799999@www.overvillage.co.uk
SUMMARY:Black Bin Collection
DESCRIPTION:Please leave your bins out the night before or early morning
URL:https://www.overvillage.co.uk/WP/event/black-bin-collection-2-2/2026-10-23/
LOCATION:kerbside
ATTACH;FMTTYPE=image/png:https://www.overvillage.co.uk/WP/wp-content/uploads/2023/09/Monthly-Collection-300x300-1.png
END:VEVENT
BEGIN:VEVENT
DTSTART;VALUE=DATE:20261106
DTEND;VALUE=DATE:20261107
DTSTAMP:20260420T192523
CREATED:20260130T123650Z
LAST-MODIFIED:20260130T123650Z
UID:10007556-1793923200-1794009599@www.overvillage.co.uk
SUMMARY:Black Bin Collection
DESCRIPTION:Please leave your bins out the night before or early morning
URL:https://www.overvillage.co.uk/WP/event/black-bin-collection-2-2/2026-11-06/
LOCATION:kerbside
ATTACH;FMTTYPE=image/png:https://www.overvillage.co.uk/WP/wp-content/uploads/2023/09/Monthly-Collection-300x300-1.png
END:VEVENT
BEGIN:VEVENT
DTSTART;VALUE=DATE:20261120
DTEND;VALUE=DATE:20261121
DTSTAMP:20260420T192523
CREATED:20260130T123650Z
LAST-MODIFIED:20260130T123650Z
UID:10007557-1795132800-1795219199@www.overvillage.co.uk
SUMMARY:Black Bin Collection
DESCRIPTION:Please leave your bins out the night before or early morning
URL:https://www.overvillage.co.uk/WP/event/black-bin-collection-2-2/2026-11-20/
LOCATION:kerbside
ATTACH;FMTTYPE=image/png:https://www.overvillage.co.uk/WP/wp-content/uploads/2023/09/Monthly-Collection-300x300-1.png
END:VEVENT
BEGIN:VEVENT
DTSTART;VALUE=DATE:20261204
DTEND;VALUE=DATE:20261205
DTSTAMP:20260420T192523
CREATED:20260130T123650Z
LAST-MODIFIED:20260130T123650Z
UID:10007558-1796342400-1796428799@www.overvillage.co.uk
SUMMARY:Black Bin Collection
DESCRIPTION:Please leave your bins out the night before or early morning
URL:https://www.overvillage.co.uk/WP/event/black-bin-collection-2-2/2026-12-04/
LOCATION:kerbside
ATTACH;FMTTYPE=image/png:https://www.overvillage.co.uk/WP/wp-content/uploads/2023/09/Monthly-Collection-300x300-1.png
END:VEVENT
BEGIN:VEVENT
DTSTART;VALUE=DATE:20261218
DTEND;VALUE=DATE:20261219
DTSTAMP:20260420T192523
CREATED:20260130T123650Z
LAST-MODIFIED:20260130T123650Z
UID:10007559-1797552000-1797638399@www.overvillage.co.uk
SUMMARY:Black Bin Collection
DESCRIPTION:Please leave your bins out the night before or early morning
URL:https://www.overvillage.co.uk/WP/event/black-bin-collection-2-2/2026-12-18/
LOCATION:kerbside
ATTACH;FMTTYPE=image/png:https://www.overvillage.co.uk/WP/wp-content/uploads/2023/09/Monthly-Collection-300x300-1.png
END:VEVENT
BEGIN:VEVENT
DTSTART;VALUE=DATE:20270101
DTEND;VALUE=DATE:20270102
DTSTAMP:20260420T192523
CREATED:20260130T123650Z
LAST-MODIFIED:20260130T123650Z
UID:10007560-1798761600-1798847999@www.overvillage.co.uk
SUMMARY:Black Bin Collection
DESCRIPTION:Please leave your bins out the night before or early morning
URL:https://www.overvillage.co.uk/WP/event/black-bin-collection-2-2/2027-01-01/
LOCATION:kerbside
ATTACH;FMTTYPE=image/png:https://www.overvillage.co.uk/WP/wp-content/uploads/2023/09/Monthly-Collection-300x300-1.png
END:VEVENT
BEGIN:VEVENT
DTSTART;VALUE=DATE:20270115
DTEND;VALUE=DATE:20270116
DTSTAMP:20260420T192523
CREATED:20260130T123650Z
LAST-MODIFIED:20260130T123650Z
UID:10007561-1799971200-1800057599@www.overvillage.co.uk
SUMMARY:Black Bin Collection
DESCRIPTION:Please leave your bins out the night before or early morning
URL:https://www.overvillage.co.uk/WP/event/black-bin-collection-2-2/2027-01-15/
LOCATION:kerbside
ATTACH;FMTTYPE=image/png:https://www.overvillage.co.uk/WP/wp-content/uploads/2023/09/Monthly-Collection-300x300-1.png
END:VEVENT
BEGIN:VEVENT
DTSTART;VALUE=DATE:20270129
DTEND;VALUE=DATE:20270130
DTSTAMP:20260420T192523
CREATED:20260130T123650Z
LAST-MODIFIED:20260130T123650Z
UID:10007562-1801180800-1801267199@www.overvillage.co.uk
SUMMARY:Black Bin Collection
DESCRIPTION:Please leave your bins out the night before or early morning
URL:https://www.overvillage.co.uk/WP/event/black-bin-collection-2-2/2027-01-29/
LOCATION:kerbside
ATTACH;FMTTYPE=image/png:https://www.overvillage.co.uk/WP/wp-content/uploads/2023/09/Monthly-Collection-300x300-1.png
END:VEVENT
BEGIN:VEVENT
DTSTART;VALUE=DATE:20270212
DTEND;VALUE=DATE:20270213
DTSTAMP:20260420T192523
CREATED:20260130T123650Z
LAST-MODIFIED:20260130T123650Z
UID:10007563-1802390400-1802476799@www.overvillage.co.uk
SUMMARY:Black Bin Collection
DESCRIPTION:Please leave your bins out the night before or early morning
URL:https://www.overvillage.co.uk/WP/event/black-bin-collection-2-2/2027-02-12/
LOCATION:kerbside
ATTACH;FMTTYPE=image/png:https://www.overvillage.co.uk/WP/wp-content/uploads/2023/09/Monthly-Collection-300x300-1.png
END:VEVENT
BEGIN:VEVENT
DTSTART;VALUE=DATE:20270226
DTEND;VALUE=DATE:20270227
DTSTAMP:20260420T192523
CREATED:20260130T123650Z
LAST-MODIFIED:20260130T123650Z
UID:10007564-1803600000-1803686399@www.overvillage.co.uk
SUMMARY:Black Bin Collection
DESCRIPTION:Please leave your bins out the night before or early morning
URL:https://www.overvillage.co.uk/WP/event/black-bin-collection-2-2/2027-02-26/
LOCATION:kerbside
ATTACH;FMTTYPE=image/png:https://www.overvillage.co.uk/WP/wp-content/uploads/2023/09/Monthly-Collection-300x300-1.png
END:VEVENT
BEGIN:VEVENT
DTSTART;VALUE=DATE:20270312
DTEND;VALUE=DATE:20270313
DTSTAMP:20260420T192523
CREATED:20260130T123650Z
LAST-MODIFIED:20260130T123650Z
UID:10007565-1804809600-1804895999@www.overvillage.co.uk
SUMMARY:Black Bin Collection
DESCRIPTION:Please leave your bins out the night before or early morning
URL:https://www.overvillage.co.uk/WP/event/black-bin-collection-2-2/2027-03-12/
LOCATION:kerbside
ATTACH;FMTTYPE=image/png:https://www.overvillage.co.uk/WP/wp-content/uploads/2023/09/Monthly-Collection-300x300-1.png
END:VEVENT
BEGIN:VEVENT
DTSTART;VALUE=DATE:20270326
DTEND;VALUE=DATE:20270327
DTSTAMP:20260420T192523
CREATED:20260130T123650Z
LAST-MODIFIED:20260130T123650Z
UID:10007566-1806019200-1806105599@www.overvillage.co.uk
SUMMARY:Black Bin Collection
DESCRIPTION:Please leave your bins out the night before or early morning
URL:https://www.overvillage.co.uk/WP/event/black-bin-collection-2-2/2027-03-26/
LOCATION:kerbside
ATTACH;FMTTYPE=image/png:https://www.overvillage.co.uk/WP/wp-content/uploads/2023/09/Monthly-Collection-300x300-1.png
END:VEVENT
BEGIN:VEVENT
DTSTART;VALUE=DATE:20270409
DTEND;VALUE=DATE:20270410
DTSTAMP:20260420T192523
CREATED:20260130T123650Z
LAST-MODIFIED:20260130T123650Z
UID:10007567-1807228800-1807315199@www.overvillage.co.uk
SUMMARY:Black Bin Collection
DESCRIPTION:Please leave your bins out the night before or early morning
URL:https://www.overvillage.co.uk/WP/event/black-bin-collection-2-2/2027-04-09/
LOCATION:kerbside
ATTACH;FMTTYPE=image/png:https://www.overvillage.co.uk/WP/wp-content/uploads/2023/09/Monthly-Collection-300x300-1.png
END:VEVENT
BEGIN:VEVENT
DTSTART;VALUE=DATE:20270423
DTEND;VALUE=DATE:20270424
DTSTAMP:20260420T192523
CREATED:20260130T123650Z
LAST-MODIFIED:20260130T123650Z
UID:10007568-1808438400-1808524799@www.overvillage.co.uk
SUMMARY:Black Bin Collection
DESCRIPTION:Please leave your bins out the night before or early morning
URL:https://www.overvillage.co.uk/WP/event/black-bin-collection-2-2/2027-04-23/
LOCATION:kerbside
ATTACH;FMTTYPE=image/png:https://www.overvillage.co.uk/WP/wp-content/uploads/2023/09/Monthly-Collection-300x300-1.png
END:VEVENT
BEGIN:VEVENT
DTSTART;VALUE=DATE:20270507
DTEND;VALUE=DATE:20270508
DTSTAMP:20260420T192523
CREATED:20260130T123650Z
LAST-MODIFIED:20260130T123650Z
UID:10007569-1809648000-1809734399@www.overvillage.co.uk
SUMMARY:Black Bin Collection
DESCRIPTION:Please leave your bins out the night before or early morning
URL:https://www.overvillage.co.uk/WP/event/black-bin-collection-2-2/2027-05-07/
LOCATION:kerbside
ATTACH;FMTTYPE=image/png:https://www.overvillage.co.uk/WP/wp-content/uploads/2023/09/Monthly-Collection-300x300-1.png
END:VEVENT
BEGIN:VEVENT
DTSTART;VALUE=DATE:20270521
DTEND;VALUE=DATE:20270522
DTSTAMP:20260420T192523
CREATED:20260130T123650Z
LAST-MODIFIED:20260130T123650Z
UID:10007570-1810857600-1810943999@www.overvillage.co.uk
SUMMARY:Black Bin Collection
DESCRIPTION:Please leave your bins out the night before or early morning
URL:https://www.overvillage.co.uk/WP/event/black-bin-collection-2-2/2027-05-21/
LOCATION:kerbside
ATTACH;FMTTYPE=image/png:https://www.overvillage.co.uk/WP/wp-content/uploads/2023/09/Monthly-Collection-300x300-1.png
END:VEVENT
BEGIN:VEVENT
DTSTART;VALUE=DATE:20270604
DTEND;VALUE=DATE:20270605
DTSTAMP:20260420T192523
CREATED:20260130T123650Z
LAST-MODIFIED:20260130T123650Z
UID:10007571-1812067200-1812153599@www.overvillage.co.uk
SUMMARY:Black Bin Collection
DESCRIPTION:Please leave your bins out the night before or early morning
URL:https://www.overvillage.co.uk/WP/event/black-bin-collection-2-2/2027-06-04/
LOCATION:kerbside
ATTACH;FMTTYPE=image/png:https://www.overvillage.co.uk/WP/wp-content/uploads/2023/09/Monthly-Collection-300x300-1.png
END:VEVENT
END:VCALENDAR