BEGIN:VCALENDAR
VERSION:2.0
PRODID:-//Over Village News - ECPv6.15.20//NONSGML v1.0//EN
CALSCALE:GREGORIAN
METHOD:PUBLISH
X-WR-CALNAME:Over Village News
X-ORIGINAL-URL:https://www.overvillage.co.uk/WP
X-WR-CALDESC:Events for Over Village News
REFRESH-INTERVAL;VALUE=DURATION:PT1H
X-Robots-Tag:noindex
X-PUBLISHED-TTL:PT1H
BEGIN:VTIMEZONE
TZID:UTC
BEGIN:STANDARD
TZOFFSETFROM:+0000
TZOFFSETTO:+0000
TZNAME:UTC
DTSTART:20240101T000000
END:STANDARD
END:VTIMEZONE
BEGIN:VEVENT
DTSTART;TZID=UTC:20251116T140000
DTEND;TZID=UTC:20251116T140000
DTSTAMP:20260424T120930
CREATED:20251027T130243Z
LAST-MODIFIED:20251027T130243Z
UID:10007470-1763301600-1763301600@www.overvillage.co.uk
SUMMARY:A Blast of Brass!
DESCRIPTION:A Sunday afternoon concert with Cottenham Brass Band and Cottenham Brass Junior Band.\nSunday 16th November at 2pm in St Mary’s Church\, Over.\nTickets £10 adults\, accompanied under 16’s free.\nTickets on sale at St Mary’s Church Admin Office (in St Mary’s Church Hall) office hours Tues to Fri 09.30 – 12.00. Or email fosm.over@gmail.com to reserve tickets
URL:https://www.overvillage.co.uk/WP/event/a-blast-of-brass/
LOCATION:St Marys Church\, Church End\, Over\, Cambridgeshire\, CB24 5NH\, United Kingdom
ATTACH;FMTTYPE=image/jpeg:https://www.overvillage.co.uk/WP/wp-content/uploads/2025/10/Cottenham-Brass-poster-Nov-25.jpeg
ORGANIZER;CN="Friends of St Mary's Church":MAILTO:admin@5folds.org.uk
END:VEVENT
END:VCALENDAR