BEGIN:VCALENDAR
VERSION:2.0
PRODID:-//Over Village News - ECPv6.15.20//NONSGML v1.0//EN
CALSCALE:GREGORIAN
METHOD:PUBLISH
X-ORIGINAL-URL:https://www.overvillage.co.uk/WP
X-WR-CALDESC:Events for Over Village News
REFRESH-INTERVAL;VALUE=DURATION:PT1H
X-Robots-Tag:noindex
X-PUBLISHED-TTL:PT1H
BEGIN:VTIMEZONE
TZID:UTC
BEGIN:STANDARD
TZOFFSETFROM:+0000
TZOFFSETTO:+0000
TZNAME:UTC
DTSTART:20230101T000000
END:STANDARD
END:VTIMEZONE
BEGIN:VEVENT
DTSTART;TZID=UTC:20240817T110000
DTEND;TZID=UTC:20240817T150000
DTSTAMP:20260424T015022
CREATED:20240709T110305Z
LAST-MODIFIED:20240709T110305Z
UID:10002189-1723892400-1723906800@www.overvillage.co.uk
SUMMARY:New Life On The Old West - Open for Nature Day
DESCRIPTION:A selection of ‘otterly’ fantastic stalls and activities for all the family! \n17th August on Over Village Green \nJoin our nature experts\, wildlife charities and local conservation initiatives from across the NLOW project area. Experts will be on hand to help people of all ages to discover the wildlife living on your doorstep. \nEnjoy a delicious East Anglian taco from La Gringa food truck\, make a dragonfly print with artist Sherry Rea\, hear about the work to bring Turtle doves back from the brink\, and get chatting with national wildlife organisations and local groups such as the RSPB\, Wildlife Trust BCN\, and other local groups all working hard to support wildlife within Cambridgeshire.
URL:https://www.overvillage.co.uk/WP/event/new-life-on-the-old-west-open-for-nature-day/
LOCATION:Over Village Green\, Willingham Road\, Over\, CB24 5PD\, United Kingdom
ORGANIZER;CN="Karen MacKelvie":MAILTO:karen.mackelvie@cambsacre.org.uk
END:VEVENT
END:VCALENDAR