BEGIN:VCALENDAR
VERSION:2.0
PRODID:-//Over Village News - ECPv6.15.20//NONSGML v1.0//EN
CALSCALE:GREGORIAN
METHOD:PUBLISH
X-ORIGINAL-URL:https://www.overvillage.co.uk/WP
X-WR-CALDESC:Events for Over Village News
REFRESH-INTERVAL;VALUE=DURATION:PT1H
X-Robots-Tag:noindex
X-PUBLISHED-TTL:PT1H
BEGIN:VTIMEZONE
TZID:UTC
BEGIN:STANDARD
TZOFFSETFROM:+0000
TZOFFSETTO:+0000
TZNAME:UTC
DTSTART:20230101T000000
END:STANDARD
END:VTIMEZONE
BEGIN:VEVENT
DTSTART;TZID=UTC:20251212T190000
DTEND;TZID=UTC:20251212T190000
DTSTAMP:20260424T055327
CREATED:20251111T185637Z
LAST-MODIFIED:20251111T185637Z
UID:10007472-1765566000-1765566000@www.overvillage.co.uk
SUMMARY:Sing for Joy - Music and Mince Pies
DESCRIPTION:Christmas music and mince pies at All Saint’s Church\, Longstanton \nFurther details on the poster.
URL:https://www.overvillage.co.uk/WP/event/sing-for-joy-music-and-mince-pies/
LOCATION:All Saint’s Church\, Rampton Road\, Longstanton\, CB24 3BP
ATTACH;FMTTYPE=image/jpeg:https://www.overvillage.co.uk/WP/wp-content/uploads/2025/11/SING-FOR-JOY-DEC-25.jpg
ORGANIZER;CN="Kate Woolf":MAILTO:katewoolfmusic@gmail.com
END:VEVENT
BEGIN:VEVENT
DTSTART;TZID=UTC:20251205T193000
DTEND;TZID=UTC:20251205T210000
DTSTAMP:20260424T055327
CREATED:20251016T185322Z
LAST-MODIFIED:20251016T185322Z
UID:10007457-1764963000-1764968400@www.overvillage.co.uk
SUMMARY:Sing for Joy!
DESCRIPTION:If you love to sing but don’t want the commitment of weekly meetings\, then come and join us – no audition or experience necessary\, with the emphasis on fun and community spirit!
URL:https://www.overvillage.co.uk/WP/event/sing-for-joy-7/
LOCATION:St Mary’s Church Hall\, Church End\, Over\, CB24 5NH
ATTACH;FMTTYPE=image/jpeg:https://www.overvillage.co.uk/WP/wp-content/uploads/2025/09/Sing-for-joy.jpg
ORGANIZER;CN="Kate Woolf":MAILTO:katewoolfmusic@gmail.com
END:VEVENT
BEGIN:VEVENT
DTSTART;TZID=UTC:20251121T193000
DTEND;TZID=UTC:20251121T210000
DTSTAMP:20260424T055327
CREATED:20251016T185157Z
LAST-MODIFIED:20251016T185157Z
UID:10007456-1763753400-1763758800@www.overvillage.co.uk
SUMMARY:Sing for Joy!
DESCRIPTION:If you love to sing but don’t want the commitment of weekly meetings\, then come and join us – no audition or experience necessary\, with the emphasis on fun and community spirit!
URL:https://www.overvillage.co.uk/WP/event/sing-for-joy-6/
LOCATION:Longstanton Village Institute
ATTACH;FMTTYPE=image/jpeg:https://www.overvillage.co.uk/WP/wp-content/uploads/2025/09/Sing-for-joy.jpg
ORGANIZER;CN="Kate Woolf":MAILTO:katewoolfmusic@gmail.com
END:VEVENT
BEGIN:VEVENT
DTSTART;TZID=UTC:20251107T193000
DTEND;TZID=UTC:20251107T210000
DTSTAMP:20260424T055327
CREATED:20251016T185005Z
LAST-MODIFIED:20251016T185005Z
UID:10007455-1762543800-1762549200@www.overvillage.co.uk
SUMMARY:Sing for Joy!
DESCRIPTION:If you love to sing but don’t want the commitment of weekly meetings\, then come and join us – no audition or experience necessary\, with the emphasis on fun and community spirit!
URL:https://www.overvillage.co.uk/WP/event/sing-for-joy-5/
LOCATION:St Mary’s Church Hall\, Church End\, Over\, CB24 5NH
ATTACH;FMTTYPE=image/jpeg:https://www.overvillage.co.uk/WP/wp-content/uploads/2025/09/Sing-for-joy.jpg
ORGANIZER;CN="Kate Woolf":MAILTO:katewoolfmusic@gmail.com
END:VEVENT
BEGIN:VEVENT
DTSTART;TZID=UTC:20251031T193000
DTEND;TZID=UTC:20251031T210000
DTSTAMP:20260424T055327
CREATED:20251016T184825Z
LAST-MODIFIED:20251016T184825Z
UID:10007454-1761939000-1761944400@www.overvillage.co.uk
SUMMARY:Sing for Joy!
DESCRIPTION:If you love to sing but don’t want the commitment of weekly meetings\, then come and join us – no audition or experience necessary\, with the emphasis on fun and community spirit!
URL:https://www.overvillage.co.uk/WP/event/sing-for-joy-3/
LOCATION:St Mary’s Church Hall\, Church End\, Over\, CB24 5NH
ATTACH;FMTTYPE=image/jpeg:https://www.overvillage.co.uk/WP/wp-content/uploads/2025/09/Sing-for-joy.jpg
ORGANIZER;CN="Kate Woolf":MAILTO:katewoolfmusic@gmail.com
END:VEVENT
BEGIN:VEVENT
DTSTART;TZID=UTC:20251017T193000
DTEND;TZID=UTC:20251017T210000
DTSTAMP:20260424T055327
CREATED:20251016T184411Z
LAST-MODIFIED:20251016T184411Z
UID:10007453-1760729400-1760734800@www.overvillage.co.uk
SUMMARY:Sing for Joy!
DESCRIPTION:If you love to sing but don’t want the commitment of weekly meetings\, then come and join us – no audition or experience necessary\, with the emphasis on fun and community spirit!
URL:https://www.overvillage.co.uk/WP/event/sing-for-joy-4/
LOCATION:St Mary’s Church Hall\, Church End\, Over\, CB24 5NH
ATTACH;FMTTYPE=image/jpeg:https://www.overvillage.co.uk/WP/wp-content/uploads/2025/09/Sing-for-joy.jpg
ORGANIZER;CN="Kate Woolf":MAILTO:katewoolfmusic@gmail.com
END:VEVENT
BEGIN:VEVENT
DTSTART;TZID=UTC:20250919T193000
DTEND;TZID=UTC:20250919T213000
DTSTAMP:20260424T055327
CREATED:20250910T151948Z
LAST-MODIFIED:20250910T151948Z
UID:10007420-1758310200-1758317400@www.overvillage.co.uk
SUMMARY:Sing for Joy!
DESCRIPTION:If you love to sing but don’t want the commitment of weekly meetings\, \nthen come and join us – no audition or experience necessary\, \nwith  the emphasis on fun  and community spirit! \n  \nFriday 12 September – 7.30pm – St Mary’s Church Hall\, Over \nFriday 19 September – 7.30pm – Longstanton Village Institute \n  \nFor more information\, contact  \nkatewoolfmusic@gmail.com \n07450897321
URL:https://www.overvillage.co.uk/WP/event/sing-for-joy-2/
LOCATION:Longstanton Village Institute
ATTACH;FMTTYPE=image/jpeg:https://www.overvillage.co.uk/WP/wp-content/uploads/2025/09/Sing-for-joy.jpg
ORGANIZER;CN="Kate Woolf":MAILTO:katewoolfmusic@gmail.com
END:VEVENT
BEGIN:VEVENT
DTSTART;TZID=UTC:20250912T193000
DTEND;TZID=UTC:20250912T213000
DTSTAMP:20260424T055327
CREATED:20250910T151801Z
LAST-MODIFIED:20250910T151801Z
UID:10007419-1757705400-1757712600@www.overvillage.co.uk
SUMMARY:Sing for Joy
DESCRIPTION:If you love to sing but don’t want the commitment of weekly meetings\, \nthen come and join us – no audition or experience necessary\, \nwith  the emphasis on fun  and community spirit! \n  \nFriday 12 September – 7.30pm – St Mary’s Church Hall\, Over \nFriday 19 September – 7.30pm – Longstanton Village Institute \n  \nFor more information\, contact  \nkatewoolfmusic@gmail.com \n07450897321
URL:https://www.overvillage.co.uk/WP/event/sing-for-joy/
LOCATION:St Mary’s Church Hall\, Church End\, Over\, CB24 5NH
ATTACH;FMTTYPE=image/jpeg:https://www.overvillage.co.uk/WP/wp-content/uploads/2025/09/Sing-for-joy.jpg
ORGANIZER;CN="Kate Woolf":MAILTO:katewoolfmusic@gmail.com
END:VEVENT
BEGIN:VEVENT
DTSTART;TZID=UTC:20250718T193000
DTEND;TZID=UTC:20250718T193000
DTSTAMP:20260424T055327
CREATED:20250715T103147Z
LAST-MODIFIED:20250715T103147Z
UID:10007040-1752867000-1752867000@www.overvillage.co.uk
SUMMARY:Sing for Joy Summer Concert
DESCRIPTION:Sing for Joy! \n  \nInvite you to join us as we take a flight through musicals old and new… \n  \nAll Saint’s Church\, Longstanton \nFriday 18 July at 7.30pm \n  \n…from the Wild West to the Wicked Witch of the West\, from flying cars to flying nannies\, and much more! \n  \nEntry and refreshments are free\, although donations are welcome towards \nLittle Bundles and Arthur Rank Hospice \ncharities. \nCome and join us! \n  \n  \n  \n  \n  \n  \n  \n 
URL:https://www.overvillage.co.uk/WP/event/sing-for-joy-summer-concert-2/
LOCATION:All Saint’s Church\, Rampton Road\, Longstanton\, CB24 3BP
ATTACH;FMTTYPE=image/jpeg:https://www.overvillage.co.uk/WP/wp-content/uploads/2024/07/longstanton_front_Photo.jpg
ORGANIZER;CN="Kate Woolf":MAILTO:katewoolfmusic@gmail.com
END:VEVENT
BEGIN:VEVENT
DTSTART;TZID=UTC:20241212T193000
DTEND;TZID=UTC:20241212T193000
DTSTAMP:20260424T055327
CREATED:20241206T114210Z
LAST-MODIFIED:20241206T114210Z
UID:10005578-1734031800-1734031800@www.overvillage.co.uk
SUMMARY:Sing for Joy Christamas Concert - Music and Mince Pies!
DESCRIPTION:Come along for some festive cheer on Thursday 12 December at 7.30pm in All Saints Church\, Longstanton.  Sing for Joy! is a community choir from Over and Longstanton and we’ve been working hard on carols\, Christmas songs and much more\, so do join us for a free concert and enjoy a glass of mulled wine and a mince pie!
URL:https://www.overvillage.co.uk/WP/event/sing-for-joy-christamas-concert-music-and-mince-pies/
LOCATION:All Saint’s Church\, Rampton Road\, Longstanton\, CB24 3BP
ORGANIZER;CN="Kate Woolf":MAILTO:katewoolfmusic@gmail.com
END:VEVENT
BEGIN:VEVENT
DTSTART;TZID=UTC:20240719T193000
DTEND;TZID=UTC:20240719T193000
DTSTAMP:20260424T055327
CREATED:20240709T103721Z
LAST-MODIFIED:20240709T103721Z
UID:10002187-1721417400-1721417400@www.overvillage.co.uk
SUMMARY:Sing for Joy!  Summer Concert
DESCRIPTION:Sing for Joy! invite you to start the summer with a smile and a song in our concert at All Saint’s Church\, Longstanton. \nA smorgasbord of song to listen to and join in with\, plus refreshments\, all for free!  (although donations welcome!)
URL:https://www.overvillage.co.uk/WP/event/sing-for-joy-summer-concert/
LOCATION:All Saint’s Church\, Rampton Road\, Longstanton\, CB24 3BP
ATTACH;FMTTYPE=image/jpeg:https://www.overvillage.co.uk/WP/wp-content/uploads/2024/07/longstanton_front_Photo.jpg
ORGANIZER;CN="Kate Woolf":MAILTO:katewoolfmusic@gmail.com
END:VEVENT
END:VCALENDAR