BEGIN:VCALENDAR
VERSION:2.0
PRODID:-//Over Village News - ECPv6.15.20//NONSGML v1.0//EN
CALSCALE:GREGORIAN
METHOD:PUBLISH
X-ORIGINAL-URL:https://www.overvillage.co.uk/WP
X-WR-CALDESC:Events for Over Village News
REFRESH-INTERVAL;VALUE=DURATION:PT1H
X-Robots-Tag:noindex
X-PUBLISHED-TTL:PT1H
BEGIN:VTIMEZONE
TZID:UTC
BEGIN:STANDARD
TZOFFSETFROM:+0000
TZOFFSETTO:+0000
TZNAME:UTC
DTSTART:20220101T000000
END:STANDARD
END:VTIMEZONE
BEGIN:VEVENT
DTSTART;TZID=UTC:20251018T133000
DTEND;TZID=UTC:20251018T153000
DTSTAMP:20260423T233244
CREATED:20250930T091925Z
LAST-MODIFIED:20250930T091925Z
UID:10007446-1760794200-1760801400@www.overvillage.co.uk
SUMMARY:New Road Preschool Autumn Fayre
DESCRIPTION:Come along to buy cakes\, enter the raffle\, use the bouncy castle (sadly children only!) and meet Bluey. \nGet the date in your diary.
URL:https://www.overvillage.co.uk/WP/event/new-road-preschool-autumn-fayre/
LOCATION:Over Community Centre\, 16 The Doles\, Over\,\, Cambridgeshire\, CB24 5NW\, United Kingdom
END:VEVENT
BEGIN:VEVENT
DTSTART;TZID=UTC:20231118T140000
DTEND;TZID=UTC:20231118T160000
DTSTAMP:20260423T233244
CREATED:20231112T171249Z
LAST-MODIFIED:20231112T171335Z
UID:10000051-1700316000-1700323200@www.overvillage.co.uk
SUMMARY:Autumn Fayre
DESCRIPTION:Autumn Fayre – Hosted by Over New Road Preschool \nCome along and join in the fun\, FREE ENTRY! \n– Bouncy Castle\n– Meet Spiderman\n– Cakes\n… and much much more!
URL:https://www.overvillage.co.uk/WP/event/2259/
LOCATION:Over Community Centre\, 16 The Doles\, Over\,\, Cambridgeshire\, CB24 5NW\, United Kingdom
END:VEVENT
END:VCALENDAR