BEGIN:VCALENDAR
VERSION:2.0
PRODID:-//Over Village News - ECPv6.15.20//NONSGML v1.0//EN
CALSCALE:GREGORIAN
METHOD:PUBLISH
X-ORIGINAL-URL:https://www.overvillage.co.uk/WP
X-WR-CALDESC:Events for Over Village News
REFRESH-INTERVAL;VALUE=DURATION:PT1H
X-Robots-Tag:noindex
X-PUBLISHED-TTL:PT1H
BEGIN:VTIMEZONE
TZID:UTC
BEGIN:STANDARD
TZOFFSETFROM:+0000
TZOFFSETTO:+0000
TZNAME:UTC
DTSTART:20230101T000000
END:STANDARD
END:VTIMEZONE
BEGIN:VEVENT
DTSTART;TZID=UTC:20251128T180000
DTEND;TZID=UTC:20251128T180000
DTSTAMP:20260419T013446
CREATED:20251117T173144Z
LAST-MODIFIED:20251117T173232Z
UID:10007486-1764352800-1764352800@www.overvillage.co.uk
SUMMARY:Games Night - Over Baptist Church
DESCRIPTION:Games night at Over Baptist Church.\n28th November 1800. Family event. Board games\, Bettle game\, quizzes\, darts\, snooker and electronic gaming on large tv.\nIncludes pizza.\nPlease rsvp.
URL:https://www.overvillage.co.uk/WP/event/games-night-over-baptist-church/
LOCATION:Over Baptist Church\, New Road\, Over\, Cambridgeshire\, CB24 5PJ\, United Kingdom
ATTACH;FMTTYPE=image/png:https://www.overvillage.co.uk/WP/wp-content/uploads/2025/11/Games-night-Nov-2025.png
END:VEVENT
BEGIN:VEVENT
DTSTART;TZID=UTC:20240608T083000
DTEND;TZID=UTC:20240608T100000
DTSTAMP:20260419T013446
CREATED:20240515T090531Z
LAST-MODIFIED:20240515T090531Z
UID:10001819-1717835400-1717840800@www.overvillage.co.uk
SUMMARY:Women's Breakfast
DESCRIPTION:Please RSVP to Carol \ncarol.kitson98@gmail.com
URL:https://www.overvillage.co.uk/WP/event/womens-breakfast/
LOCATION:Over Baptist Church\, New Road\, Over\, Cambridgeshire\, CB24 5PJ\, United Kingdom
ATTACH;FMTTYPE=image/jpeg:https://www.overvillage.co.uk/WP/wp-content/uploads/2024/03/Over-Baptist-Church.jpg
END:VEVENT
BEGIN:VEVENT
DTSTART;TZID=UTC:20240331T110000
DTEND;TZID=UTC:20240331T120000
DTSTAMP:20260419T013446
CREATED:20240315T101146Z
LAST-MODIFIED:20240315T101146Z
UID:10001797-1711882800-1711886400@www.overvillage.co.uk
SUMMARY:Easter Sunday - Over Baptist Church
DESCRIPTION:Easter Sunday worship will take place at 1100 at the Baptist Church.
URL:https://www.overvillage.co.uk/WP/event/easter-sunday-over-baptist-church-2/
LOCATION:Over Baptist Church\, New Road\, Over\, Cambridgeshire\, CB24 5PJ\, United Kingdom
ATTACH;FMTTYPE=image/jpeg:https://www.overvillage.co.uk/WP/wp-content/uploads/2024/03/Over-Baptist-Church.jpg
END:VEVENT
END:VCALENDAR