BEGIN:VCALENDAR
VERSION:2.0
PRODID:-//Over Village News - ECPv6.15.20//NONSGML v1.0//EN
CALSCALE:GREGORIAN
METHOD:PUBLISH
X-ORIGINAL-URL:https://www.overvillage.co.uk/WP
X-WR-CALDESC:Events for Over Village News
REFRESH-INTERVAL;VALUE=DURATION:PT1H
X-Robots-Tag:noindex
X-PUBLISHED-TTL:PT1H
BEGIN:VTIMEZONE
TZID:UTC
BEGIN:STANDARD
TZOFFSETFROM:+0000
TZOFFSETTO:+0000
TZNAME:UTC
DTSTART:20220101T000000
END:STANDARD
END:VTIMEZONE
BEGIN:VEVENT
DTSTART;TZID=UTC:20250910T193000
DTEND;TZID=UTC:20250910T193000
DTSTAMP:20260423T182133
CREATED:20250826T144747Z
LAST-MODIFIED:20250826T144747Z
UID:10007410-1757532600-1757532600@www.overvillage.co.uk
SUMMARY:Over Players Auditions for named roles in Xmas Pantomime
DESCRIPTION:Over Community Centre 1930
URL:https://www.overvillage.co.uk/WP/event/over-players-auditions-for-named-roles-in-xmas-pantomime/
LOCATION:Over Community Centre\, 16 The Doles\, Over\,\, Cambridgeshire\, CB24 5NW\, United Kingdom
ORGANIZER;CN="Over Communty Centre":MAILTO:info@thecentreatover.co.uk
END:VEVENT
BEGIN:VEVENT
DTSTART;TZID=UTC:20241109T193000
DTEND;TZID=UTC:20241109T233000
DTSTAMP:20260423T182133
CREATED:20240906T105937Z
LAST-MODIFIED:20241023T113423Z
UID:10003601-1731180600-1731195000@www.overvillage.co.uk
SUMMARY:Back to the 80's
DESCRIPTION:  \n \nThe Haus of Fox Presents Back to the 80’s! Get out your fancy dress and\nglow sticks and dance the night away like it’s the 1980’s\nJoin us for a disco night at Over Community Centre Saturday 9th November\n7.30pm till late\nOur Drag Host and DJ Ashley Fox will be playing all the tracks that takes\nyou back to when life was much easier\nFully stocked bar\, photo booth\, 4and half hours of hits and prizes for the\nnest dressed. \nThe Tickets for this event are non-refundable \nDon’t forget if you’re not dressed up you’re not coming in.
URL:https://www.overvillage.co.uk/WP/event/back-to-the-80s/
LOCATION:Over Community Centre\, 16 The Doles\, Over\,\, Cambridgeshire\, CB24 5NW\, United Kingdom
ORGANIZER;CN="Over Communty Centre":MAILTO:info@thecentreatover.co.uk
END:VEVENT
BEGIN:VEVENT
DTSTART;TZID=UTC:20240615T130000
DTEND;TZID=UTC:20240615T160000
DTSTAMP:20260423T182133
CREATED:20240522T155028Z
LAST-MODIFIED:20240522T155028Z
UID:10001838-1718456400-1718467200@www.overvillage.co.uk
SUMMARY:Summer Fun Day
DESCRIPTION:
URL:https://www.overvillage.co.uk/WP/event/summer-fun-day-2/
LOCATION:Over Community Centre\, 16 The Doles\, Over\,\, Cambridgeshire\, CB24 5NW\, United Kingdom
ORGANIZER;CN="Over Communty Centre":MAILTO:info@thecentreatover.co.uk
END:VEVENT
BEGIN:VEVENT
DTSTART;TZID=UTC:20240203T193000
DTEND;TZID=UTC:20240203T193000
DTSTAMP:20260423T182133
CREATED:20240119T122822Z
LAST-MODIFIED:20240119T123103Z
UID:10000968-1706988600-1706988600@www.overvillage.co.uk
SUMMARY:Murder Mystery: Murder in the Hollywood Hills
DESCRIPTION:Over Community Centre Murder Mystery Evening. Come along and solve the murder and enjoy a lovely ploughmans! \n£20 per person\, (includes a Ploughmans). Contact the Centre for tickets via email or telephone.
URL:https://www.overvillage.co.uk/WP/event/murder-mystery-murder-in-the-hollywood-hills/
LOCATION:Over Community Centre\, 16 The Doles\, Over\,\, Cambridgeshire\, CB24 5NW\, United Kingdom
ORGANIZER;CN="Over Communty Centre":MAILTO:info@thecentreatover.co.uk
END:VEVENT
BEGIN:VEVENT
DTSTART;VALUE=DATE:20231220
DTEND;VALUE=DATE:20231221
DTSTAMP:20260423T182133
CREATED:20231128T222923Z
LAST-MODIFIED:20231128T222923Z
UID:10000057-1703030400-1703116799@www.overvillage.co.uk
SUMMARY:Over 65's Christmas Dinner
DESCRIPTION:
URL:https://www.overvillage.co.uk/WP/event/over-65s-christmas-dinner/
LOCATION:Over Community Centre\, 16 The Doles\, Over\,\, Cambridgeshire\, CB24 5NW\, United Kingdom
ORGANIZER;CN="Over Communty Centre":MAILTO:info@thecentreatover.co.uk
END:VEVENT
BEGIN:VEVENT
DTSTART;TZID=UTC:20231203T130000
DTEND;TZID=UTC:20231203T160000
DTSTAMP:20260423T182133
CREATED:20231128T223715Z
LAST-MODIFIED:20231128T223808Z
UID:10000058-1701608400-1701619200@www.overvillage.co.uk
SUMMARY:Christmas Craft Fair
DESCRIPTION:
URL:https://www.overvillage.co.uk/WP/event/christmas-craft-fair/
LOCATION:Over Community Centre\, 16 The Doles\, Over\,\, Cambridgeshire\, CB24 5NW\, United Kingdom
ORGANIZER;CN="Over Communty Centre":MAILTO:info@thecentreatover.co.uk
END:VEVENT
BEGIN:VEVENT
DTSTART;TZID=UTC:20231104T180000
DTEND;TZID=UTC:20231104T210000
DTSTAMP:20260423T182133
CREATED:20231009T203805Z
LAST-MODIFIED:20231009T203805Z
UID:10000025-1699120800-1699131600@www.overvillage.co.uk
SUMMARY:Firework Night
DESCRIPTION:The event of the year\, brought to you by Over Community Association\, the charity side of Over Community Centre. This is a free event\, but donations are kindly requested on the night to help cover the cost of the firework display.
URL:https://www.overvillage.co.uk/WP/event/firework-night/
LOCATION:Over Community Centre\, 16 The Doles\, Over\,\, Cambridgeshire\, CB24 5NW\, United Kingdom
ATTACH;FMTTYPE=image/png:https://www.overvillage.co.uk/WP/wp-content/uploads/2023/10/cropped-OCC-Symbol-and-logo.png
ORGANIZER;CN="Over Communty Centre":MAILTO:info@thecentreatover.co.uk
END:VEVENT
END:VCALENDAR