BEGIN:VCALENDAR
VERSION:2.0
PRODID:-//Over Village News - ECPv6.15.20//NONSGML v1.0//EN
CALSCALE:GREGORIAN
METHOD:PUBLISH
X-WR-CALNAME:Over Village News
X-ORIGINAL-URL:https://www.overvillage.co.uk/WP
X-WR-CALDESC:Events for Over Village News
REFRESH-INTERVAL;VALUE=DURATION:PT1H
X-Robots-Tag:noindex
X-PUBLISHED-TTL:PT1H
BEGIN:VTIMEZONE
TZID:UTC
BEGIN:STANDARD
TZOFFSETFROM:+0000
TZOFFSETTO:+0000
TZNAME:UTC
DTSTART:20230101T000000
END:STANDARD
END:VTIMEZONE
BEGIN:VEVENT
DTSTART;TZID=UTC:20250416T193000
DTEND;TZID=UTC:20250416T193000
DTSTAMP:20260424T104544
CREATED:20250304T115801Z
LAST-MODIFIED:20250304T115801Z
UID:10006443-1744831800-1744831800@www.overvillage.co.uk
SUMMARY:Over Gardening Club
DESCRIPTION:Over Gardening Club meet on the third Wednesday of each month\, usually at the Community Centre at 7.30pm.  Membership is £15pa and current members receive 10% discount on most items sold at Oakington Garden Centre. \n  \nOur speaker for the April meeting is Fiona Rose giving a talk entitled “In the Garden with William Morris: Flora as Art”.   More famous for his work inside the home\, William Morris (1834-1896) made a significant impact on the evolution of the English garden. He considered the garden inseparable from the house\, rejecting Victorian formality and instead drawing inspiration from medieval gardens.  This lecture examines his gardening principles drawing from Morris’s lectures\, letters\, poetry\, and prose. It also explores his own gardens that served as an inspiration behind his flower-based designs: Red House\, Kelmscott Manor\, Kelmscott House and the garden at his factory Merton Abbey Works.
URL:https://www.overvillage.co.uk/WP/event/over-gardening-club-6/
LOCATION:Over Community Centre\, 16 The Doles\, Over\,\, Cambridgeshire\, CB24 5NW\, United Kingdom
ATTACH;FMTTYPE=image/jpeg:https://www.overvillage.co.uk/WP/wp-content/uploads/2023/11/627e820e49d6f.image_.jpg
END:VEVENT
BEGIN:VEVENT
DTSTART;TZID=UTC:20240117T193000
DTEND;TZID=UTC:20240117T220000
DTSTAMP:20260424T104544
CREATED:20240114T110632Z
LAST-MODIFIED:20240114T110632Z
UID:10000967-1705519800-1705528800@www.overvillage.co.uk
SUMMARY:Over Gardening Club
DESCRIPTION:A talk by Kate Osborne of “Beach Bonkers” on the many aspects of shingle beaches. Venue Main Hall at Over Community Centre  7.30pm. \n  \nWe are a friendly group of amateur gardeners that meet monthly at the centre and have a variety of speakers throughout the year.  Visitors are always welcome.
URL:https://www.overvillage.co.uk/WP/event/over-gardening-club-2/
LOCATION:Over Community Centre\, 16 The Doles\, Over\,\, Cambridgeshire\, CB24 5NW\, United Kingdom
ATTACH;FMTTYPE=image/jpeg:https://www.overvillage.co.uk/WP/wp-content/uploads/2023/11/627e820e49d6f.image_.jpg
END:VEVENT
END:VCALENDAR