BEGIN:VCALENDAR
VERSION:2.0
PRODID:-//Over Village News - ECPv6.15.20//NONSGML v1.0//EN
CALSCALE:GREGORIAN
METHOD:PUBLISH
X-ORIGINAL-URL:https://www.overvillage.co.uk/WP
X-WR-CALDESC:Events for Over Village News
REFRESH-INTERVAL;VALUE=DURATION:PT1H
X-Robots-Tag:noindex
X-PUBLISHED-TTL:PT1H
BEGIN:VTIMEZONE
TZID:UTC
BEGIN:STANDARD
TZOFFSETFROM:+0000
TZOFFSETTO:+0000
TZNAME:UTC
DTSTART:20230101T000000
END:STANDARD
END:VTIMEZONE
BEGIN:VEVENT
DTSTART;TZID=UTC:20260415T193000
DTEND;TZID=UTC:20260415T213000
DTSTAMP:20260420T233353
CREATED:20251112T104245Z
LAST-MODIFIED:20260409T102717Z
UID:10007478-1776281400-1776288600@www.overvillage.co.uk
SUMMARY:Over Gardening Club
DESCRIPTION:This month’s speaker is George Lockwood\, with a talk about “Plants for Early Summer”. \n  \nWe are a friendly group of gardeners and plant lovers who have regular meetings with a speaker and raffle and occasional plant sales.  Meetings are held on the 3rd Wednesday of each month; from September to May we meet at Over Community Centre where we usually have a guest speaker talking on various aspects of gardening\, in June we often arrange a visit to a local garden and in July we hold a social evening.  Membership runs annually from 1 April to 31 March and is currently £15.00 per year.  Visitors to meetings are welcome but we do ask for a guest fee of £3.00 per visit.  A 10% discount is available on most items at Oakington Garden Centre\, plants at Parkhall Nursery in Somersham and also items from Madingley Mulch with a current membership card. \n  \nIf you would like to come to a meeting as a guest just turn up or contact any member of the committee for further details\, we would love to see you.  Committee members: Richard Cox\, Julie Carter\, Jeremy Tyrrell\, Carolyn Redmayne\, Carole Cowley\, Jan Hook\, Julie Wilson\, Cynthia Bidwell\, Rachel Henshaw \nEnquiries\, please email gardeningclubover@gmail.com
URL:https://www.overvillage.co.uk/WP/event/over-gardening-club-13/
LOCATION:Over Community Centre\, 16 The Doles\, Over\,\, Cambridgeshire\, CB24 5NW\, United Kingdom
ATTACH;FMTTYPE=image/jpeg:https://www.overvillage.co.uk/WP/wp-content/uploads/2023/11/627e820e49d6f.image_.jpg
END:VEVENT
BEGIN:VEVENT
DTSTART;TZID=UTC:20260318T193000
DTEND;TZID=UTC:20260318T213000
DTSTAMP:20260420T233353
CREATED:20251112T104111Z
LAST-MODIFIED:20251112T104111Z
UID:10007477-1773862200-1773869400@www.overvillage.co.uk
SUMMARY:Over Gardening Club
DESCRIPTION:The Chelsea Experience \nRoger Harvey \n  \nWe are a friendly group of gardeners and plant lovers who have regular meetings with a speaker and raffle and occasional plant sales.  Meetings are held on the 3rd Wednesday of each month; from September to May we meet at Over Community Centre where we usually have a guest speaker talking on various aspects of gardening\, in June we often arrange a visit to a local garden and in July we hold a social evening.  Membership runs annually from 1 April to 31 March and is currently £15.00 per year.  Visitors to meetings are welcome but we do ask for a guest fee of £3.00 per visit.  A 10% discount is available on most items at Oakington Garden Centre\, plants at Parkhall Nursery in Somersham and also items from Madingley Mulch with a current membership card. \n  \nIf you would like to come to a meeting as a guest just turn up or contact any member of the committee for further details\, we would love to see you.  Committee members: Richard Cox\, Julie Carter\, Jeremy Tyrrell\, Carolyn Redmayne\, Carole Cowley\, Jan Hook\, Julie Wilson\, Cynthia Bidwell\, Rachel Henshaw \nEnquiries\, please email gardeningclubover@gmail.com
URL:https://www.overvillage.co.uk/WP/event/over-gardening-club-12/
LOCATION:Over Community Centre\, 16 The Doles\, Over\,\, Cambridgeshire\, CB24 5NW\, United Kingdom
ATTACH;FMTTYPE=image/jpeg:https://www.overvillage.co.uk/WP/wp-content/uploads/2023/11/627e820e49d6f.image_.jpg
END:VEVENT
BEGIN:VEVENT
DTSTART;TZID=UTC:20260218T193000
DTEND;TZID=UTC:20260218T213000
DTSTAMP:20260420T233353
CREATED:20251112T103642Z
LAST-MODIFIED:20260209T140831Z
UID:10007476-1771443000-1771450200@www.overvillage.co.uk
SUMMARY:Over Gardening Club
DESCRIPTION:Note change of speaker and topic \nOriental Salads and Vegetables \nMike Day \nAGM follows the speaker \n  \nWe are a friendly group of gardeners and plant lovers who have regular meetings with a speaker and raffle and occasional plant sales.  Meetings are held on the 3rd Wednesday of each month; from September to May we meet at Over Community Centre where we usually have a guest speaker talking on various aspects of gardening\, in June we often arrange a visit to a local garden and in July we hold a social evening.  Membership runs annually from 1 April to 31 March and is currently £15.00 per year.  Visitors to meetings are welcome but we do ask for a guest fee of £3.00 per visit.  A 10% discount is available on most items at Oakington Garden Centre\, plants at Parkhall Nursery in Somersham and also items from Madingley Mulch with a current membership card. \n  \nIf you would like to come to a meeting as a guest just turn up or contact any member of the committee for further details\, we would love to see you.  Committee members: Richard Cox\, Julie Carter\, Jeremy Tyrrell\, Carolyn Redmayne\, Carole Cowley\, Jan Hook\, Julie Wilson\, Cynthia Bidwell\, Rachel Henshaw \nEnquiries\, please email gardeningclubover@gmail.com
URL:https://www.overvillage.co.uk/WP/event/over-gardening-club-11/
LOCATION:Over Community Centre\, 16 The Doles\, Over\,\, Cambridgeshire\, CB24 5NW\, United Kingdom
ATTACH;FMTTYPE=image/jpeg:https://www.overvillage.co.uk/WP/wp-content/uploads/2023/11/627e820e49d6f.image_.jpg
END:VEVENT
BEGIN:VEVENT
DTSTART;TZID=UTC:20260121T193000
DTEND;TZID=UTC:20260121T213000
DTSTAMP:20260420T233353
CREATED:20251112T103437Z
LAST-MODIFIED:20251112T103437Z
UID:10007475-1769023800-1769031000@www.overvillage.co.uk
SUMMARY:Over Gardening Club
DESCRIPTION:Bulbs Corms and Tubers \nBarry Gayton \nWe are a friendly group of gardeners and plant lovers who have regular meetings with a speaker and raffle and occasional plant sales.  Meetings are held on the 3rd Wednesday of each month; from September to May we meet at Over Community Centre where we usually have a guest speaker talking on various aspects of gardening\, in June we often arrange a visit to a local garden and in July we hold a social evening.  Membership runs annually from 1 April to 31 March and is currently £15.00 per year.  Visitors to meetings are welcome but we do ask for a guest fee of £3.00 per visit.  A 10% discount is available on most items at Oakington Garden Centre\, plants at Parkhall Nursery in Somersham and also items from Madingley Mulch with a current membership card. \n  \nIf you would like to come to a meeting as a guest just turn up or contact any member of the committee for further details\, we would love to see you.  Committee members: Richard Cox\, Julie Carter\, Jeremy Tyrrell\, Carolyn Redmayne\, Carole Cowley\, Jan Hook\, Julie Wilson\, Cynthia Bidwell\, Rachel Henshaw \nEnquiries\, please email gardeningclubover@gmail.com
URL:https://www.overvillage.co.uk/WP/event/over-gardening-club-10/
LOCATION:Over Community Centre\, 16 The Doles\, Over\,\, Cambridgeshire\, CB24 5NW\, United Kingdom
ATTACH;FMTTYPE=image/jpeg:https://www.overvillage.co.uk/WP/wp-content/uploads/2023/11/627e820e49d6f.image_.jpg
END:VEVENT
BEGIN:VEVENT
DTSTART;TZID=UTC:20251015T191500
DTEND;TZID=UTC:20251015T191500
DTSTAMP:20260420T233353
CREATED:20251006T083843Z
LAST-MODIFIED:20251006T083843Z
UID:10007447-1760555700-1760555700@www.overvillage.co.uk
SUMMARY:Over Gardening Club October meeting
DESCRIPTION:Over Gardening Club’s October meeting will be held in the main hall at Over Community Centre\, and this month we have a talk by Hawk Honey entitled “Wasps – Malicious or Misunderstood”. \nWe are a friendly group of gardeners and plant lovers who have regular meetings with a speaker and raffle and occasional plant sales.  Meetings are held on the 3rd Wednesday of each month; from September to May we meet at Over Community Centre where we usually have a guest speaker talking on various aspects of gardening\, in June we often arrange a visit to a local garden and in July we hold a social evening.  Membership runs annually from 1 April to 31 March and is currently £15.00 per year.  Visitors to meetings are welcome but we do ask for a guest fee of £3.00 per visit.  A 10% discount is currently available on most items at Oakington Garden Centre\, plants at Parkhall Nursery in Somersham and also items from Madingley Mulch when your membership card is shown. \n  \nFurther enquiries\, please email us – gardeningclubover@gmail.com
URL:https://www.overvillage.co.uk/WP/event/over-gardening-club-october-meeting/
LOCATION:Over Community Centre\, 16 The Doles\, Over\,\, Cambridgeshire\, CB24 5NW\, United Kingdom
ATTACH;FMTTYPE=image/jpeg:https://www.overvillage.co.uk/WP/wp-content/uploads/2023/11/627e820e49d6f.image_.jpg
END:VEVENT
BEGIN:VEVENT
DTSTART;TZID=UTC:20250618T191500
DTEND;TZID=UTC:20250618T191500
DTSTAMP:20260420T233353
CREATED:20250513T103245Z
LAST-MODIFIED:20250513T103245Z
UID:10006468-1750274100-1750274100@www.overvillage.co.uk
SUMMARY:Over Gardening Club
DESCRIPTION:Over Gardening Club’s June meeting will be held on Wednesday 18th June\, and will be a chance to visit some members’ gardens within Over.  For further info regarding venues and times please email overgardeningclub@gmail.com \n  \nWe are a friendly group of gardeners and plant lovers who have regular meetings with a speaker\, a raffle and occasional plant sales.  Meetings are monthly\, from September to May\, on the 3rd Wednesday of the month at the Over Community Centre and we usually have a guest speaker talking on a various aspects of gardening.  Membership runs annually from 1 April to 31 March and is currently £15.00 per year.  Visitors to meetings are welcome but we do ask for a guest fee of £3.00 per visit.  On production of a valid membership card a 10% discount is currently available on most items at Oakington Garden Centre\, on plants at Parkhall Nursery\, Somersham and also from Madingley Mulch.
URL:https://www.overvillage.co.uk/WP/event/over-gardening-club-8/
LOCATION:Over Community Centre\, 16 The Doles\, Over\,\, Cambridgeshire\, CB24 5NW\, United Kingdom
ATTACH;FMTTYPE=image/jpeg:https://www.overvillage.co.uk/WP/wp-content/uploads/2023/11/627e820e49d6f.image_.jpg
END:VEVENT
BEGIN:VEVENT
DTSTART;TZID=UTC:20250219T193000
DTEND;TZID=UTC:20250219T193000
DTSTAMP:20260420T233353
CREATED:20250128T161500Z
LAST-MODIFIED:20250128T161500Z
UID:10005636-1739993400-1739993400@www.overvillage.co.uk
SUMMARY:Over Gardening Club
DESCRIPTION:At the February meeting there will be a talk by Patricia of Oakington Garden Centre\, entitled “Oakington Garden Centre\, the Next Generation – the past\, the present and the future of a family run business” \n  \nOver Gardening Club meets on the third Wednesday of each month at 7.30pm in the Main Hall at Over Community Centre.  Current subscription is £15 per year\, or £3 per visit for visitors.  Members also benefit from 10% discount off most items at Oakington Garden Centre on production of a valid membership card\, \n  \nFor further information please email gardeningclubover@gmail.com
URL:https://www.overvillage.co.uk/WP/event/over-gardening-club-4/
LOCATION:Over Community Centre\, 16 The Doles\, Over\,\, Cambridgeshire\, CB24 5NW\, United Kingdom
ATTACH;FMTTYPE=image/jpeg:https://www.overvillage.co.uk/WP/wp-content/uploads/2023/11/627e820e49d6f.image_.jpg
END:VEVENT
BEGIN:VEVENT
DTSTART;TZID=UTC:20250115T193000
DTEND;TZID=UTC:20250115T193000
DTSTAMP:20260420T233353
CREATED:20250106T104108Z
LAST-MODIFIED:20250106T104108Z
UID:10005633-1736969400-1736969400@www.overvillage.co.uk
SUMMARY:Over Gardening Club
DESCRIPTION:A talk by Liz Porteous – Deadly\, dangerous & downright annoying\, are garden plants friend or foe? \n  \nWe are a friendly group of local gardeners and plant lovers\, affiliated to the RHS and holding regular meetings in the Main Hall at Over Community Centre.  There is usually a guest speaker and a raffle and also occasional plant sales and organised visits to local gardens.  Membership is currently £15pa\, with the added benefit of 10% discount on most items at Oakington Garden Centre; visitors are always welcome\, with a guest fee of £3 per meeting.  Please contact gardeningclubover@gmail.com for further information or just come along to the next meeting.
URL:https://www.overvillage.co.uk/WP/event/over-gardening-club-3/
LOCATION:Over Community Centre\, 16 The Doles\, Over\,\, Cambridgeshire\, CB24 5NW\, United Kingdom
ATTACH;FMTTYPE=image/jpeg:https://www.overvillage.co.uk/WP/wp-content/uploads/2023/11/627e820e49d6f.image_.jpg
END:VEVENT
BEGIN:VEVENT
DTSTART;TZID=UTC:20240515T193000
DTEND;TZID=UTC:20240515T213000
DTSTAMP:20260420T233353
CREATED:20240220T100329Z
LAST-MODIFIED:20240220T100329Z
UID:10001762-1715801400-1715808600@www.overvillage.co.uk
SUMMARY:Over Gardening Club - The Work of the National Garden Scheme
DESCRIPTION:The Work of the National Garden Scheme – a talk by Penny Miles \nThe National Garden Scheme gives visitors unique access to over 3\,500 exceptional private gardens in England\, Wales\, Northern Ireland and the Channel Islands\, and raises impressive amounts of money for nursing and health charities through admissions\, teas and cake. \n7.30pm Main Hall\, Over Community Centre\, Wednesday 15th May 2024 \nWe are a friendly group of amateur gardeners meeting monthly at the Community Centre\, and having a variety of speakers and events throughout the year.  Annual subscription is £15\, with our members benefiting from 10% discount at Oakington Garden Centre on production of a current membership card.  Visitors are always welcome\, £3 per meeting.  Enquiries\, please contact gardeningclubover@gmail.com \n 
URL:https://www.overvillage.co.uk/WP/event/over-gardening-club-the-work-of-the-national-garden-scheme/
LOCATION:Over Community Centre\, 16 The Doles\, Over\,\, Cambridgeshire\, CB24 5NW\, United Kingdom
ATTACH;FMTTYPE=image/jpeg:https://www.overvillage.co.uk/WP/wp-content/uploads/2023/11/627e820e49d6f.image_.jpg
END:VEVENT
BEGIN:VEVENT
DTSTART;TZID=UTC:20240417T193000
DTEND;TZID=UTC:20240417T213000
DTSTAMP:20260420T233353
CREATED:20240220T100104Z
LAST-MODIFIED:20240220T100104Z
UID:10001761-1713382200-1713389400@www.overvillage.co.uk
SUMMARY:Over Gardening Club - Climbing and Rambling Roses for Every Situation
DESCRIPTION:Climbing & Rambling Roses for Every Situation – a talk by Simon White of Peter Beales Roses \nName the position and there is a Climber or Rambling Rose that will grow there\, from arches to pergolas\, walls and fences including north walls\, up trees and in pots and containers\, obelisks and post and rails and even free standing.   This talk will show you that every garden has somewhere that you would be able to grow a climber or rambler rose. \n7.30pm Main Hall\, Over Community Centre\, Wednesday 17th April 2024 \nWe are a friendly group of amateur gardeners meeting monthly at the Community Centre\, and having a variety of speakers and events throughout the year.  Annual subscription is £15\, with our members benefiting from 10% discount at Oakington Garden Centre on production of a current membership card.  Visitors are always welcome\, £3 per meeting.  Enquiries\, please contact gardeningclubover@gmail.com
URL:https://www.overvillage.co.uk/WP/event/over-gardening-club-climbing-and-rambling-roses-for-every-situation/
LOCATION:Over Community Centre\, 16 The Doles\, Over\,\, Cambridgeshire\, CB24 5NW\, United Kingdom
ATTACH;FMTTYPE=image/jpeg:https://www.overvillage.co.uk/WP/wp-content/uploads/2023/11/627e820e49d6f.image_.jpg
END:VEVENT
BEGIN:VEVENT
DTSTART;TZID=UTC:20240320T193000
DTEND;TZID=UTC:20240320T213000
DTSTAMP:20260420T233353
CREATED:20240220T095707Z
LAST-MODIFIED:20240220T095707Z
UID:10001760-1710963000-1710970200@www.overvillage.co.uk
SUMMARY:Over Gardening Club - A Bouquet of Weeds
DESCRIPTION:A Bouquet of Weeds – a talk by Michael Brown. \nWe curse them and try to kill them\, but in the past most of  our common weeds were grown on purpose because they were useful; yes\, even Ground Elder!  Learn how to love your weeds and get your own back at the same time. \nWe are a friendly group of amateur gardeners meeting monthly at the Community Centre\, and having a variety of speakers and events throughout the year.  Annual subscription is £15\, with our members benefitting from a 10% discount at Oakington Garden centre on production of a current membership card.  Visitors are always welcome\, £3 per meeting. \nEnquiries\, please contact – gardeningclubover@gmail.com \n 
URL:https://www.overvillage.co.uk/WP/event/over-gardening-club-a-bouquet-of-weeds/
LOCATION:Over Community Centre\, 16 The Doles\, Over\,\, Cambridgeshire\, CB24 5NW\, United Kingdom
ATTACH;FMTTYPE=image/jpeg:https://www.overvillage.co.uk/WP/wp-content/uploads/2023/11/627e820e49d6f.image_.jpg
END:VEVENT
END:VCALENDAR