BEGIN:VCALENDAR
VERSION:2.0
PRODID:-//Over Village News - ECPv6.15.20//NONSGML v1.0//EN
CALSCALE:GREGORIAN
METHOD:PUBLISH
X-WR-CALNAME:Over Village News
X-ORIGINAL-URL:https://www.overvillage.co.uk/WP
X-WR-CALDESC:Events for Over Village News
REFRESH-INTERVAL;VALUE=DURATION:PT1H
X-Robots-Tag:noindex
X-PUBLISHED-TTL:PT1H
BEGIN:VTIMEZONE
TZID:UTC
BEGIN:STANDARD
TZOFFSETFROM:+0000
TZOFFSETTO:+0000
TZNAME:UTC
DTSTART:20250101T000000
END:STANDARD
END:VTIMEZONE
BEGIN:VEVENT
DTSTART;TZID=UTC:20260520T193000
DTEND;TZID=UTC:20260520T213000
DTSTAMP:20260418T032952
CREATED:20251112T104447Z
LAST-MODIFIED:20251112T104447Z
UID:10007479-1779305400-1779312600@www.overvillage.co.uk
SUMMARY:Over Gardening Club
DESCRIPTION:Closer to Nature: a wilder garden \nJim Paine \nWe are a friendly group of gardeners and plant lovers who have regular meetings with a speaker and raffle and occasional plant sales.  Meetings are held on the 3rd Wednesday of each month; from September to May we meet at Over Community Centre where we usually have a guest speaker talking on various aspects of gardening\, in June we often arrange a visit to a local garden and in July we hold a social evening.  Membership runs annually from 1 April to 31 March and is currently £15.00 per year.  Visitors to meetings are welcome but we do ask for a guest fee of £3.00 per visit.  A 10% discount is available on most items at Oakington Garden Centre\, plants at Parkhall Nursery in Somersham and also items from Madingley Mulch with a current membership card. \n  \nIf you would like to come to a meeting as a guest just turn up or contact any member of the committee for further details\, we would love to see you.  Committee members: Richard Cox\, Julie Carter\, Jeremy Tyrrell\, Carolyn Redmayne\, Carole Cowley\, Jan Hook\, Julie Wilson\, Cynthia Bidwell\, Rachel Henshaw \nEnquiries\, please email gardeningclubover@gmail.com
URL:https://www.overvillage.co.uk/WP/event/over-gardening-club-14/
LOCATION:Over Community Centre\, 16 The Doles\, Over\,\, Cambridgeshire\, CB24 5NW\, United Kingdom
ATTACH;FMTTYPE=image/jpeg:https://www.overvillage.co.uk/WP/wp-content/uploads/2023/11/627e820e49d6f.image_.jpg
END:VEVENT
BEGIN:VEVENT
DTSTART;TZID=UTC:20260916T193000
DTEND;TZID=UTC:20260916T213000
DTSTAMP:20260418T032952
CREATED:20251112T104908Z
LAST-MODIFIED:20251112T104908Z
UID:10007482-1789587000-1789594200@www.overvillage.co.uk
SUMMARY:Over Gardening Club
DESCRIPTION:Monet at Giverny \nCaroline Holmes \nWe are a friendly group of gardeners and plant lovers who have regular meetings with a speaker and raffle and occasional plant sales.  Meetings are held on the 3rd Wednesday of each month; from September to May we meet at Over Community Centre where we usually have a guest speaker talking on various aspects of gardening\, in June we often arrange a visit to a local garden and in July we hold a social evening.  Membership runs annually from 1 April to 31 March and is currently £15.00 per year.  Visitors to meetings are welcome but we do ask for a guest fee of £3.00 per visit.  A 10% discount is available on most items at Oakington Garden Centre\, plants at Parkhall Nursery in Somersham and also items from Madingley Mulch with a current membership card. \n  \nIf you would like to come to a meeting as a guest just turn up or contact any member of the committee for further details\, we would love to see you.  Committee members: Richard Cox\, Julie Carter\, Jeremy Tyrrell\, Carolyn Redmayne\, Carole Cowley\, Jan Hook\, Julie Wilson\, Cynthia Bidwell\, Rachel Henshaw \nEnquiries\, please email gardeningclubover@gmail.com
URL:https://www.overvillage.co.uk/WP/event/over-gardening-club-17/
LOCATION:Over Community Centre\, 16 The Doles\, Over\,\, Cambridgeshire\, CB24 5NW\, United Kingdom
ATTACH;FMTTYPE=image/jpeg:https://www.overvillage.co.uk/WP/wp-content/uploads/2023/11/627e820e49d6f.image_.jpg
END:VEVENT
BEGIN:VEVENT
DTSTART;TZID=UTC:20261021T193000
DTEND;TZID=UTC:20261021T213000
DTSTAMP:20260418T032952
CREATED:20251112T105039Z
LAST-MODIFIED:20251112T105039Z
UID:10007483-1792611000-1792618200@www.overvillage.co.uk
SUMMARY:Over Gardening Club
DESCRIPTION:Plant Names Explained \nLiz Porteous \n  \nWe are a friendly group of gardeners and plant lovers who have regular meetings with a speaker and raffle and occasional plant sales.  Meetings are held on the 3rd Wednesday of each month; from September to May we meet at Over Community Centre where we usually have a guest speaker talking on various aspects of gardening\, in June we often arrange a visit to a local garden and in July we hold a social evening.  Membership runs annually from 1 April to 31 March and is currently £15.00 per year.  Visitors to meetings are welcome but we do ask for a guest fee of £3.00 per visit.  A 10% discount is available on most items at Oakington Garden Centre\, plants at Parkhall Nursery in Somersham and also items from Madingley Mulch with a current membership card. \n  \nIf you would like to come to a meeting as a guest just turn up or contact any member of the committee for further details\, we would love to see you.  Committee members: Richard Cox\, Julie Carter\, Jeremy Tyrrell\, Carolyn Redmayne\, Carole Cowley\, Jan Hook\, Julie Wilson\, Cynthia Bidwell\, Rachel Henshaw \nEnquiries\, please email gardeningclubover@gmail.com
URL:https://www.overvillage.co.uk/WP/event/over-gardening-club-18/
LOCATION:Over Community Centre\, 16 The Doles\, Over\,\, Cambridgeshire\, CB24 5NW\, United Kingdom
ATTACH;FMTTYPE=image/jpeg:https://www.overvillage.co.uk/WP/wp-content/uploads/2023/11/627e820e49d6f.image_.jpg
END:VEVENT
BEGIN:VEVENT
DTSTART;TZID=UTC:20261118T193000
DTEND;TZID=UTC:20261118T213000
DTSTAMP:20260418T032952
CREATED:20251112T105203Z
LAST-MODIFIED:20251112T105203Z
UID:10007484-1795030200-1795037400@www.overvillage.co.uk
SUMMARY:Over Gardening Club
DESCRIPTION:Colouring the World with Flowers \nDavid Kerley \nWe are a friendly group of gardeners and plant lovers who have regular meetings with a speaker and raffle and occasional plant sales.  Meetings are held on the 3rd Wednesday of each month; from September to May we meet at Over Community Centre where we usually have a guest speaker talking on various aspects of gardening\, in June we often arrange a visit to a local garden and in July we hold a social evening.  Membership runs annually from 1 April to 31 March and is currently £15.00 per year.  Visitors to meetings are welcome but we do ask for a guest fee of £3.00 per visit.  A 10% discount is available on most items at Oakington Garden Centre\, plants at Parkhall Nursery in Somersham and also items from Madingley Mulch with a current membership card. \n  \nIf you would like to come to a meeting as a guest just turn up or contact any member of the committee for further details\, we would love to see you.  Committee members: Richard Cox\, Julie Carter\, Jeremy Tyrrell\, Carolyn Redmayne\, Carole Cowley\, Jan Hook\, Julie Wilson\, Cynthia Bidwell\, Rachel Henshaw \nEnquiries\, please email gardeningclubover@gmail.com
URL:https://www.overvillage.co.uk/WP/event/over-gardening-club-19/
LOCATION:Over Community Centre\, 16 The Doles\, Over\,\, Cambridgeshire\, CB24 5NW\, United Kingdom
ATTACH;FMTTYPE=image/jpeg:https://www.overvillage.co.uk/WP/wp-content/uploads/2023/11/627e820e49d6f.image_.jpg
END:VEVENT
BEGIN:VEVENT
DTSTART;TZID=UTC:20261216T190000
DTEND;TZID=UTC:20261216T230000
DTSTAMP:20260418T032952
CREATED:20251112T105339Z
LAST-MODIFIED:20251112T105339Z
UID:10007485-1797447600-1797462000@www.overvillage.co.uk
SUMMARY:Over Gardening Club
DESCRIPTION:Christmas Social Evening – time tbc \n  \nWe are a friendly group of gardeners and plant lovers who have regular meetings with a speaker and raffle and occasional plant sales.  Meetings are held on the 3rd Wednesday of each month; from September to May we meet at Over Community Centre where we usually have a guest speaker talking on various aspects of gardening\, in June we often arrange a visit to a local garden and in July we hold a social evening.  Membership runs annually from 1 April to 31 March and is currently £15.00 per year.  Visitors to meetings are welcome but we do ask for a guest fee of £3.00 per visit.  A 10% discount is available on most items at Oakington Garden Centre\, plants at Parkhall Nursery in Somersham and also items from Madingley Mulch with a current membership card. \n  \nIf you would like to come to a meeting as a guest just turn up or contact any member of the committee for further details\, we would love to see you.  Committee members: Richard Cox\, Julie Carter\, Jeremy Tyrrell\, Carolyn Redmayne\, Carole Cowley\, Jan Hook\, Julie Wilson\, Cynthia Bidwell\, Rachel Henshaw \nEnquiries\, please email gardeningclubover@gmail.com
URL:https://www.overvillage.co.uk/WP/event/over-gardening-club-20/
LOCATION:Over Community Centre\, 16 The Doles\, Over\,\, Cambridgeshire\, CB24 5NW\, United Kingdom
ATTACH;FMTTYPE=image/jpeg:https://www.overvillage.co.uk/WP/wp-content/uploads/2023/11/627e820e49d6f.image_.jpg
END:VEVENT
END:VCALENDAR