BEGIN:VCALENDAR
VERSION:2.0
PRODID:-//Over Village News - ECPv6.15.20//NONSGML v1.0//EN
CALSCALE:GREGORIAN
METHOD:PUBLISH
X-WR-CALNAME:Over Village News
X-ORIGINAL-URL:https://www.overvillage.co.uk/WP
X-WR-CALDESC:Events for Over Village News
REFRESH-INTERVAL;VALUE=DURATION:PT1H
X-Robots-Tag:noindex
X-PUBLISHED-TTL:PT1H
BEGIN:VTIMEZONE
TZID:UTC
BEGIN:STANDARD
TZOFFSETFROM:+0000
TZOFFSETTO:+0000
TZNAME:UTC
DTSTART:20220101T000000
END:STANDARD
END:VTIMEZONE
BEGIN:VEVENT
DTSTART;TZID=UTC:20250529T193000
DTEND;TZID=UTC:20250529T193000
DTSTAMP:20260424T013308
CREATED:20241206T113718Z
LAST-MODIFIED:20241206T113718Z
UID:10005575-1748547000-1748547000@www.overvillage.co.uk
SUMMARY:Over Players - Calendar Girls
DESCRIPTION:Performances Wendesday 28th May to Saturday 31st May 2025 at Over Community Centre. \nFurther information available from Olive Swain via email olive123swain@gmail.com or Christine Turner via email c.turner1@hotmail.com
URL:https://www.overvillage.co.uk/WP/event/over-players-calendar-girls/2025-05-29/
LOCATION:Over Community Centre\, 16 The Doles\, Over\,\, Cambridgeshire\, CB24 5NW\, United Kingdom
ORGANIZER;CN="Over Players":MAILTO:secretary@overplayers.uk
END:VEVENT
BEGIN:VEVENT
DTSTART;TZID=UTC:20250528T193000
DTEND;TZID=UTC:20250528T193000
DTSTAMP:20260424T013308
CREATED:20241206T113718Z
LAST-MODIFIED:20241206T113718Z
UID:10005574-1748460600-1748460600@www.overvillage.co.uk
SUMMARY:Over Players - Calendar Girls
DESCRIPTION:Performances Wendesday 28th May to Saturday 31st May 2025 at Over Community Centre. \nFurther information available from Olive Swain via email olive123swain@gmail.com or Christine Turner via email c.turner1@hotmail.com
URL:https://www.overvillage.co.uk/WP/event/over-players-calendar-girls/2025-05-28/
LOCATION:Over Community Centre\, 16 The Doles\, Over\,\, Cambridgeshire\, CB24 5NW\, United Kingdom
ORGANIZER;CN="Over Players":MAILTO:secretary@overplayers.uk
END:VEVENT
BEGIN:VEVENT
DTSTART;TZID=UTC:20250205T200000
DTEND;TZID=UTC:20250205T200000
DTSTAMP:20260424T013308
CREATED:20241206T113359Z
LAST-MODIFIED:20241206T113359Z
UID:10005573-1738785600-1738785600@www.overvillage.co.uk
SUMMARY:Over Players - Rehearsal for Calendar Girls
DESCRIPTION:First rehearsal Wednesday 5th February at Over Church Hall starting at 2000. \nPerformances Wendesday 28th May to Saturday 31st May 2025 at Over Community Centre. \nFurther information available from Olive Swain via email olive123swain@gmail.com or Christine Turner via email c.turner1@hotmail.com
URL:https://www.overvillage.co.uk/WP/event/over-players-rehearsal-for-calendar-girls/
LOCATION:St Mary’s Church Hall\, Church End\, Over\, CB24 5NH
ORGANIZER;CN="Over Players":MAILTO:secretary@overplayers.uk
END:VEVENT
BEGIN:VEVENT
DTSTART;TZID=UTC:20250129T193000
DTEND;TZID=UTC:20250129T193000
DTSTAMP:20260424T013308
CREATED:20241206T113126Z
LAST-MODIFIED:20241206T113126Z
UID:10005572-1738179000-1738179000@www.overvillage.co.uk
SUMMARY:Over Players - Auditions for Principal Parts in Calendar Girls
DESCRIPTION:Auditions for Principal Parts at the Over Community Centre on Wednesday 29th January starting at 1930. \nFirst rehearsal Wednesday 5th February at Over Church Hall starting at 2000. \nPerformances Wendesday 28th May to Saturday 31st May 2025 at Over Community Centre. \nFurther information available from Olive Swain via email olive123swain@gmail.com or Christine Turner via email c.turner1@hotmail.com
URL:https://www.overvillage.co.uk/WP/event/over-players-auditions-for-principal-parts-in-calendar-girls/
LOCATION:Over Community Centre\, 16 The Doles\, Over\,\, Cambridgeshire\, CB24 5NW\, United Kingdom
ORGANIZER;CN="Over Players":MAILTO:secretary@overplayers.uk
END:VEVENT
BEGIN:VEVENT
DTSTART;TZID=UTC:20250122T080000
DTEND;TZID=UTC:20250122T170000
DTSTAMP:20260424T013309
CREATED:20241206T112847Z
LAST-MODIFIED:20241206T112847Z
UID:10005571-1737532800-1737565200@www.overvillage.co.uk
SUMMARY:Over Players - Read through for Calendar Girls
DESCRIPTION:Read-throughs of the show on 15th and 22nd January at 2000 at Over Church Hall. \nAuditions for Principal Parts at the Over Community Centre on Wednesday 29th January starting at 1930. \nFirst rehearsal Wednesday 5th February at Over Church Hall starting at 2000. \nPerformances Wendesday 28th May to Saturday 31st May 2025 at Over Community Centre. \nFurther information available from Olive Swain via email olive123swain@gmail.com or Christine Turner via email c.turner1@hotmail.com
URL:https://www.overvillage.co.uk/WP/event/over-players-read-through-for-calendar-girls/2025-01-22/
LOCATION:St Mary’s Church Hall\, Church End\, Over\, CB24 5NH
ORGANIZER;CN="Over Players":MAILTO:secretary@overplayers.uk
END:VEVENT
BEGIN:VEVENT
DTSTART;TZID=UTC:20250115T200000
DTEND;TZID=UTC:20250115T200000
DTSTAMP:20260424T013309
CREATED:20241206T112847Z
LAST-MODIFIED:20241206T112847Z
UID:10005570-1736971200-1736971200@www.overvillage.co.uk
SUMMARY:Over Players - Read through for Calendar Girls
DESCRIPTION:Read-throughs of the show on 15th and 22nd January at 2000 at Over Church Hall. \nAuditions for Principal Parts at the Over Community Centre on Wednesday 29th January starting at 1930. \nFirst rehearsal Wednesday 5th February at Over Church Hall starting at 2000. \nPerformances Wendesday 28th May to Saturday 31st May 2025 at Over Community Centre. \nFurther information available from Olive Swain via email olive123swain@gmail.com or Christine Turner via email c.turner1@hotmail.com
URL:https://www.overvillage.co.uk/WP/event/over-players-read-through-for-calendar-girls/2025-01-15/
LOCATION:St Mary’s Church Hall\, Church End\, Over\, CB24 5NH
ORGANIZER;CN="Over Players":MAILTO:secretary@overplayers.uk
END:VEVENT
BEGIN:VEVENT
DTSTART;VALUE=DATE:20241214
DTEND;VALUE=DATE:20241215
DTSTAMP:20260424T013309
CREATED:20241129T102030Z
LAST-MODIFIED:20241206T114702Z
UID:10005204-1734134400-1734220799@www.overvillage.co.uk
SUMMARY:Sleeping Beauty (Over Players Pantomime)
DESCRIPTION:Performances run Tuesday – Saturday. \nFor further details and to book your tickets\, visit https://overplayers.uk/
URL:https://www.overvillage.co.uk/WP/event/sleeping-beauty-over-players-pantomime/2024-12-14/
LOCATION:Over Community Centre\, 16 The Doles\, Over\,\, Cambridgeshire\, CB24 5NW\, United Kingdom
ORGANIZER;CN="Over Players":MAILTO:secretary@overplayers.uk
END:VEVENT
BEGIN:VEVENT
DTSTART;VALUE=DATE:20241213
DTEND;VALUE=DATE:20241214
DTSTAMP:20260424T013309
CREATED:20241129T102030Z
LAST-MODIFIED:20241206T114702Z
UID:10005203-1734048000-1734134399@www.overvillage.co.uk
SUMMARY:Sleeping Beauty (Over Players Pantomime)
DESCRIPTION:Performances run Tuesday – Saturday. \nFor further details and to book your tickets\, visit https://overplayers.uk/
URL:https://www.overvillage.co.uk/WP/event/sleeping-beauty-over-players-pantomime/2024-12-13/
LOCATION:Over Community Centre\, 16 The Doles\, Over\,\, Cambridgeshire\, CB24 5NW\, United Kingdom
ORGANIZER;CN="Over Players":MAILTO:secretary@overplayers.uk
END:VEVENT
BEGIN:VEVENT
DTSTART;VALUE=DATE:20241212
DTEND;VALUE=DATE:20241213
DTSTAMP:20260424T013309
CREATED:20241129T102030Z
LAST-MODIFIED:20241206T114702Z
UID:10005202-1733961600-1734047999@www.overvillage.co.uk
SUMMARY:Sleeping Beauty (Over Players Pantomime)
DESCRIPTION:Performances run Tuesday – Saturday. \nFor further details and to book your tickets\, visit https://overplayers.uk/
URL:https://www.overvillage.co.uk/WP/event/sleeping-beauty-over-players-pantomime/2024-12-12/
LOCATION:Over Community Centre\, 16 The Doles\, Over\,\, Cambridgeshire\, CB24 5NW\, United Kingdom
ORGANIZER;CN="Over Players":MAILTO:secretary@overplayers.uk
END:VEVENT
BEGIN:VEVENT
DTSTART;VALUE=DATE:20241211
DTEND;VALUE=DATE:20241212
DTSTAMP:20260424T013309
CREATED:20241129T102030Z
LAST-MODIFIED:20241206T114702Z
UID:10005201-1733875200-1733961599@www.overvillage.co.uk
SUMMARY:Sleeping Beauty (Over Players Pantomime)
DESCRIPTION:Performances run Tuesday – Saturday. \nFor further details and to book your tickets\, visit https://overplayers.uk/
URL:https://www.overvillage.co.uk/WP/event/sleeping-beauty-over-players-pantomime/2024-12-11/
LOCATION:Over Community Centre\, 16 The Doles\, Over\,\, Cambridgeshire\, CB24 5NW\, United Kingdom
ORGANIZER;CN="Over Players":MAILTO:secretary@overplayers.uk
END:VEVENT
BEGIN:VEVENT
DTSTART;VALUE=DATE:20241210
DTEND;VALUE=DATE:20241211
DTSTAMP:20260424T013309
CREATED:20241129T102030Z
LAST-MODIFIED:20241206T114702Z
UID:10005200-1733788800-1733875199@www.overvillage.co.uk
SUMMARY:Sleeping Beauty (Over Players Pantomime)
DESCRIPTION:Performances run Tuesday – Saturday. \nFor further details and to book your tickets\, visit https://overplayers.uk/
URL:https://www.overvillage.co.uk/WP/event/sleeping-beauty-over-players-pantomime/2024-12-10/
LOCATION:Over Community Centre\, 16 The Doles\, Over\,\, Cambridgeshire\, CB24 5NW\, United Kingdom
ORGANIZER;CN="Over Players":MAILTO:secretary@overplayers.uk
END:VEVENT
BEGIN:VEVENT
DTSTART;TZID=UTC:20240914T190000
DTEND;TZID=UTC:20240914T190000
DTSTAMP:20260424T013309
CREATED:20240718T130126Z
LAST-MODIFIED:20240718T130126Z
UID:10002192-1726340400-1726340400@www.overvillage.co.uk
SUMMARY:Over Players - Murder Mystery Evening - Who Killed the Vicar?
DESCRIPTION:Doors open 1900 for 1915 start.  Please bring your own picnic and drinks (and a glass please). \nTickets £10 from www.overplayers.uk \n  \n 
URL:https://www.overvillage.co.uk/WP/event/over-players-murder-mystery-evening-who-killed-the-vicar/
LOCATION:St Mary’s Church Hall\, Church End\, Over\, CB24 5NH
ORGANIZER;CN="Over Players":MAILTO:secretary@overplayers.uk
END:VEVENT
BEGIN:VEVENT
DTSTART;TZID=UTC:20240601T194500
DTEND;TZID=UTC:20240601T220000
DTSTAMP:20260424T013309
CREATED:20240501T175434Z
LAST-MODIFIED:20240524T164740Z
UID:10001816-1717271100-1717279200@www.overvillage.co.uk
SUMMARY:Over Players Present An Old Time Music Hall
DESCRIPTION:Featuring many well known songs such as My Old Man\, Old Bull & Bush\, Let Me Call You Sweetheart\, plus jokes\, comedy songs\, sketches and much more. \nTickets at www.overplayers.uk
URL:https://www.overvillage.co.uk/WP/event/over-players-present-an-old-time-music-hall/2024-06-01/
LOCATION:Over Community Centre\, 16 The Doles\, Over\,\, Cambridgeshire\, CB24 5NW\, United Kingdom
ORGANIZER;CN="Over Players":MAILTO:secretary@overplayers.uk
END:VEVENT
BEGIN:VEVENT
DTSTART;TZID=UTC:20240531T194500
DTEND;TZID=UTC:20240531T220000
DTSTAMP:20260424T013309
CREATED:20240501T175434Z
LAST-MODIFIED:20240524T164740Z
UID:10001815-1717184700-1717192800@www.overvillage.co.uk
SUMMARY:Over Players Present An Old Time Music Hall
DESCRIPTION:Featuring many well known songs such as My Old Man\, Old Bull & Bush\, Let Me Call You Sweetheart\, plus jokes\, comedy songs\, sketches and much more. \nTickets at www.overplayers.uk
URL:https://www.overvillage.co.uk/WP/event/over-players-present-an-old-time-music-hall/2024-05-31/
LOCATION:Over Community Centre\, 16 The Doles\, Over\,\, Cambridgeshire\, CB24 5NW\, United Kingdom
ORGANIZER;CN="Over Players":MAILTO:secretary@overplayers.uk
END:VEVENT
BEGIN:VEVENT
DTSTART;TZID=UTC:20240530T194500
DTEND;TZID=UTC:20240530T220000
DTSTAMP:20260424T013309
CREATED:20240501T175434Z
LAST-MODIFIED:20240524T164740Z
UID:10001814-1717098300-1717106400@www.overvillage.co.uk
SUMMARY:Over Players Present An Old Time Music Hall
DESCRIPTION:Featuring many well known songs such as My Old Man\, Old Bull & Bush\, Let Me Call You Sweetheart\, plus jokes\, comedy songs\, sketches and much more. \nTickets at www.overplayers.uk
URL:https://www.overvillage.co.uk/WP/event/over-players-present-an-old-time-music-hall/2024-05-30/
LOCATION:Over Community Centre\, 16 The Doles\, Over\,\, Cambridgeshire\, CB24 5NW\, United Kingdom
ORGANIZER;CN="Over Players":MAILTO:secretary@overplayers.uk
END:VEVENT
BEGIN:VEVENT
DTSTART;TZID=UTC:20231216T193000
DTEND;TZID=UTC:20231216T210000
DTSTAMP:20260424T013309
CREATED:20231009T210533Z
LAST-MODIFIED:20231009T211120Z
UID:10000042-1702755000-1702760400@www.overvillage.co.uk
SUMMARY:Treasure Island – Pantomime
DESCRIPTION:Pantomime – Written by Ben Crocker and Directed by Jack Stinton. \nLong John Silver may be a dastardly villain\, but he has never before had to deal with the Ladies of the Smugglers Cove Women’s Institute! This is Ben’s Largest Pantomime and a madcap\, laugh a minute pirate adventure story from start to finish! \nGet your tickets here: https://www.ticketsource.co.uk/overplayers/treasure-island/e-kgqrab
URL:https://www.overvillage.co.uk/WP/event/treasure-island-pantomime/2023-12-16/2/
LOCATION:Over Community Centre\, 16 The Doles\, Over\,\, Cambridgeshire\, CB24 5NW\, United Kingdom
ORGANIZER;CN="Over Players":MAILTO:secretary@overplayers.uk
END:VEVENT
BEGIN:VEVENT
DTSTART;TZID=UTC:20231216T143000
DTEND;TZID=UTC:20231216T160000
DTSTAMP:20260424T013309
CREATED:20231009T210533Z
LAST-MODIFIED:20231009T211120Z
UID:10000041-1702737000-1702742400@www.overvillage.co.uk
SUMMARY:Treasure Island – Pantomime
DESCRIPTION:Pantomime – Written by Ben Crocker and Directed by Jack Stinton. \nLong John Silver may be a dastardly villain\, but he has never before had to deal with the Ladies of the Smugglers Cove Women’s Institute! This is Ben’s Largest Pantomime and a madcap\, laugh a minute pirate adventure story from start to finish! \nGet your tickets here: https://www.ticketsource.co.uk/overplayers/treasure-island/e-kgqrab
URL:https://www.overvillage.co.uk/WP/event/treasure-island-pantomime/2023-12-16/1/
LOCATION:Over Community Centre\, 16 The Doles\, Over\,\, Cambridgeshire\, CB24 5NW\, United Kingdom
ORGANIZER;CN="Over Players":MAILTO:secretary@overplayers.uk
END:VEVENT
BEGIN:VEVENT
DTSTART;TZID=UTC:20231215T193000
DTEND;TZID=UTC:20231215T210000
DTSTAMP:20260424T013309
CREATED:20231009T210533Z
LAST-MODIFIED:20231009T211120Z
UID:10000040-1702668600-1702674000@www.overvillage.co.uk
SUMMARY:Treasure Island – Pantomime
DESCRIPTION:Pantomime – Written by Ben Crocker and Directed by Jack Stinton. \nLong John Silver may be a dastardly villain\, but he has never before had to deal with the Ladies of the Smugglers Cove Women’s Institute! This is Ben’s Largest Pantomime and a madcap\, laugh a minute pirate adventure story from start to finish! \nGet your tickets here: https://www.ticketsource.co.uk/overplayers/treasure-island/e-kgqrab
URL:https://www.overvillage.co.uk/WP/event/treasure-island-pantomime/2023-12-15/
LOCATION:Over Community Centre\, 16 The Doles\, Over\,\, Cambridgeshire\, CB24 5NW\, United Kingdom
ORGANIZER;CN="Over Players":MAILTO:secretary@overplayers.uk
END:VEVENT
BEGIN:VEVENT
DTSTART;TZID=UTC:20231214T193000
DTEND;TZID=UTC:20231214T210000
DTSTAMP:20260424T013309
CREATED:20231009T210533Z
LAST-MODIFIED:20231009T211120Z
UID:10000039-1702582200-1702587600@www.overvillage.co.uk
SUMMARY:Treasure Island – Pantomime
DESCRIPTION:Pantomime – Written by Ben Crocker and Directed by Jack Stinton. \nLong John Silver may be a dastardly villain\, but he has never before had to deal with the Ladies of the Smugglers Cove Women’s Institute! This is Ben’s Largest Pantomime and a madcap\, laugh a minute pirate adventure story from start to finish! \nGet your tickets here: https://www.ticketsource.co.uk/overplayers/treasure-island/e-kgqrab
URL:https://www.overvillage.co.uk/WP/event/treasure-island-pantomime/2023-12-14/
LOCATION:Over Community Centre\, 16 The Doles\, Over\,\, Cambridgeshire\, CB24 5NW\, United Kingdom
ORGANIZER;CN="Over Players":MAILTO:secretary@overplayers.uk
END:VEVENT
BEGIN:VEVENT
DTSTART;TZID=UTC:20231213T193000
DTEND;TZID=UTC:20231213T210000
DTSTAMP:20260424T013309
CREATED:20231009T210533Z
LAST-MODIFIED:20231009T211120Z
UID:10000038-1702495800-1702501200@www.overvillage.co.uk
SUMMARY:Treasure Island – Pantomime
DESCRIPTION:Pantomime – Written by Ben Crocker and Directed by Jack Stinton. \nLong John Silver may be a dastardly villain\, but he has never before had to deal with the Ladies of the Smugglers Cove Women’s Institute! This is Ben’s Largest Pantomime and a madcap\, laugh a minute pirate adventure story from start to finish! \nGet your tickets here: https://www.ticketsource.co.uk/overplayers/treasure-island/e-kgqrab
URL:https://www.overvillage.co.uk/WP/event/treasure-island-pantomime/2023-12-13/
LOCATION:Over Community Centre\, 16 The Doles\, Over\,\, Cambridgeshire\, CB24 5NW\, United Kingdom
ORGANIZER;CN="Over Players":MAILTO:secretary@overplayers.uk
END:VEVENT
BEGIN:VEVENT
DTSTART;TZID=UTC:20231212T183000
DTEND;TZID=UTC:20231212T200000
DTSTAMP:20260424T013309
CREATED:20231009T210533Z
LAST-MODIFIED:20231009T211120Z
UID:10000037-1702405800-1702411200@www.overvillage.co.uk
SUMMARY:Treasure Island – Pantomime
DESCRIPTION:Pantomime – Written by Ben Crocker and Directed by Jack Stinton. \nLong John Silver may be a dastardly villain\, but he has never before had to deal with the Ladies of the Smugglers Cove Women’s Institute! This is Ben’s Largest Pantomime and a madcap\, laugh a minute pirate adventure story from start to finish! \nGet your tickets here: https://www.ticketsource.co.uk/overplayers/treasure-island/e-kgqrab
URL:https://www.overvillage.co.uk/WP/event/treasure-island-pantomime/2023-12-12/
LOCATION:Over Community Centre\, 16 The Doles\, Over\,\, Cambridgeshire\, CB24 5NW\, United Kingdom
ORGANIZER;CN="Over Players":MAILTO:secretary@overplayers.uk
END:VEVENT
END:VCALENDAR