BEGIN:VCALENDAR
VERSION:2.0
PRODID:-//Over Village News - ECPv6.15.20//NONSGML v1.0//EN
CALSCALE:GREGORIAN
METHOD:PUBLISH
X-WR-CALNAME:Over Village News
X-ORIGINAL-URL:https://www.overvillage.co.uk/WP
X-WR-CALDESC:Events for Over Village News
REFRESH-INTERVAL;VALUE=DURATION:PT1H
X-Robots-Tag:noindex
X-PUBLISHED-TTL:PT1H
BEGIN:VTIMEZONE
TZID:UTC
BEGIN:STANDARD
TZOFFSETFROM:+0000
TZOFFSETTO:+0000
TZNAME:UTC
DTSTART:20230101T000000
END:STANDARD
END:VTIMEZONE
BEGIN:VEVENT
DTSTART;VALUE=DATE:20250303
DTEND;VALUE=DATE:20250304
DTSTAMP:20260424T084241
CREATED:20240718T133742Z
LAST-MODIFIED:20240922T203522Z
UID:10002204-1740960000-1741046399@www.overvillage.co.uk
SUMMARY:Over WI - AGM
DESCRIPTION:The AGM for the Over WI \nWe would be delighted to welcome any ladies who might like to dip their toes in W.I. waters\, to come along and see what it’s all about.
URL:https://www.overvillage.co.uk/WP/event/over-wi-agm/
LOCATION:Over Community Centre\, 16 The Doles\, Over\,\, Cambridgeshire\, CB24 5NW\, United Kingdom
ATTACH;FMTTYPE=image/svg+xml:https://www.overvillage.co.uk/WP/wp-content/uploads/2024/04/thewi-logo.svg
END:VEVENT
BEGIN:VEVENT
DTSTART;TZID=UTC:20250203T193000
DTEND;TZID=UTC:20250203T193000
DTSTAMP:20260424T084241
CREATED:20240718T133609Z
LAST-MODIFIED:20240718T133609Z
UID:10002203-1738611000-1738611000@www.overvillage.co.uk
SUMMARY:Over WI - Gran Day's little book or recipes and stories from 1916
DESCRIPTION:A presentation by Keith Day. \nWe would be delighted to welcome any ladies who might like to dip their toes in W.I. waters\, to come along and see what it’s all about.
URL:https://www.overvillage.co.uk/WP/event/over-wi-gran-days-little-book-or-recipes-and-stories-from-1916/
LOCATION:Over Community Centre\, 16 The Doles\, Over\,\, Cambridgeshire\, CB24 5NW\, United Kingdom
ATTACH;FMTTYPE=image/svg+xml:https://www.overvillage.co.uk/WP/wp-content/uploads/2024/04/thewi-logo.svg
END:VEVENT
BEGIN:VEVENT
DTSTART;TZID=UTC:20250106T193000
DTEND;TZID=UTC:20250106T193000
DTSTAMP:20260424T084241
CREATED:20240718T133423Z
LAST-MODIFIED:20241206T114411Z
UID:10002202-1736191800-1736191800@www.overvillage.co.uk
SUMMARY:Over WI - Ada Lovelace development of the computer
DESCRIPTION:Come along for a talk about Ada Lovelace by Alan Osborne \nWe would be delighted to welcome any ladies who might like to dip their toes in W.I. waters\, to come along and see what it’s all about.
URL:https://www.overvillage.co.uk/WP/event/over-wi-ada-lovelace-development-of-the-computer/
LOCATION:Over Community Centre\, 16 The Doles\, Over\,\, Cambridgeshire\, CB24 5NW\, United Kingdom
ATTACH;FMTTYPE=image/svg+xml:https://www.overvillage.co.uk/WP/wp-content/uploads/2024/04/thewi-logo.svg
END:VEVENT
BEGIN:VEVENT
DTSTART;TZID=UTC:20241202T193000
DTEND;TZID=UTC:20241202T193000
DTSTAMP:20260424T084241
CREATED:20240718T133218Z
LAST-MODIFIED:20240922T201526Z
UID:10002201-1733167800-1733167800@www.overvillage.co.uk
SUMMARY:Over WI - Line Dancing
DESCRIPTION:Come and join a presentation by Naomi Wallen. \nWe would be delighted to welcome any ladies who might like to dip their toes in W.I. waters\, to come along and see what it’s all about.
URL:https://www.overvillage.co.uk/WP/event/over-wi-line-dancing/
LOCATION:Over Community Centre\, 16 The Doles\, Over\,\, Cambridgeshire\, CB24 5NW\, United Kingdom
ATTACH;FMTTYPE=image/svg+xml:https://www.overvillage.co.uk/WP/wp-content/uploads/2024/04/thewi-logo.svg
END:VEVENT
BEGIN:VEVENT
DTSTART;TZID=UTC:20241104T193000
DTEND;TZID=UTC:20241104T193000
DTSTAMP:20260424T084241
CREATED:20240718T132949Z
LAST-MODIFIED:20240718T132949Z
UID:10002200-1730748600-1730748600@www.overvillage.co.uk
SUMMARY:Over WI - The day Parliament burned down
DESCRIPTION:A talk by Caroline Shenton \nWe would be delighted to welcome any ladies who might like to dip their toes in W.I. waters\, to come along and see what it’s all about. \n 
URL:https://www.overvillage.co.uk/WP/event/over-wi-the-day-parliament-burned-down/
LOCATION:Over Community Centre\, 16 The Doles\, Over\,\, Cambridgeshire\, CB24 5NW\, United Kingdom
ATTACH;FMTTYPE=image/svg+xml:https://www.overvillage.co.uk/WP/wp-content/uploads/2024/04/thewi-logo.svg
END:VEVENT
BEGIN:VEVENT
DTSTART;TZID=UTC:20241104T193000
DTEND;TZID=UTC:20241104T193000
DTSTAMP:20260424T084241
CREATED:20240716T144648Z
LAST-MODIFIED:20240718T132058Z
UID:10002194-1730748600-1730748600@www.overvillage.co.uk
SUMMARY:Over WI-Emergency response volunteers
DESCRIPTION:A presentation about Emergency response volunteers by Malcolm Parkinson. \nWe would be delighted to welcome any ladies who might like to dip their toes in W.I. waters\, to come along and see what it’s all about.
URL:https://www.overvillage.co.uk/WP/event/over-wi/2024-11-04/
LOCATION:Over Community Centre\, 16 The Doles\, Over\,\, Cambridgeshire\, CB24 5NW\, United Kingdom
ATTACH;FMTTYPE=image/svg+xml:https://www.overvillage.co.uk/WP/wp-content/uploads/2024/04/thewi-logo.svg
END:VEVENT
BEGIN:VEVENT
DTSTART;TZID=UTC:20241007T193000
DTEND;TZID=UTC:20241007T193000
DTSTAMP:20260424T084241
CREATED:20240718T132531Z
LAST-MODIFIED:20240718T132531Z
UID:10002199-1728329400-1728329400@www.overvillage.co.uk
SUMMARY:Over WI - 12 Tremendous Trees
DESCRIPTION:A presentation by Dr Gwenda Kyd. \nWe would be delighted to welcome any ladies who might like to dip their toes in W.I. waters\, to come along and see what it’s all about. \n 
URL:https://www.overvillage.co.uk/WP/event/over-wi-12-tremendous-trees/
LOCATION:Over Community Centre\, 16 The Doles\, Over\,\, Cambridgeshire\, CB24 5NW\, United Kingdom
ATTACH;FMTTYPE=image/svg+xml:https://www.overvillage.co.uk/WP/wp-content/uploads/2024/04/thewi-logo.svg
END:VEVENT
BEGIN:VEVENT
DTSTART;TZID=UTC:20241007T193000
DTEND;TZID=UTC:20241007T193000
DTSTAMP:20260424T084241
CREATED:20240716T144648Z
LAST-MODIFIED:20240718T132058Z
UID:10002193-1728329400-1728329400@www.overvillage.co.uk
SUMMARY:Over WI-Emergency response volunteers
DESCRIPTION:A presentation about Emergency response volunteers by Malcolm Parkinson. \nWe would be delighted to welcome any ladies who might like to dip their toes in W.I. waters\, to come along and see what it’s all about.
URL:https://www.overvillage.co.uk/WP/event/over-wi/2024-10-07/
LOCATION:Over Community Centre\, 16 The Doles\, Over\,\, Cambridgeshire\, CB24 5NW\, United Kingdom
ATTACH;FMTTYPE=image/svg+xml:https://www.overvillage.co.uk/WP/wp-content/uploads/2024/04/thewi-logo.svg
END:VEVENT
BEGIN:VEVENT
DTSTART;TZID=UTC:20240902T193000
DTEND;TZID=UTC:20240902T193000
DTSTAMP:20260424T084241
CREATED:20240716T144648Z
LAST-MODIFIED:20240718T132058Z
UID:10002191-1725305400-1725305400@www.overvillage.co.uk
SUMMARY:Over WI-Emergency response volunteers
DESCRIPTION:A presentation about Emergency response volunteers by Malcolm Parkinson. \nWe would be delighted to welcome any ladies who might like to dip their toes in W.I. waters\, to come along and see what it’s all about.
URL:https://www.overvillage.co.uk/WP/event/over-wi/2024-09-02/
LOCATION:Over Community Centre\, 16 The Doles\, Over\,\, Cambridgeshire\, CB24 5NW\, United Kingdom
ATTACH;FMTTYPE=image/svg+xml:https://www.overvillage.co.uk/WP/wp-content/uploads/2024/04/thewi-logo.svg
END:VEVENT
END:VCALENDAR