BEGIN:VCALENDAR
VERSION:2.0
PRODID:-//Over Village News - ECPv6.15.20//NONSGML v1.0//EN
CALSCALE:GREGORIAN
METHOD:PUBLISH
X-WR-CALNAME:Over Village News
X-ORIGINAL-URL:https://www.overvillage.co.uk/WP
X-WR-CALDESC:Events for Over Village News
REFRESH-INTERVAL;VALUE=DURATION:PT1H
X-Robots-Tag:noindex
X-PUBLISHED-TTL:PT1H
BEGIN:VTIMEZONE
TZID:UTC
BEGIN:STANDARD
TZOFFSETFROM:+0000
TZOFFSETTO:+0000
TZNAME:UTC
DTSTART:20220101T000000
END:STANDARD
END:VTIMEZONE
BEGIN:VEVENT
DTSTART;TZID=UTC:20231007T190000
DTEND;TZID=UTC:20231007T190000
DTSTAMP:20260423T232947
CREATED:20230914T120419Z
LAST-MODIFIED:20230914T120542Z
UID:10000018-1696705200-1696705200@www.overvillage.co.uk
SUMMARY:Casino Night - Safe haven for Caitlin
DESCRIPTION:
URL:https://www.overvillage.co.uk/WP/event/casino-night-safe-haven-for-caitlin/
LOCATION:Over Community Centre\, 16 The Doles\, Over\,\, Cambridgeshire\, CB24 5NW\, United Kingdom
END:VEVENT
END:VCALENDAR