BEGIN:VCALENDAR
VERSION:2.0
PRODID:-//Over Village News - ECPv6.15.20//NONSGML v1.0//EN
CALSCALE:GREGORIAN
METHOD:PUBLISH
X-WR-CALNAME:Over Village News
X-ORIGINAL-URL:https://www.overvillage.co.uk/WP
X-WR-CALDESC:Events for Over Village News
REFRESH-INTERVAL;VALUE=DURATION:PT1H
X-Robots-Tag:noindex
X-PUBLISHED-TTL:PT1H
BEGIN:VTIMEZONE
TZID:UTC
BEGIN:STANDARD
TZOFFSETFROM:+0000
TZOFFSETTO:+0000
TZNAME:UTC
DTSTART:20230101T000000
END:STANDARD
END:VTIMEZONE
BEGIN:VEVENT
DTSTART;TZID=UTC:20251129T101500
DTEND;TZID=UTC:20251129T120000
DTSTAMP:20260423T233103
CREATED:20251111T190646Z
LAST-MODIFIED:20251111T190646Z
UID:10007473-1764411300-1764417600@www.overvillage.co.uk
SUMMARY:St Mary's Church - Advent Activities Morning
DESCRIPTION:St Mary’s Church\, Over\, are running an Advent Activity morning on Saturday 29 November from\, 10.15 – 12 noon for children between 4 and 11 years.  It will start in the Church and then move quickly over to the hall where there will be lots of Advent and Christmas themed crafts and activities to have fun with.  Parents are invited to stay and enjoy some seasonal refreshments too!  There is no charge for the morning\, but we do require you to book a place in advance as numbers are limited.  Please text Kate Woolf on 07450 897321 or email katewoolfmusic@gmail.com for more information and to book a place.
URL:https://www.overvillage.co.uk/WP/event/st-marys-church-advent-activities-morning/
LOCATION:St Marys Church\, Church End\, Over\, Cambridgeshire\, CB24 5NH\, United Kingdom
ATTACH;FMTTYPE=image/jpeg:https://www.overvillage.co.uk/WP/wp-content/uploads/2025/11/Advent-Activities.jpg.jpeg
END:VEVENT
BEGIN:VEVENT
DTSTART;TZID=UTC:20250419T140000
DTEND;TZID=UTC:20250419T140000
DTSTAMP:20260423T233103
CREATED:20250218T180227Z
LAST-MODIFIED:20250218T180527Z
UID:10006435-1745071200-1745071200@www.overvillage.co.uk
SUMMARY:Easter at St Mary's Church 19th April
DESCRIPTION:Starting in Church Hall with craft and refreshments\, moving to the Church for a short reflection about Easter which will be followed by egg hunt in the Churchyard. \n  \nChildren need to be accompanied by an adult. Booking required – please email Clairemfisher@hotmail.com with the name and ages of children attending.
URL:https://www.overvillage.co.uk/WP/event/easter-at-st-marys-church-19th-april/
LOCATION:St Marys Church\, Church End\, Over\, Cambridgeshire\, CB24 5NH\, United Kingdom
END:VEVENT
BEGIN:VEVENT
DTSTART;TZID=UTC:20250330T103000
DTEND;TZID=UTC:20250330T223000
DTSTAMP:20260423T233103
CREATED:20250304T103142Z
LAST-MODIFIED:20250304T103142Z
UID:10006438-1743330600-1743373800@www.overvillage.co.uk
SUMMARY:Mothering Sunday at St Mary's Church - NEW STARTING TIME
DESCRIPTION:Our Mothering Sunday service is at 10.30 am on Sunday 30th March\, this is a service suitable for all and there will be an opportunity to take home a small gift of flowers. \nPlease note this is a change to the previously advertised starting time.
URL:https://www.overvillage.co.uk/WP/event/mothering-sunday-at-st-marys-church-new-starting-time/
LOCATION:St Marys Church\, Church End\, Over\, Cambridgeshire\, CB24 5NH\, United Kingdom
END:VEVENT
BEGIN:VEVENT
DTSTART;TZID=UTC:20241130T101500
DTEND;TZID=UTC:20241130T120000
DTSTAMP:20260423T233103
CREATED:20241101T140056Z
LAST-MODIFIED:20241101T140056Z
UID:10004940-1732961700-1732968000@www.overvillage.co.uk
SUMMARY:Advent Activity Morning at St Mary's Church and Church Hall
DESCRIPTION:St. Mary’s Church are running an Advent Activity morning on Saturday 30th November for children aged 4 – 11 years. The session will start with a very short service in Church at 10.15am then we will move over to the church hall where there will be many Advent and Christmas-themed activities for the children to participate in as well as seasonal refreshments for the accompanying adults! \nThere is no charge for the morning but we do require you to book a place in advance as numbers are limited! Please note\, parents/carers of children aged 7 and under are required to stay for the morning’s activities\, but all parents/carers are welcome. \nIf you would like a form to book a place please contact Claire at clairemfisher@hotmail.com.
URL:https://www.overvillage.co.uk/WP/event/advent-activity-morning-at-st-marys-church-and-church-hall/
LOCATION:St Mary’s Church Hall\, Church End\, Over\, CB24 5NH
END:VEVENT
BEGIN:VEVENT
DTSTART;TZID=UTC:20240331T093000
DTEND;TZID=UTC:20240331T110000
DTSTAMP:20260423T233103
CREATED:20240314T165221Z
LAST-MODIFIED:20240314T165221Z
UID:10001792-1711877400-1711882800@www.overvillage.co.uk
SUMMARY:Easter Sunday - St Mary's Church
DESCRIPTION:Join us for a service of Holy Communion at 0930 in the Church.
URL:https://www.overvillage.co.uk/WP/event/easter-sunday-st-marys-church/
LOCATION:St Marys Church\, Church End\, Over\, Cambridgeshire\, CB24 5NH\, United Kingdom
ATTACH;FMTTYPE=image/jpeg:https://www.overvillage.co.uk/WP/wp-content/uploads/2024/02/982e2bee-f1db-4599-bb85-f2acbdb1934e.jpg
END:VEVENT
BEGIN:VEVENT
DTSTART;TZID=UTC:20240329T140000
DTEND;TZID=UTC:20240329T150000
DTSTAMP:20260423T233103
CREATED:20240314T165041Z
LAST-MODIFIED:20240314T165041Z
UID:10001791-1711720800-1711724400@www.overvillage.co.uk
SUMMARY:Good Friday - St Mary's Church
DESCRIPTION:Join us for An Hour at the Cross from 1400 at the Church.
URL:https://www.overvillage.co.uk/WP/event/good-friday-st-marys-church/
LOCATION:St Marys Church\, Church End\, Over\, Cambridgeshire\, CB24 5NH\, United Kingdom
ATTACH;FMTTYPE=image/jpeg:https://www.overvillage.co.uk/WP/wp-content/uploads/2024/02/982e2bee-f1db-4599-bb85-f2acbdb1934e.jpg
END:VEVENT
BEGIN:VEVENT
DTSTART;TZID=UTC:20240328T193000
DTEND;TZID=UTC:20240328T193000
DTSTAMP:20260423T233103
CREATED:20240314T164806Z
LAST-MODIFIED:20240314T164806Z
UID:10001790-1711654200-1711654200@www.overvillage.co.uk
SUMMARY:Maundy Thursday - St Mary's Church
DESCRIPTION:A service of Holy Communion will take place at 1930 at the Church.
URL:https://www.overvillage.co.uk/WP/event/maundy-thursday-st-marys-church/
LOCATION:St Marys Church\, Church End\, Over\, Cambridgeshire\, CB24 5NH\, United Kingdom
ATTACH;FMTTYPE=image/jpeg:https://www.overvillage.co.uk/WP/wp-content/uploads/2024/02/982e2bee-f1db-4599-bb85-f2acbdb1934e.jpg
END:VEVENT
BEGIN:VEVENT
DTSTART;TZID=UTC:20240323T140000
DTEND;TZID=UTC:20240323T170000
DTSTAMP:20260423T233103
CREATED:20240314T165544Z
LAST-MODIFIED:20240314T165544Z
UID:10001789-1711202400-1711213200@www.overvillage.co.uk
SUMMARY:Easter Family Celebration - St Mary's Church
DESCRIPTION:This event will involve craft\, a short Easter reflection and an egg hunt. \nBooking is required for this event and can be done via the email admin@5folds.org.uk giving the number and names of children attending.
URL:https://www.overvillage.co.uk/WP/event/easter-family-celebration-st-marys-church/
LOCATION:St Mary’s Church Hall\, Church End\, Over\, CB24 5NH
ATTACH;FMTTYPE=image/jpeg:https://www.overvillage.co.uk/WP/wp-content/uploads/2024/02/982e2bee-f1db-4599-bb85-f2acbdb1934e.jpg
END:VEVENT
END:VCALENDAR