BEGIN:VCALENDAR
VERSION:2.0
PRODID:-//Over Village News - ECPv6.15.20//NONSGML v1.0//EN
CALSCALE:GREGORIAN
METHOD:PUBLISH
X-ORIGINAL-URL:https://www.overvillage.co.uk/WP
X-WR-CALDESC:Events for Over Village News
REFRESH-INTERVAL;VALUE=DURATION:PT1H
X-Robots-Tag:noindex
X-PUBLISHED-TTL:PT1H
BEGIN:VTIMEZONE
TZID:UTC
BEGIN:STANDARD
TZOFFSETFROM:+0000
TZOFFSETTO:+0000
TZNAME:UTC
DTSTART:20230101T000000
END:STANDARD
END:VTIMEZONE
BEGIN:VEVENT
DTSTART;TZID=UTC:20240615T110000
DTEND;TZID=UTC:20240615T130000
DTSTAMP:20260423T182828
CREATED:20240405T142451Z
LAST-MODIFIED:20240405T142451Z
UID:10001806-1718449200-1718456400@www.overvillage.co.uk
SUMMARY:RSPB Reedbed Ramble
DESCRIPTION:Join David Chandler one of our expert volunteers\, for a walk around the newest part of the reserve to look at all the wildlife that is starting to colonise. At this time of year\, the reserve is alive with all sorts of sights and sounds which our knowledgeable volunteer will be able to show you. \nDavid is a freelance writer and wildlife guide\, the author/co-author of 17 books including the RSPB Children’s Guide to Bird Watching\, Kingfishers\, and A Beginner’s Guide to Dragonflies & Damselflies\, and a regular contributor to Bird Watching magazine. He worked for the RSPB and BirdLife International for almost 20 years. \nTo book please go to: https://events.rspb.org.uk/ousefen
URL:https://www.overvillage.co.uk/WP/event/rspb-reedbed-ramble/
LOCATION:Ouse Fen Reserve\, Earith\, PE28 3PS\, United Kingdom
END:VEVENT
BEGIN:VEVENT
DTSTART;TZID=UTC:20240524T193000
DTEND;TZID=UTC:20240524T213000
DTSTAMP:20260423T182828
CREATED:20240405T142212Z
LAST-MODIFIED:20240405T142212Z
UID:10001805-1716579000-1716586200@www.overvillage.co.uk
SUMMARY:RSPB Booming Bitterns Guided Walk
DESCRIPTION:Join one of the Ouse Fen wardens\, for a walk around the newest reedbeds where Bitterns are making their homes. An evening dusk walk is one of the best times to experience booming Bitterns. There is also the potential to see sky dancing Marsh Harriers\, plus lots more. \n  \nYou will also see how Hanson and the RSPB are working together to create Ouse Fen nature reserve\, Britain’s biggest reedbed\, from a working sand and gravel quarry. \n  \nTo book please go to: https://events.rspb.org.uk/ousefen
URL:https://www.overvillage.co.uk/WP/event/rspb-booming-bitterns-guided-walk/
LOCATION:Ouse Fen Reserve\, Earith\, PE28 3PS\, United Kingdom
END:VEVENT
END:VCALENDAR