BEGIN:VCALENDAR
VERSION:2.0
PRODID:-//Over Village News - ECPv6.15.20//NONSGML v1.0//EN
CALSCALE:GREGORIAN
METHOD:PUBLISH
X-WR-CALNAME:Over Village News
X-ORIGINAL-URL:https://www.overvillage.co.uk/WP
X-WR-CALDESC:Events for Over Village News
REFRESH-INTERVAL;VALUE=DURATION:PT1H
X-Robots-Tag:noindex
X-PUBLISHED-TTL:PT1H
BEGIN:VTIMEZONE
TZID:UTC
BEGIN:STANDARD
TZOFFSETFROM:+0000
TZOFFSETTO:+0000
TZNAME:UTC
DTSTART:20220101T000000
END:STANDARD
END:VTIMEZONE
BEGIN:VEVENT
DTSTART;TZID=UTC:20240510T190000
DTEND;TZID=UTC:20240510T190000
DTSTAMP:20260420T133123
CREATED:20240417T125048Z
LAST-MODIFIED:20240417T125459Z
UID:10001811-1715367600-1715367600@www.overvillage.co.uk
SUMMARY:Race Night
DESCRIPTION:FOPS Race Night\n\n\n\nFriday 10th May\nDoors open at 7pm\nFirst race at 7:30pm\n£5 a ticket\n\nBring your friends & family along\nAdults only\nOver Primary School Hall\nRaffle & Barrow of Booze\n\n\nTickets and and hot food are now available to pre-order using the link here: https://friends-of-over-primary-school.sumupstore.com\n\n\n\nFor those who haven’t been to a race night. There will be 8 race films on our big screen\, each featuring 8 numbered runners. You can place your bets on the winning runner numbers 1-8 at our Tote betting desk.
URL:https://www.overvillage.co.uk/WP/event/race-night/
LOCATION:Over Primary School\, 22 Long Furlong\, Over\, Cambridge\, Over\, Cambridge\, CB24 5PG\, United Kingdom
END:VEVENT
BEGIN:VEVENT
DTSTART;TZID=UTC:20231202T130000
DTEND;TZID=UTC:20231202T160000
DTSTAMP:20260420T133123
CREATED:20231130T220149Z
LAST-MODIFIED:20231130T220149Z
UID:10000067-1701522000-1701532800@www.overvillage.co.uk
SUMMARY:Festive Fayre
DESCRIPTION:1pm-4pm at Over Primary School. \nMulled wine and tea/coffee. \nMince pies \nMake reindeer food and meet Father Christmas\nGames stalls and stocking fillers
URL:https://www.overvillage.co.uk/WP/event/festive-fayre/
LOCATION:Over Primary School\, 22 Long Furlong\, Over\, Cambridge\, Over\, Cambridge\, CB24 5PG\, United Kingdom
END:VEVENT
END:VCALENDAR