BEGIN:VCALENDAR
VERSION:2.0
PRODID:-//Over Village News - ECPv6.15.20//NONSGML v1.0//EN
CALSCALE:GREGORIAN
METHOD:PUBLISH
X-WR-CALNAME:Over Village News
X-ORIGINAL-URL:https://www.overvillage.co.uk/WP
X-WR-CALDESC:Events for Over Village News
REFRESH-INTERVAL;VALUE=DURATION:PT1H
X-Robots-Tag:noindex
X-PUBLISHED-TTL:PT1H
BEGIN:VTIMEZONE
TZID:UTC
BEGIN:STANDARD
TZOFFSETFROM:+0000
TZOFFSETTO:+0000
TZNAME:UTC
DTSTART:20230101T000000
END:STANDARD
END:VTIMEZONE
BEGIN:VEVENT
DTSTART;TZID=UTC:20241110T142000
DTEND;TZID=UTC:20241110T142000
DTSTAMP:20260423T232803
CREATED:20241105T142216Z
LAST-MODIFIED:20241105T142216Z
UID:10004941-1731248400-1731248400@www.overvillage.co.uk
SUMMARY:Remembrance Sunday November 10th
DESCRIPTION:
URL:https://www.overvillage.co.uk/WP/event/remembrance-sunday-november-10th/
LOCATION:Over War Memorial\, Glover Street\, Over
END:VEVENT
END:VCALENDAR